Felt | Verdi |
AlreadyApplied | True |
Aperture | 5.6 |
ApertureValue | 5.6 |
BitsPerSample | 8 |
BlueHue | 0 |
BlueSaturation | 0 |
Brightness | +50 |
CameraProfile | ACR 4.6 |
CFAPattern | [Red,Green][Green,Blue] |
ChromaticAberrationB | 0 |
ChromaticAberrationR | 0 |
CircleOfConfusion | 0.030 mm |
Clarity | +60 |
ColorComponents | 3 |
ColorNoiseReduction | 25 |
ColorTemperature | 4250 |
Contrast (2) | +25 |
Contrast | Normal |
ConvertToGrayscale | False |
CreateDate (1) | 2008:09:21 08:51:40.39+02:00 |
CreateDate | 2008:09:21 08:51:40 |
CreatorTool | Adobe Photoshop Lightroom |
CropAngle | 0.657439 |
CropBottom | 1 |
CropConstrainToWarp | 0 |
CropHeight | 499 |
CropLeft | 0.009588 |
CropRight | 0.98513 |
CropTop | 0 |
CropUnit | pixels |
CropWidth | 750 |
CustomRendered | Normal |
DateTimeDigitized | 2008:09:21 08:51:40.39+02:00 |
DateTimeOriginal (1) | 2008:09:21 08:51:40.39+02:00 |
DateTimeOriginal | 2008:09:21 08:51:40 |
Defringe | 0 |
DigitalZoomRatio | 1 |
DOF | inf (42.94 m - inf) |
ExifImageHeight | 750 |
ExifImageWidth | 499 |
Exposure | +0.29 |
ExposureCompensation | +1/3 |
ExposureMode | Auto |
ExposureProgram | Aperture-priority AE |
ExposureTime | 1/250 |
FillLight | 0 |
Flash | No Flash |
FlashFired | False |
FlashFunction | False |
FlashMode | Unknown |
FlashRedEyeMode | False |
FlashReturn | No return detection |
FNumber | 5.6 |
FocalLength | 85.0 mm |
FocalLength35efl | 85.0 mm (35 mm equivalent: 85.0 mm) |
FocalLengthIn35mmFormat | 85 mm |
FOV | 23.9 deg |
GainControl | High gain up |
GrainAmount | 0 |
GreenHue | 0 |
GreenSaturation | 0 |
HasCrop | True |
HasSettings | True |
HighlightRecovery | 0 |
HueAdjustmentAqua | 0 |
HueAdjustmentBlue | 0 |
HueAdjustmentGreen | 0 |
HueAdjustmentMagenta | 0 |
HueAdjustmentOrange | 0 |
HueAdjustmentPurple | 0 |
HueAdjustmentRed | 0 |
HueAdjustmentYellow | 0 |
HyperfocalDistance | 42.94 m |
ImageHeight | 750 |
ImageNumber | 992 |
ImageSize | 499x750 |
ImageWidth | 499 |
ISO | 6400 |
Keywords | istanbul |
Label | Red |
Lens | 85.0 mm f/1.4 |
LensInfo | 85mm f/1.4 |
LensManualDistortionAmount | 0 |
LensProfileEnable | 0 |
LensProfileSetup | LensDefaults |
LightSource | Unknown |
LightValue | 6.9 |
LuminanceAdjustmentAqua | 0 |
LuminanceAdjustmentBlue | 0 |
LuminanceAdjustmentGreen | 0 |
LuminanceAdjustmentMagenta | 0 |
LuminanceAdjustmentOrange | 0 |
LuminanceAdjustmentPurple | 0 |
LuminanceAdjustmentRed | 0 |
LuminanceAdjustmentYellow | 0 |
LuminanceSmoothing | 0 |
Make | NIKON CORPORATION |
MaxApertureValue | 1.4 |
Megapixels | 0.374 |
MeteringMode | Multi-segment |
Model | NIKON D700 |
ModifyDate (1) | 2010:08:09 22:39:37-07:00 |
ModifyDate | 2010:08:09 22:39:37 |
ParametricDarks | -64 |
ParametricHighlights | 0 |
ParametricHighlightSplit | 75 |
ParametricLights | +31 |
ParametricMidtoneSplit | 50 |
ParametricShadows | -100 |
ParametricShadowSplit | 25 |
PerspectiveHorizontal | 0 |
PerspectiveRotate | 0.0 |
PerspectiveScale | 100 |
PerspectiveVertical | 0 |
PostCropVignetteAmount | 0 |
ProcessVersion | 5.0 |
ProfileDescription | sRGB IEC61966-2.1 |
RedHue | 0 |
RedSaturation | 0 |
Saturation (2) | 0 |
Saturation | Normal |
SaturationAdjustmentAqua | 0 |
SaturationAdjustmentBlue | 0 |
SaturationAdjustmentGreen | 0 |
SaturationAdjustmentMagenta | 0 |
SaturationAdjustmentOrange | 0 |
SaturationAdjustmentPurple | 0 |
SaturationAdjustmentRed | 0 |
SaturationAdjustmentYellow | 0 |
ScaleFactor35efl | 1.0 |
SceneCaptureType | Standard |
SceneType | Directly photographed |
SensingMethod | One-chip color area |
SerialNumber | 2005283 |
Shadows | 5 |
ShadowTint | 0 |
SharpenDetail | 25 |
SharpenEdgeMasking | 0 |
SharpenRadius | +1.0 |
Sharpness (2) | 25 |
Sharpness | Normal |
ShutterSpeed | 1/250 |
ShutterSpeedValue | 1/250 |
Software | Ver.1.00 |
SplitToningBalance | 0 |
SplitToningHighlightHue | 0 |
SplitToningHighlightSaturation | 0 |
SplitToningShadowHue | 0 |
SplitToningShadowSaturation | 0 |
Subject | istanbul |
SubjectDistance | 4294967295 m |
SubjectDistanceRange | Unknown |
Tint | -16 |
ToneCurve | 0, 0, 32, 16, 64, 50, 128, 128, 192, 202, 255, 255 |
ToneCurveName | Strong Contrast |
Version | 6.1 |
Vibrance | +31 |
VignetteAmount | 0 |
WhiteBalance (2) | As Shot |
WhiteBalance | Auto |