Felt | Verdi |
AlreadyApplied | True |
Aperture | 18.0 |
ApertureValue | 18.0 |
BitsPerSample | 8 |
BlueHue | -27 |
BlueSaturation | -34 |
Brightness | +50 |
CameraProfile | Adobe Standard |
ChromaticAberrationB | 0 |
ChromaticAberrationR | 0 |
CircleOfConfusion | 0.031 mm |
Clarity | -3 |
ColorComponents | 3 |
ColorMode | RGB |
ColorNoiseReduction | 38 |
ColorSpace | Uncalibrated |
ColorTemperature | 5500 |
Contrast | +25 |
ConvertToGrayscale | False |
CreateDate (1) | 2010:09:06 20:13:42.99+02:00 |
CreateDate | 2010:09:06 20:13:42 |
CropAngle | 0 |
CropBottom | 0.824786 |
CropHeight | 3 |
CropLeft | 0.34188 |
CropRight | 0.995726 |
CropTop | 0.17094 |
CropUnit | Unknown (3) |
CropWidth | 2 |
CustomRendered | Normal |
DateTimeDigitized | 2010:09:06 20:13:42.99+02:00 |
DateTimeOriginal (1) | 2010:09:06 20:13:42.99+02:00 |
DateTimeOriginal | 2010:09:06 20:13:42 |
Defringe | 1 |
ExifImageHeight | 2848 |
ExifImageWidth | 4272 |
Exposure | 0.00 |
ExposureCompensation | 0 |
ExposureMode | Manual |
ExposureProgram | Manual |
ExposureTime | 30 |
FillLight | 0 |
Firmware | 2.0.7 |
Flash | Off, Did not fire |
FlashCompensation | 0 |
FlashFired | False |
FlashFunction | False |
FlashMode | Off |
FlashRedEyeMode | False |
FlashReturn | No return detection |
FNumber | 18.0 |
FocalLength | 102.0 mm |
FocalLength35efl | 102.0 mm (35 mm equivalent: 99.5 mm) |
Format | image/jpeg |
FOV | 20.5 deg |
GreenHue | -95 |
GreenSaturation | 0 |
HasCrop | True |
HasSettings | True |
HighlightRecovery | 0 |
HueAdjustmentAqua | +49 |
HueAdjustmentBlue | +5 |
HueAdjustmentGreen | +94 |
HueAdjustmentMagenta | -50 |
HueAdjustmentOrange | +70 |
HueAdjustmentPurple | +62 |
HueAdjustmentRed | -14 |
HueAdjustmentYellow | 0 |
HyperfocalDistance | 18.77 m |
ICCProfileName | Adobe RGB (1998) |
ImageHeight | 2848 |
ImageNumber | 0 |
ImageSize | 4272x2848 |
ImageWidth | 4272 |
ISO | 50 |
Lens | EF24-105mm f/4L IS USM |
LensInfo | 24-105mm f/? |
LightValue | 4.4 |
LuminanceAdjustmentAqua | 0 |
LuminanceAdjustmentBlue | 0 |
LuminanceAdjustmentGreen | 0 |
LuminanceAdjustmentMagenta | 0 |
LuminanceAdjustmentOrange | 0 |
LuminanceAdjustmentPurple | 0 |
LuminanceAdjustmentRed | 0 |
LuminanceAdjustmentYellow | 0 |
LuminanceSmoothing | 45 |
Make | Canon |
MaxApertureValue | 4.0 |
Megapixels | 12.2 |
MeteringMode | Center-weighted average |
Model | Canon EOS 5D Mark II |
ModifyDate (1) | 2010:09:08 10:06:23+02:00 |
ModifyDate | 2010:09:08 10:06:23 |
Orientation | Horizontal (normal) |
ParametricDarks | 0 |
ParametricHighlights | -58 |
ParametricHighlightSplit | 90 |
ParametricLights | -34 |
ParametricMidtoneSplit | 41 |
ParametricShadows | 0 |
ParametricShadowSplit | 10 |
PostCropVignetteAmount | -2 |
PostCropVignetteFeather | 50 |
PostCropVignetteMidpoint | 50 |
PostCropVignetteRoundness | 0 |
ProfileDescription | Adobe RGB (1998) |
Rating | 0 |
RawFileName | IMG_1545.CR2 |
RedHue | +100 |
RedSaturation | +27 |
Saturation | +26 |
SaturationAdjustmentAqua | 0 |
SaturationAdjustmentBlue | 0 |
SaturationAdjustmentGreen | 0 |
SaturationAdjustmentMagenta | 0 |
SaturationAdjustmentOrange | 0 |
SaturationAdjustmentPurple | 0 |
SaturationAdjustmentRed | 0 |
SaturationAdjustmentYellow | 0 |
ScaleFactor35efl | 1.0 |
SceneCaptureType | Standard |
SerialNumber | 2161312562 |
Shadows | 5 |
ShadowTint | 0 |
SharpenDetail | 87 |
SharpenEdgeMasking | 12 |
SharpenRadius | +1.7 |
Sharpness | 59 |
ShutterSpeed | 30 |
ShutterSpeedValue | 30 |
SidecarForExtension | CR2 |
Software | Adobe Photoshop CS4 Windows |
SplitToningBalance | 0 |
SplitToningHighlightHue | 0 |
SplitToningHighlightSaturation | 0 |
SplitToningShadowHue | 0 |
SplitToningShadowSaturation | 0 |
Tint | 0 |
ToneCurve | 0, 0, 32, 16, 64, 50, 128, 128, 192, 202, 255, 255 |
ToneCurveName | Strong Contrast |
URL_List | |
Version | 5.2 |
Vibrance | -5 |
VignetteAmount | +54 |
VignetteMidpoint | 53 |
WhiteBalance (2) | As Shot |
WhiteBalance | Manual |