Felt | Verdi |
AlreadyApplied | True |
Aperture | 5.6 |
ApertureValue | 5.6 |
BitsPerSample | 8 |
BlueHue | 0 |
BlueSaturation | 0 |
Brightness | +50 |
By-line | Ole T. J. Skogdal |
CameraProfile | Adobe Standard |
ChromaticAberrationB | 0 |
ChromaticAberrationR | 0 |
CircleOfConfusion | 0.019 mm |
Clarity | 0 |
ColorComponents | 3 |
ColorNoiseReduction | 100 |
ColorSpace | Uncalibrated |
ColorTemperature | 4950 |
Contrast | High |
ConvertToGrayscale | False |
Copyright | Foto: Ole T. J. Skogdal |
CopyrightFlag | True |
CopyrightNotice | Foto: Ole T. J. Skogdal |
CreateDate (1) | 2010:10:08 19:26:07.03+02:00 |
CreateDate | 2010:10:08 19:26:07 |
Creator | Ole T. J. Skogdal |
CreatorAddress | Ringvegen 450 |
CreatorCity | Trosmø |
CreatorCountry | Norway |
CreatorPostalCode | 9017 |
CreatorRegion | Troms |
CreatorTool | Adobe Photoshop Lightroom |
CreatorWorkEmail | oljosko@online.no |
CreatorWorkTelephone | +47 92265599 |
CustomRendered | Normal |
DateTimeDigitized | 2010:10:08 19:26:07.03+02:00 |
DateTimeOriginal (1) | 2010:10:08 19:26:07.03+02:00 |
DateTimeOriginal | 2010:10:08 19:26:07 |
Defringe | 0 |
ExifImageHeight | 4272 |
ExifImageWidth | 2848 |
Exposure | 0.00 |
ExposureCompensation | 0 |
ExposureMode | Manual |
ExposureProgram | Manual |
ExposureTime | 1/250 |
FillLight | 0 |
Firmware | 1.1.0 |
Flash | Off, Did not fire |
FlashCompensation | 0 |
FlashFired | False |
FlashFunction | False |
FlashMode | Off |
FlashRedEyeMode | False |
FlashReturn | No return detection |
FNumber | 5.6 |
FocalLength | 50.0 mm |
FocalLength35efl | 50.0 mm (35 mm equivalent: 80.8 mm) |
FOV | 25.1 deg |
GreenHue | 0 |
GreenSaturation | 0 |
HasCrop | False |
HasSettings | True |
HighlightRecovery | 0 |
HueAdjustmentAqua | 0 |
HueAdjustmentBlue | 0 |
HueAdjustmentGreen | 0 |
HueAdjustmentMagenta | 0 |
HueAdjustmentOrange | 0 |
HueAdjustmentPurple | 0 |
HueAdjustmentRed | 0 |
HueAdjustmentYellow | 0 |
HyperfocalDistance | 24.02 m |
ImageHeight (1) | 4272 |
ImageHeight | 4772 |
ImageNumber | 0 |
ImageSize | 3348x4772 |
ImageWidth (1) | 2848 |
ImageWidth | 3348 |
ISO | 800 |
Keywords | intermot, köln |
Lens | EF50mm f/1.4 USM |
LensID (1) | 198 |
LensID | Canon EF 50mm f/1.4 USM |
LensInfo | 50mm f/? |
LightValue | 9.9 |
LuminanceAdjustmentAqua | 0 |
LuminanceAdjustmentBlue | 0 |
LuminanceAdjustmentGreen | 0 |
LuminanceAdjustmentMagenta | 0 |
LuminanceAdjustmentOrange | 0 |
LuminanceAdjustmentPurple | 0 |
LuminanceAdjustmentRed | 0 |
LuminanceAdjustmentYellow | 0 |
LuminanceSmoothing | 100 |
Make | Canon |
Marked | True |
MaxApertureValue | 1.4 |
Megapixels | 16.0 |
MeteringMode | Spot |
Model | Canon EOS 450D |
ModifyDate (1) | 2010:10:13 21:03:43+02:00 |
ModifyDate | 2010:10:13 21:03:43 |
ParametricDarks | -24 |
ParametricHighlights | 0 |
ParametricHighlightSplit | 77 |
ParametricLights | +27 |
ParametricMidtoneSplit | 45 |
ParametricShadows | 0 |
ParametricShadowSplit | 24 |
PostCropVignetteAmount | 0 |
ProfileDescription | Adobe RGB (1998) |
RedHue | 0 |
RedSaturation | 0 |
Rights | Foto: Ole T. J. Skogdal |
Saturation | Normal |
SaturationAdjustmentAqua | 0 |
SaturationAdjustmentBlue | 0 |
SaturationAdjustmentGreen | 0 |
SaturationAdjustmentMagenta | 0 |
SaturationAdjustmentOrange | 0 |
SaturationAdjustmentPurple | 0 |
SaturationAdjustmentRed | 0 |
SaturationAdjustmentYellow | 0 |
ScaleFactor35efl | 1.6 |
SceneCaptureType | Standard |
SerialNumber | 1880557473 |
Shadows | 5 |
ShadowTint | 0 |
SharpenDetail | 50 |
SharpenEdgeMasking | 30 |
SharpenRadius | +0.5 |
Sharpness | Hard |
ShutterSpeed | 1/250 |
ShutterSpeedValue | 1/250 |
SplitToningBalance | 0 |
SplitToningHighlightHue | 0 |
SplitToningHighlightSaturation | 0 |
SplitToningShadowHue | 0 |
SplitToningShadowSaturation | 0 |
Subject | intermot, köln |
Tint | +4 |
ToneCurve | 0, 0, 32, 22, 64, 56, 128, 128, 192, 196, 255, 255 |
ToneCurveName | Medium Contrast |
URL | http://www.lovdata.no/all/nl-19610512-002.html |
UsageTerms | Etter avtale |
Version | 5.7 |
Vibrance | 0 |
VignetteAmount | 0 |
WebStatement | http://www.lovdata.no/all/nl-19610512-002.html |
WhiteBalance | Manual |