Felt | Verdi |
AlreadyApplied | True |
Aperture | 3.5 |
ApertureValue | 3.5 |
BitsPerSample | 8 |
BlueHue | 0 |
BlueSaturation | 0 |
Brightness | +50 |
CameraProfile | Adobe Standard |
CFAPattern | [Green,Red][Blue,Green] |
ChromaticAberrationB | 0 |
ChromaticAberrationR | 0 |
CircleOfConfusion | 0.020 mm |
Clarity | +50 |
ColorComponents | 3 |
ColorNoiseReduction | 39 |
ColorTemperature | 5500 |
Contrast (2) | +25 |
Contrast | Low |
ConvertToGrayscale | False |
Copyright | Espen Seierstad |
CopyrightFlag | True |
CopyrightNotice | Espen Seierstad |
CreateDate (1) | 2009:07:30 04:52:01.32+02:00 |
CreateDate | 2009:07:30 04:52:01 |
CreatorTool | Adobe Photoshop Lightroom |
CropAngle | 0 |
CropBottom | 1 |
CropHeight | 600 |
CropLeft | 0.120861 |
CropRight | 0.566769 |
CropTop | 0.00495 |
CropUnit | pixels |
CropWidth | 402 |
CustomRendered | Normal |
DateTimeDigitized | 2009:07:30 04:52:01.32+02:00 |
DateTimeOriginal (1) | 2009:07:30 04:52:01.32+02:00 |
DateTimeOriginal | 2009:07:30 04:52:01 |
Defringe | 0 |
DigitalZoomRatio | 1 |
DOF | 6.94 m (85.77 - 92.70 m) |
ExifImageHeight | 600 |
ExifImageWidth | 402 |
Exposure | 0.00 |
ExposureCompensation | 0 |
ExposureMode | Auto |
ExposureProgram | Program AE |
ExposureTime | 1/200 |
FillLight | 0 |
Flash | No Flash |
FlashFired | False |
FlashFunction | False |
FlashMode | Unknown |
FlashRedEyeMode | False |
FlashReturn | No return detection |
FNumber | 3.5 |
FocalLength | 400.0 mm |
FocalLength35efl | 400.0 mm (35 mm equivalent: 600.0 mm) |
FocalLengthIn35mmFormat | 600 mm |
FOV | 3.4 deg |
GainControl | None |
GradientBasedCorrActive | true |
GradientBasedCorrAmount | 1.000000 |
GradientBasedCorrBrightness | 0.000000 |
GradientBasedCorrClarity | 0.000000 |
GradientBasedCorrContrast (1) | 0.675000 |
GradientBasedCorrContrast (2) | 0.650000 |
GradientBasedCorrContrast | 0.000000 |
GradientBasedCorrExposure (1) | 0.000000 |
GradientBasedCorrExposure (2) | -0.025000 |
GradientBasedCorrExposure | -0.050000 |
GradientBasedCorrHue | 116.000000 |
GradientBasedCorrMaskFullX (1) | 0.305587 |
GradientBasedCorrMaskFullX (2) | 0.360223 |
GradientBasedCorrMaskFullX | 0.373735 |
GradientBasedCorrMaskFullY (1) | -0.003693 |
GradientBasedCorrMaskFullY (2) | -0.008029 |
GradientBasedCorrMaskFullY | 1.007210 |
GradientBasedCorrMaskValue | 1.000000 |
GradientBasedCorrMaskWhat | Mask/Gradient |
GradientBasedCorrMaskZeroX (1) | 0.327028 |
GradientBasedCorrMaskZeroX (2) | 0.354432 |
GradientBasedCorrMaskZeroX | 0.370840 |
GradientBasedCorrMaskZeroY (1) | 1.229280 |
GradientBasedCorrMaskZeroY (2) | 0.782243 |
GradientBasedCorrMaskZeroY | 0.470749 |
GradientBasedCorrSaturation | 0.000000 |
GradientBasedCorrSharpness | 0.000000 |
GradientBasedCorrWhat | Correction |
GreenHue | 0 |
GreenSaturation | 0 |
HasCrop | True |
HasSettings | True |
HighlightRecovery | 0 |
HueAdjustmentAqua | 0 |
HueAdjustmentBlue | 0 |
HueAdjustmentGreen | 0 |
HueAdjustmentMagenta | 0 |
HueAdjustmentOrange | 0 |
HueAdjustmentPurple | 0 |
HueAdjustmentRed | 0 |
HueAdjustmentYellow | 0 |
HyperfocalDistance | 2282.20 m |
ImageHeight | 600 |
ImageNumber | 15397 |
ImageSize | 402x600 |
ImageWidth | 402 |
ISO | 100 |
Keywords | Animals, Aves, Bird, Birds, Bog, Coniferous forest, Corvidae, Corvids, Corvus, Corvus corax, Crows, Europe, Finland, Fly, Fog, Foggy, Forest, Kuhmo, Landscape, Marsh, Morning, Nature, Nordic, Passeriformes, Pine, Pine forest, Raven, Sparrow |
Label | Green |
Lens | 400.0 mm f/2.8 |
LensInfo | 400mm f/2.8 |
LightSource | Unknown |
LightValue | 11.3 |
LuminanceAdjustmentAqua | 0 |
LuminanceAdjustmentBlue | 0 |
LuminanceAdjustmentGreen | +5 |
LuminanceAdjustmentMagenta | 0 |
LuminanceAdjustmentOrange | 0 |
LuminanceAdjustmentPurple | -7 |
LuminanceAdjustmentRed | -7 |
LuminanceAdjustmentYellow | +2 |
LuminanceSmoothing | 69 |
Make | NIKON CORPORATION |
Marked | True |
MaxApertureValue | 2.8 |
Megapixels | 0.241 |
MeteringMode | Multi-segment |
Model | NIKON D200 |
ModifyDate (1) | 2010:03:25 23:43:00+01:00 |
ModifyDate | 2010:03:25 23:43:00 |
PaintCorrectionActive | true |
PaintCorrectionAmount | 1.000000 |
PaintCorrectionBrightness | 0.000000 |
PaintCorrectionClarity | 0.350000 |
PaintCorrectionContrast | 0.000000 |
PaintCorrectionExposure | 0.000000 |
PaintCorrectionHue | 116.000000 |
PaintCorrectionMaskCenterWeight | 0.000000 |
PaintCorrectionMaskFlow | 1.000000 |
PaintCorrectionMaskRadius | 0.070464 |
PaintCorrectionMaskValue | 1.000000 |
PaintCorrectionMaskWhat | Mask/Paint |
PaintCorrectionSaturation | 0.000000 |
PaintCorrectionSharpness | 0.700000 |
PaintCorrectionWhat | Correction |
ParametricDarks | -19 |
ParametricHighlights | +45 |
ParametricHighlightSplit | 75 |
ParametricLights | +45 |
ParametricMidtoneSplit | 50 |
ParametricShadows | -67 |
ParametricShadowSplit | 25 |
PostCropVignetteAmount | 0 |
ProfileDescription | sRGB IEC61966-2.1 |
Rating | 5 |
RedHue | 0 |
RedSaturation | 0 |
Rights | Espen Seierstad |
Saturation (2) | 0 |
Saturation | Normal |
SaturationAdjustmentAqua | 0 |
SaturationAdjustmentBlue | 0 |
SaturationAdjustmentGreen | -33 |
SaturationAdjustmentMagenta | -64 |
SaturationAdjustmentOrange | 0 |
SaturationAdjustmentPurple | -67 |
SaturationAdjustmentRed | -90 |
SaturationAdjustmentYellow | -5 |
ScaleFactor35efl | 1.5 |
SceneCaptureType | Standard |
SceneType | Directly photographed |
SensingMethod | One-chip color area |
Shadows | 10 |
ShadowTint | 0 |
SharpenDetail | 57 |
SharpenEdgeMasking | 0 |
SharpenRadius | +1.0 |
Sharpness (2) | 109 |
Sharpness | Hard |
ShutterSpeed | 1/200 |
ShutterSpeedValue | 1/200 |
Software | Ver.2.00 |
SplitToningBalance | 0 |
SplitToningHighlightHue | 0 |
SplitToningHighlightSaturation | 0 |
SplitToningShadowHue | 0 |
SplitToningShadowSaturation | 0 |
Subject | Animals, Aves, Bird, Birds, Bog, Coniferous forest, Corvidae, Corvids, Corvus, Corvus corax, Crows, Europe, Finland, Fly, Fog, Foggy, Forest, Kuhmo, Landscape, Marsh, Morning, Nature, Nordic, Passeriformes, Pine, Pine forest, Raven, Sparrow |
SubjectDistance | 89.1 m |
SubjectDistanceRange | Unknown |
Tint | +10 |
ToneCurve | 0, 0, 32, 22, 64, 56, 128, 128, 192, 196, 255, 255 |
ToneCurveName | Medium Contrast |
UserComment | Espen Seierstad |
Version | 5.6 |
Vibrance | +36 |
VignetteAmount | 0 |
WhiteBalance (2) | Daylight |
WhiteBalance | Auto |