Felt | Verdi |
AlreadyApplied | True |
Aperture | 4.0 |
ApertureValue | 4.0 |
Artist | Magne Thidemansen |
BitsPerSample | 8 |
BlueHue | +38 |
BlueSaturation | 0 |
Brightness | +50 |
BrightnessValue | 8.16 |
By-line | Magne Thidemansen |
CameraProfile | Adobe Standard |
ChromaticAberrationB | 0 |
ChromaticAberrationR | 0 |
CircleOfConfusion | 0.020 mm |
Clarity | 0 |
ColorComponents | 3 |
ColorMode | RGB |
ColorNoiseReduction | 25 |
ColorNoiseReductionDetail | 50 |
ColorSpace | sRGB |
ColorTemperature | 6483 |
Contrast (2) | +25 |
Contrast | Normal |
ConvertToGrayscale | False |
Copyright | Magne Thidemansen |
CopyrightFlag | False |
CopyrightNotice | Magne Thidemansen |
CreateDate (1) | 2010:11:06 20:05:51+01:00 |
CreateDate | 2010:11:06 15:19:32 |
Creator | Magne Thidemansen |
CreatorAddress | Brubakken 40 |
CreatorCity | Hvittingfoss |
CreatorPostalCode | 3647 |
CreatorTool | Adobe Photoshop CS3 Windows |
CropAngle | 0.932902 |
CropBottom | 0.993441 |
CropConstrainToWarp | 0 |
CropHeight | 4156 |
CropLeft | 0.023756 |
CropRight | 0.976244 |
CropTop | 0.006559 |
CropUnit | pixels |
CropWidth | 2780 |
CustomRendered | Normal |
DateCreated | 2010:11:06 |
DateTimeDigitized | 2010:11:06 15:19:32+01:00 |
DateTimeOriginal (1) | 2010:11:06 15:19:32+01:00 |
DateTimeOriginal | 2010:11:06 15:19:32 |
Defringe | 0 |
DerivedFrom | |
DigitalSourceType | nil |
ExifImageHeight | 543 |
ExifImageWidth | 1024 |
Exposure | +0.32 |
ExposureCompensation | +1/2 |
ExposureMode | Auto |
ExposureProgram | Aperture-priority AE |
ExposureTime | 1/350 |
FillLight | 24 |
Flash | No Flash |
FlashFired | False |
FlashFunction | False |
FlashMode | Unknown |
FlashRedEyeMode | False |
FlashReturn | No return detection |
FNumber | 4.0 |
FocalLength | 35.0 mm |
FocalLength35efl | 35.0 mm (35 mm equivalent: 52.0 mm) |
FocalLengthIn35mmFormat | 52 mm |
Format | image/jpeg |
FOV | 38.2 deg |
GrainAmount | 0 |
GreenHue | +15 |
GreenSaturation | 0 |
HasCrop | True |
HasSettings | True |
Headline | Stavern |
HighlightRecovery | 0 |
HueAdjustmentAqua | 0 |
HueAdjustmentBlue | 0 |
HueAdjustmentGreen | 0 |
HueAdjustmentMagenta | 0 |
HueAdjustmentOrange | 0 |
HueAdjustmentPurple | 0 |
HueAdjustmentRed | 0 |
HueAdjustmentYellow | 0 |
HyperfocalDistance | 15.14 m |
ICCProfileName | sRGB IEC61966-2.1 |
ImageHeight (1) | 2780 |
ImageHeight | 543 |
ImageSize | 1024x543 |
ImageWidth (1) | 4156 |
ImageWidth | 1024 |
ISO | 100 |
Keywords | høst, høstvær, kysten, stavern |
LensManualDistortionAmount | 0 |
LensProfileEnable | 0 |
LensProfileSetup | LensDefaults |
LightSource | Unknown |
LightValue | 12.5 |
LuminanceAdjustmentAqua | 0 |
LuminanceAdjustmentBlue | 0 |
LuminanceAdjustmentGreen | 0 |
LuminanceAdjustmentMagenta | 0 |
LuminanceAdjustmentOrange | 0 |
LuminanceAdjustmentPurple | 0 |
LuminanceAdjustmentRed | 0 |
LuminanceAdjustmentYellow | 0 |
LuminanceNoiseReductionContrast | 0 |
LuminanceNoiseReductionDetail | 50 |
LuminanceSmoothing | 56 |
Make | FUJIFILM |
Megapixels | 0.556 |
MeteringMode | Multi-segment |
Model | FinePixS2Pro |
ModifyDate (1) | 2010:11:06 20:05:51+01:00 |
ModifyDate | 2010:11:06 20:05:51 |
Orientation | Horizontal (normal) |
ParametricDarks | 0 |
ParametricHighlights | 0 |
ParametricHighlightSplit | 75 |
ParametricLights | 0 |
ParametricMidtoneSplit | 50 |
ParametricShadows | 0 |
ParametricShadowSplit | 25 |
PerspectiveHorizontal | 0 |
PerspectiveRotate | 0.0 |
PerspectiveScale | 100 |
PerspectiveVertical | 0 |
PostCropVignetteAmount | 0 |
ProcessVersion | 5.7 |
ProfileDescription | sRGB IEC61966-2.1 |
RedHue | +10 |
RedSaturation | +17 |
Rights | Magne Thidemansen |
Saturation (2) | 0 |
Saturation | Normal |
SaturationAdjustmentAqua | 0 |
SaturationAdjustmentBlue | 0 |
SaturationAdjustmentGreen | 0 |
SaturationAdjustmentMagenta | 0 |
SaturationAdjustmentOrange | 0 |
SaturationAdjustmentPurple | 0 |
SaturationAdjustmentRed | 0 |
SaturationAdjustmentYellow | 0 |
ScaleFactor35efl | 1.5 |
SceneCaptureType | Standard |
SceneType | Directly photographed |
SensingMethod | One-chip color area |
SensitivityType | Unknown |
Shadows | 5 |
ShadowTint | -1 |
SharpenDetail | 43 |
SharpenEdgeMasking | 0 |
SharpenRadius | +1.5 |
Sharpness (2) | 93 |
Sharpness | Normal |
ShutterSpeed | 1/350 |
ShutterSpeedValue | 1/350 |
Software | Adobe Photoshop CS3 Windows |
SplitToningBalance | 0 |
SplitToningHighlightHue | 0 |
SplitToningHighlightSaturation | 0 |
SplitToningShadowHue | 0 |
SplitToningShadowSaturation | 0 |
Subject | høst, høstvær, kysten, stavern |
SubjectDistanceRange | Unknown |
Tint | +3 |
ToneCurve | 0, 0, 32, 22, 64, 56, 128, 128, 192, 196, 255, 255 |
ToneCurveName | Medium Contrast |
URL_List | |
Version | 6.2 |
Vibrance | 0 |
VignetteAmount | 0 |
WhiteBalance (2) | Custom |
WhiteBalance | Auto |