Felt | Verdi |
AlreadyApplied | True |
Aperture | 5.6 |
ApertureValue | 5.6 |
ApproximateFocusDistance | 3.2 |
Artist | Photographer: Morten Lindberg |
BitsPerSample | 8 |
BlueHue | 0 |
BlueSaturation | 0 |
Brightness | +50 |
By-line | Morten Lindberg |
CameraProfile | Adobe Standard |
ChromaticAberrationB | 0 |
ChromaticAberrationR | 0 |
CircleOfConfusion | 0.031 mm |
Clarity | +31 |
ColorComponents | 3 |
ColorNoiseReduction | 25 |
ColorNoiseReductionDetail | 50 |
ColorTemperature | 4069 |
Contrast | +25 |
ConvertToGrayscale | False |
Copyright | Morten Lindberg |
CopyrightFlag | True |
CopyrightNotice | Morten Lindberg |
CreateDate (1) | 2010:10:28 13:46:57.86+02:00 |
CreateDate | 2010:10:28 13:46:57 |
Creator | Morten Lindberg |
CreatorAddress | Box 56 Bogerud |
CreatorCity | Oslo |
CreatorCountry | Norway |
CreatorPostalCode | 0621 |
CreatorTool | Adobe Photoshop Lightroom |
CreatorWorkEmail | morten@lindberg.no |
CreatorWorkTelephone | +47 91538 155 |
CreatorWorkURL | photo.lindberg.no |
Credit | Photo: Morten Lindberg |
CustomRendered | Normal |
DateTimeDigitized | 2010:10:28 13:46:57.86+02:00 |
DateTimeOriginal (1) | 2010:10:28 13:46:57.86+02:00 |
DateTimeOriginal | 2010:10:28 13:46:57 |
Defringe | 0 |
DigitalSourceType | http://cv.iptc.org/newscodes/digitalsourcetype/digitalCapture |
DOF | 0.28 m (3.07 - 3.35 m) |
ExifImageHeight | 1024 |
ExifImageWidth | 1536 |
Exposure | -0.78 |
ExposureCompensation | 0 |
ExposureMode | Manual |
ExposureProgram | Manual |
ExposureTime | 1/160 |
FillLight | 0 |
Firmware | 2.0.8 |
Flash | On, Fired |
FlashCompensation | -1 |
FlashFired | True |
FlashFunction | False |
FlashMode | On |
FlashRedEyeMode | False |
FlashReturn | No return detection |
FNumber | 5.6 |
FocalLength | 110.0 mm |
FocalLength35efl | 110.0 mm (35 mm equivalent: 107.4 mm) |
FOV | 19.0 deg |
GrainAmount | 0 |
GreenHue | 0 |
GreenSaturation | 0 |
HasCrop | False |
HasSettings | True |
HighlightRecovery | 0 |
HueAdjustmentAqua | 0 |
HueAdjustmentBlue | 0 |
HueAdjustmentGreen | 0 |
HueAdjustmentMagenta | 0 |
HueAdjustmentOrange | 0 |
HueAdjustmentPurple | 0 |
HueAdjustmentRed | 0 |
HueAdjustmentYellow | 0 |
HyperfocalDistance | 70.18 m |
ImageHeight | 1024 |
ImageNumber | 0 |
ImageSize | 1536x1024 |
ImageWidth | 1536 |
ISO | 200 |
Keywords | Annar Fiollesø, Annar Follesø, Norway, Oslo, fiolin, violin |
Lens | EF70-200mm f/2.8L IS II USM |
LensID (1) | 251 |
LensID | Canon EF 70-200mm f/2.8L IS II USM |
LensInfo | 70-200mm f/? |
LensManualDistortionAmount | 0 |
LensModel | EF70-200mm f/2.8L IS II USM |
LensProfileChromaticAberrationScale | 100 |
LensProfileDistortionScale | 100 |
LensProfileEnable | 1 |
LensProfileFilename | Canon EOS 5D Mark II (Canon EF 70-200mm f2.8L IS II USM) - RAW.lcp |
LensProfileName | Adobe (Canon EF 70-200mm f/2.8 L IS II USM) |
LensProfileSetup | LensDefaults |
LensProfileVignettingScale | 100 |
LightValue | 11.3 |
LuminanceAdjustmentAqua | 0 |
LuminanceAdjustmentBlue | 0 |
LuminanceAdjustmentGreen | 0 |
LuminanceAdjustmentMagenta | 0 |
LuminanceAdjustmentOrange | 0 |
LuminanceAdjustmentPurple | 0 |
LuminanceAdjustmentRed | 0 |
LuminanceAdjustmentYellow | 0 |
LuminanceNoiseReductionContrast | 0 |
LuminanceNoiseReductionDetail | 50 |
LuminanceSmoothing | 10 |
Make | Canon |
Marked | True |
MaxApertureValue | 2.8 |
Megapixels | 1.6 |
MeteringMode | Multi-segment |
Model | Canon EOS 5D Mark II |
ModifyDate (1) | 2010:11:22 20:02:43+01:00 |
ModifyDate | 2010:11:22 20:02:43 |
ObjectName | Annar Follesø |
OwnerName | Morten Lindberg |
PaintCorrectionActive | true |
PaintCorrectionAmount | 1.000000 |
PaintCorrectionBrightness | -0.366000 |
PaintCorrectionClarity | -0.317000 |
PaintCorrectionContrast | 0.000000 |
PaintCorrectionExposure | -0.537000 |
PaintCorrectionHue | 240.000000 |
PaintCorrectionMaskCenterWeight | 0.000000 |
PaintCorrectionMaskFlow | 1.000000 |
PaintCorrectionMaskRadius (1) | 0.030503 |
PaintCorrectionMaskRadius (11) | 0.004621 |
PaintCorrectionMaskRadius (12) | 0.004625 |
PaintCorrectionMaskRadius (13) | 0.006549 |
PaintCorrectionMaskRadius (14) | 0.006547 |
PaintCorrectionMaskRadius (15) | 0.006546 |
PaintCorrectionMaskRadius (17) | 0.006545 |
PaintCorrectionMaskRadius (18) | 0.006556 |
PaintCorrectionMaskRadius (2) | 0.030564 |
PaintCorrectionMaskRadius (20) | 0.006543 |
PaintCorrectionMaskRadius (21) | 0.006538 |
PaintCorrectionMaskRadius (22) | 0.020004 |
PaintCorrectionMaskRadius (23) | 0.020023 |
PaintCorrectionMaskRadius (24) | 0.020074 |
PaintCorrectionMaskRadius (25) | 0.020107 |
PaintCorrectionMaskRadius (3) | 0.030578 |
PaintCorrectionMaskRadius (4) | 0.030511 |
PaintCorrectionMaskRadius (5) | 0.030429 |
PaintCorrectionMaskRadius (6) | 0.030438 |
PaintCorrectionMaskRadius (7) | 0.030437 |
PaintCorrectionMaskRadius (8) | 0.030397 |
PaintCorrectionMaskRadius | 0.020097 |
PaintCorrectionMaskValue (12) | 0.000000 |
PaintCorrectionMaskValue | 1.000000 |
PaintCorrectionMaskWhat | Mask/Paint |
PaintCorrectionSaturation | 0.000000 |
PaintCorrectionSharpness | -0.317000 |
PaintCorrectionWhat | Correction |
ParametricDarks | 0 |
ParametricHighlights | 0 |
ParametricHighlightSplit | 75 |
ParametricLights | 0 |
ParametricMidtoneSplit | 50 |
ParametricShadows | 0 |
ParametricShadowSplit | 25 |
PersonInImage | Annar Follesø |
PerspectiveHorizontal | 0 |
PerspectiveRotate | 0.0 |
PerspectiveScale | 100 |
PerspectiveVertical | 0 |
PostCropVignetteAmount | 0 |
ProcessVersion | 5.7 |
ProfileDescription | sRGB IEC61966-2.1 |
RedHue | 0 |
RedSaturation | 0 |
Rights | Morten Lindberg |
Saturation | 0 |
SaturationAdjustmentAqua | 0 |
SaturationAdjustmentBlue | 0 |
SaturationAdjustmentGreen | 0 |
SaturationAdjustmentMagenta | 0 |
SaturationAdjustmentOrange | 0 |
SaturationAdjustmentPurple | 0 |
SaturationAdjustmentRed | 0 |
SaturationAdjustmentYellow | 0 |
ScaleFactor35efl | 1.0 |
SceneCaptureType | Standard |
SensitivityType | Unknown |
SerialNumber | 1721002101 |
Shadows | 8 |
ShadowTint | 0 |
SharpenDetail | 25 |
SharpenEdgeMasking | 0 |
SharpenRadius | +1.0 |
Sharpness | 25 |
ShutterSpeed | 1/160 |
ShutterSpeedValue | 1/160 |
SplitToningBalance | 0 |
SplitToningHighlightHue | 0 |
SplitToningHighlightSaturation | 0 |
SplitToningShadowHue | 0 |
SplitToningShadowSaturation | 0 |
Subject | Annar Fiollesø, Annar Follesø, Norway, Oslo, fiolin, violin |
SubjectDistance | 3.2 m |
Tint | +2 |
Title | Annar Follesø |
ToneCurve | 0, 0, 32, 22, 64, 56, 128, 128, 192, 196, 255, 255 |
ToneCurveName | Medium Contrast |
URL | photo.lindberg.no |
Version | 6.2 |
Vibrance | +10 |
VignetteAmount | 0 |
WebStatement | photo.lindberg.no |
WhiteBalance (2) | Custom |
WhiteBalance | Auto |