Felt | Verdi |
AlreadyApplied | True |
Aperture | 8.0 |
ApertureValue | 8.0 |
Artist | unknown |
BitsPerSample (1) | 16, 16, 16 |
BitsPerSample (2) | 16 16 16 |
BitsPerSample | 8 |
BlueHue | 0 |
BlueSaturation | 0 |
Brightness | 0 |
By-line | unknown |
CameraProfile | Embedded |
ChromaticAberrationB | 0 |
ChromaticAberrationR | 0 |
CircleOfConfusion | 0.019 mm |
Clarity | +62 |
ColorComponents | 3 |
ColorMode | RGB |
ColorNoiseReduction | 0 |
ColorSpace | Uncalibrated |
Contrast | 0 |
ConvertToGrayscale | False |
CopyrightFlag | False |
CreateDate (1) | 2010:02:04 19:58:54+01:00 |
CreateDate | 2007:09:26 02:15:51 |
Creator | unknown |
CreatorTool | Adobe Photoshop CS4 (11.0x20071101 [20071101.m.190 2007/11/01:02:00:00 cutoff; m branch]) Windows |
CropAngle | -0.823645 |
CropBottom | 0.978891 |
CropHeight | 2537 |
CropLeft | 0.005864 |
CropRight | 0.994136 |
CropTop | 0.021109 |
CropUnit | pixels |
CropWidth | 3806 |
CustomRendered | Normal |
DateTimeDigitized | 2007:09:26 02:15:51+02:00 |
DateTimeOriginal (1) | 2007:09:26 02:15:51+02:00 |
DateTimeOriginal | 2007:09:26 02:15:51 |
Defringe | 0 |
DOF | inf (2.69 m - inf) |
ExifImageHeight | 682 |
ExifImageWidth | 1024 |
Exposure | 0.00 |
ExposureCompensation | 0 |
ExposureMode | Auto |
ExposureProgram | Aperture-priority AE |
ExposureTime | 1/30 |
FillLight | 29 |
Firmware | 1.0.5 |
Flash | Off, Did not fire |
FlashCompensation | 0 |
FlashFired | False |
FlashFunction | False |
FlashMode | Off |
FlashRedEyeMode | False |
FlashReturn | No return detection |
FNumber | 8.0 |
FocalLength | 20.0 mm |
FocalLength35efl | 20.0 mm (35 mm equivalent: 32.4 mm) |
Format | image/jpeg |
FOV | 58.2 deg |
GreenHue | 0 |
GreenSaturation | 0 |
HasCrop | True |
HasSettings | True |
HighlightRecovery | 12 |
HueAdjustmentAqua | 0 |
HueAdjustmentBlue | 0 |
HueAdjustmentGreen | 0 |
HueAdjustmentMagenta | 0 |
HueAdjustmentOrange | 0 |
HueAdjustmentPurple | 0 |
HueAdjustmentRed | 0 |
HueAdjustmentYellow | 0 |
HyperfocalDistance | 2.69 m |
ICCProfileName | ProPhoto RGB |
ImageHeight (2) | 2537 |
ImageHeight | 682 |
ImageNumber | 64 |
ImageSize | 1024x682 |
ImageWidth (2) | 3806 |
ImageWidth | 1024 |
IncrementalTemperature | +5 |
IncrementalTint | +5 |
ISO | 100 |
Lens | EF20-35mm f/3.5-4.5 USM |
LensID (1) | 160 |
LensID | Canon EF 20-35mm f/3.5-4.5 USM |
LensInfo | 20-35mm f/? |
LightValue | 10.9 |
LuminanceAdjustmentAqua | 0 |
LuminanceAdjustmentBlue | 0 |
LuminanceAdjustmentGreen | 0 |
LuminanceAdjustmentMagenta | 0 |
LuminanceAdjustmentOrange | 0 |
LuminanceAdjustmentPurple | 0 |
LuminanceAdjustmentRed | 0 |
LuminanceAdjustmentYellow | 0 |
LuminanceSmoothing | 0 |
Make | Canon |
MaxApertureValue | 3.5 |
Megapixels | 0.698 |
MeteringMode | Multi-segment |
Model | Canon EOS 400D DIGITAL |
ModifyDate (1) | 2010:02:04 19:58:54+01:00 |
ModifyDate | 2010:02:04 19:58:54 |
Orientation | Horizontal (normal) |
OwnerName | unknown |
ParametricDarks | +74 |
ParametricHighlights | +60 |
ParametricHighlightSplit | 75 |
ParametricLights | -69 |
ParametricMidtoneSplit | 50 |
ParametricShadows | +69 |
ParametricShadowSplit | 25 |
PhotometricInterpretation | RGB |
PlanarConfiguration | Chunky |
PostCropVignetteAmount | 0 |
ProfileDescription | ProPhoto RGB |
RedHue | 0 |
RedSaturation | 0 |
SamplesPerPixel | 3 |
Saturation | +21 |
SaturationAdjustmentAqua | 0 |
SaturationAdjustmentBlue | 0 |
SaturationAdjustmentGreen | 0 |
SaturationAdjustmentMagenta | 0 |
SaturationAdjustmentOrange | 0 |
SaturationAdjustmentPurple | 0 |
SaturationAdjustmentRed | 0 |
SaturationAdjustmentYellow | 0 |
ScaleFactor35efl | 1.6 |
SceneCaptureType | Standard |
SerialNumber | 630342170 |
Shadows | 2 |
ShadowTint | 0 |
SharpenDetail | 25 |
SharpenEdgeMasking | 0 |
SharpenRadius | +1.0 |
Sharpness | 0 |
ShutterSpeed | 1/30 |
ShutterSpeedValue | 1/30 |
Software | Adobe Photoshop CS4 (11.0x20071101 [20071101.m.190 2007/11/01:02:00:00 cutoff; m branch]) Windows |
SplitToningBalance | 0 |
SplitToningHighlightHue | 0 |
SplitToningHighlightSaturation | 0 |
SplitToningShadowHue | 0 |
SplitToningShadowSaturation | 0 |
SubjectDistance | 4294967295 m |
ToneCurve | 0, 0, 255, 255 |
ToneCurveName | Linear |
URL_List | |
Version | 5.6 |
Vibrance | +36 |
VignetteAmount | 0 |
WhiteBalance (2) | Custom |
WhiteBalance | Auto |