Felt | Verdi |
AlreadyApplied | True |
Aperture | 8.0 |
ApertureValue | 8.0 |
Artist | unknown |
BitsPerSample | 8 |
BlueHue | 0 |
BlueSaturation | 0 |
Brightness | -10 |
By-line | unknown |
CameraProfile | Embedded |
ChromaticAberrationB | 0 |
ChromaticAberrationR | 0 |
CircleOfConfusion | 0.019 mm |
Clarity | +5 |
ColorComponents | 3 |
ColorMode | RGB |
ColorNoiseReduction | 0 |
ColorSpace | Uncalibrated |
Contrast | +5 |
ConvertToGrayscale | False |
CreateDate (1) | 2010:12:28 00:31:23-08:00 |
CreateDate | 2010:12:28 00:31:23 |
Creator | unknown |
CropAngle | 0.964484 |
CropBottom | 1 |
CropLeft | 0.017789 |
CropRight | 0.982211 |
CropTop | 0 |
CustomRendered | Normal |
DateTimeDigitized | 2010:12:28 00:31:23-08:00 |
DateTimeOriginal (1) | 2010:12:28 00:31:23-08:00 |
DateTimeOriginal | 2010:12:28 00:31:23 |
Defringe | 0 |
ExifImageHeight | 1566 |
ExifImageWidth | 2435 |
Exposure | -1.05 |
ExposureCompensation | 0 |
ExposureMode | Auto |
ExposureProgram | Program AE |
ExposureTime | 1/125 |
FillLight | 0 |
Firmware | 1.0.3 |
Flash | Off, Did not fire |
FlashCompensation | 0 |
FlashFired | False |
FlashFunction | False |
FlashMode | Off |
FlashRedEyeMode | False |
FlashReturn | No return detection |
FNumber | 8.0 |
FocalLength | 31.0 mm |
FocalLength35efl | 31.0 mm (35 mm equivalent: 50.3 mm) |
Format | image/jpeg |
FOV | 39.4 deg |
GreenHue | 0 |
GreenSaturation | 0 |
HasCrop | True |
HasSettings | True |
HighlightRecovery | 50 |
HueAdjustmentAqua | 0 |
HueAdjustmentBlue | 0 |
HueAdjustmentGreen | 0 |
HueAdjustmentMagenta | 0 |
HueAdjustmentOrange | 0 |
HueAdjustmentPurple | 0 |
HueAdjustmentRed | 0 |
HueAdjustmentYellow | 0 |
HyperfocalDistance | 6.49 m |
ICCProfileName | Adobe RGB (1998) |
ImageHeight | 1566 |
ImageNumber | 25 |
ImageSize | 2435x1566 |
ImageWidth | 2435 |
IncrementalTemperature | 0 |
IncrementalTint | 0 |
ISO | 100 |
Lens | 18.0-200.0 mm |
LensInfo | 18-200mm f/? |
LightValue | 13.0 |
LuminanceAdjustmentAqua | 0 |
LuminanceAdjustmentBlue | 0 |
LuminanceAdjustmentGreen | 0 |
LuminanceAdjustmentMagenta | 0 |
LuminanceAdjustmentOrange | 0 |
LuminanceAdjustmentPurple | 0 |
LuminanceAdjustmentRed | 0 |
LuminanceAdjustmentYellow | 0 |
LuminanceSmoothing | 0 |
Make | Canon |
Megapixels | 3.8 |
MeteringMode | Multi-segment |
Model | Canon EOS 350D DIGITAL |
ModifyDate (1) | 2008:12:30 21:32:32-08:00 |
ModifyDate | 2008:12:30 21:32:32 |
Orientation | Horizontal (normal) |
OwnerName | unknown |
ParametricDarks | 0 |
ParametricHighlights | 0 |
ParametricHighlightSplit | 75 |
ParametricLights | 0 |
ParametricMidtoneSplit | 50 |
ParametricShadows | 0 |
ParametricShadowSplit | 25 |
PostCropVignetteAmount | 0 |
ProfileDescription | Adobe RGB (1998) |
Rating | 0 |
RawFileName | IMG_3865.JPG |
RedHue | 0 |
RedSaturation | 0 |
Saturation | +25 |
SaturationAdjustmentAqua | 0 |
SaturationAdjustmentBlue | 0 |
SaturationAdjustmentGreen | 0 |
SaturationAdjustmentMagenta | 0 |
SaturationAdjustmentOrange | 0 |
SaturationAdjustmentPurple | 0 |
SaturationAdjustmentRed | 0 |
SaturationAdjustmentYellow | 0 |
ScaleFactor35efl | 1.6 |
SceneCaptureType | Standard |
SerialNumber | 1830736413 |
Shadows | 1 |
ShadowTint | 0 |
SharpenDetail | 25 |
SharpenEdgeMasking | 0 |
SharpenRadius | +1.0 |
Sharpness | 0 |
ShutterSpeed | 1/125 |
ShutterSpeedValue | 1/125 |
Software | Adobe Photoshop CS4 Windows |
SplitToningBalance | 0 |
SplitToningHighlightHue | 0 |
SplitToningHighlightSaturation | 0 |
SplitToningShadowHue | 0 |
SplitToningShadowSaturation | 0 |
ToneCurve | 0, 0, 255, 255 |
ToneCurveName | Linear |
URL_List | |
Version | 5.0 |
Vibrance | 0 |
VignetteAmount | 0 |
WhiteBalance (2) | As Shot |
WhiteBalance | Auto |