Felt | Verdi |
AlreadyApplied | True |
Aperture | 4.5 |
ApertureValue | 4.5 |
ApproximateFocusDistance | 3.38 |
BitsPerSample | 8 |
BlueHue | 0 |
BlueSaturation | 0 |
Brightness | 0 |
CameraProfile | Embedded |
ChromaticAberrationB | 0 |
ChromaticAberrationR | 0 |
CircleOfConfusion | 0.005 mm |
Clarity | +27 |
ColorComponents | 3 |
ColorNoiseReduction | 0 |
Contrast | +38 |
ConvertToGrayscale | False |
CreateDate (1) | 2010:06:09 18:06:17+02:00 |
CreateDate | 2010:06:09 18:06:17 |
CreatorTool | Adobe Photoshop Lightroom |
CropAngle | 0 |
CropBottom | 1 |
CropConstrainToWarp | 0 |
CropHeight | 800 |
CropLeft | 0 |
CropRight | 0.87175 |
CropTop | 0 |
CropUnit | pixels |
CropWidth | 930 |
CustomRendered | Normal |
DateTimeDigitized | 2010:06:09 18:06:17+02:00 |
DateTimeOriginal (1) | 2010:06:09 18:06:17+02:00 |
DateTimeOriginal | 2010:06:09 18:06:17 |
Defringe | 0 |
DigitalZoomRatio | 1 |
DOF | 2.83 m (2.48 - 5.31 m) |
ExifImageHeight | 930 |
ExifImageWidth | 800 |
Exposure | +0.70 |
ExposureCompensation | 0 |
ExposureMode | Manual |
ExposureTime | 1/500 |
FillLight | 7 |
Firmware | 1.00 |
Flash | On, Red-eye reduction |
FlashCompensation | 0 |
FlashFired | True |
FlashFunction | False |
FlashMode | On |
FlashRedEyeMode | True |
FlashReturn | No return detection |
FNumber | 4.5 |
FocalLength | 15.0 mm |
FocalLength35efl | 15.0 mm (35 mm equivalent: 83.7 mm) |
FOV | 24.3 deg |
GrainAmount | 0 |
GreenHue | 0 |
GreenSaturation | 0 |
HasCrop | True |
HasSettings | True |
HighlightRecovery | 0 |
HueAdjustmentAqua | 0 |
HueAdjustmentBlue | 0 |
HueAdjustmentGreen | +8 |
HueAdjustmentMagenta | 0 |
HueAdjustmentOrange | 0 |
HueAdjustmentPurple | 0 |
HueAdjustmentRed | -25 |
HueAdjustmentYellow | 0 |
HyperfocalDistance | 9.27 m |
ImageHeight | 930 |
ImageSize | 800x930 |
ImageWidth | 800 |
IncrementalTemperature | 0 |
IncrementalTint | 0 |
ISO | 200 |
Lens | 5.0-60.0 mm |
LensInfo | 5-60mm f/? |
LensManualDistortionAmount | 0 |
LensModel | 5.0-60.0 mm |
LensProfileEnable | 0 |
LensProfileSetup | LensDefaults |
LightValue | 12.3 |
LuminanceAdjustmentAqua | 0 |
LuminanceAdjustmentBlue | 0 |
LuminanceAdjustmentGreen | 0 |
LuminanceAdjustmentMagenta | 0 |
LuminanceAdjustmentOrange | 0 |
LuminanceAdjustmentPurple | 0 |
LuminanceAdjustmentRed | 0 |
LuminanceAdjustmentYellow | 0 |
LuminanceNoiseReductionContrast | 0 |
LuminanceNoiseReductionDetail | 50 |
LuminanceSmoothing | 11 |
Make | Canon |
MaxApertureValue | 4.5 |
Megapixels | 0.744 |
MeteringMode | Multi-segment |
Model | Canon PowerShot SX200 IS |
ModifyDate (1) | 2011:02:05 21:10:18+01:00 |
ModifyDate | 2011:02:05 21:10:18 |
ParametricDarks | -9 |
ParametricHighlights | 0 |
ParametricHighlightSplit | 75 |
ParametricLights | -34 |
ParametricMidtoneSplit | 50 |
ParametricShadows | 0 |
ParametricShadowSplit | 25 |
PerspectiveHorizontal | 0 |
PerspectiveRotate | 0.0 |
PerspectiveScale | 100 |
PerspectiveVertical | 0 |
PostCropVignetteAmount | 0 |
ProcessVersion | 5.7 |
ProfileDescription | sRGB IEC61966-2.1 |
RedHue | 0 |
RedSaturation | 0 |
Saturation | +20 |
SaturationAdjustmentAqua | 0 |
SaturationAdjustmentBlue | 0 |
SaturationAdjustmentGreen | 0 |
SaturationAdjustmentMagenta | 0 |
SaturationAdjustmentOrange | 0 |
SaturationAdjustmentPurple | 0 |
SaturationAdjustmentRed | 0 |
SaturationAdjustmentYellow | 0 |
ScaleFactor35efl | 5.6 |
SceneCaptureType | Standard |
SensingMethod | One-chip color area |
SensitivityType | Unknown |
Shadows | 5 |
ShadowTint | 0 |
SharpenDetail | 25 |
SharpenEdgeMasking | 0 |
SharpenRadius | +1.0 |
Sharpness | 41 |
ShutterSpeed | 1/500 |
ShutterSpeedValue | 1/500 |
SplitToningBalance | 0 |
SplitToningHighlightHue | 0 |
SplitToningHighlightSaturation | 0 |
SplitToningShadowHue | 0 |
SplitToningShadowSaturation | 0 |
SubjectDistance | 3.38 m |
ToneCurve | 0, 0, 255, 255 |
ToneCurveName | Linear |
Version | 6.2 |
Vibrance | +25 |
VignetteAmount | 0 |
WhiteBalance (2) | As Shot |
WhiteBalance | Auto |