Felt | Verdi |
AlreadyApplied | True |
Aperture | 6.3 |
ApertureValue | 6.3 |
ApproximateFocusDistance | 3.94 |
Artist | Bjorn Harald Rinden |
BitsPerSample (1) | 8 8 8 |
BitsPerSample | 8 |
BlueHue | 0 |
BlueSaturation | 0 |
Brightness | +50 |
By-line | Bjorn Harald Rinden |
CameraProfile | Adobe Standard |
ChromaticAberrationB | 0 |
ChromaticAberrationR | 0 |
CircleOfConfusion | 0.027 mm |
Clarity | +12 |
ColorComponents | 3 |
ColorMode | RGB |
ColorNoiseReduction | 25 |
ColorNoiseReductionDetail | 50 |
ColorSpace | Uncalibrated |
ColorTemperature | 5050 |
Contrast | +29 |
ConvertToGrayscale | False |
Copyright | ha-rind@online.no |
CopyrightNotice | ha-rind@online.no |
CreateDate (1) | 2010:08:22 10:02:31.00+02:00 |
CreateDate | 2010:08:22 10:02:31 |
Creator | Bjorn Harald Rinden |
CreatorTool | Adobe Photoshop CS5 Macintosh |
CustomRendered | Normal |
DateCreated (1) | 2010:08:22 |
DateCreated | 2010:08:22 10:02:31 |
DateTimeOriginal | 2010:08:22 10:02:31 |
Defringe | 0 |
DOF | 0.05 m (3.91 - 3.97 m) |
ExifImageHeight | 1124 |
ExifImageWidth | 1224 |
Exposure | +0.05 |
ExposureCompensation | 0 |
ExposureMode | Manual |
ExposureProgram | Manual |
ExposureTime | 1/1250 |
FillLight | 4 |
Firmware | 1.0.8 |
Flash | Off, Did not fire |
FlashCompensation | 0 |
FNumber | 6.3 |
FocalLength | 300.0 mm |
FocalLength35efl | 300.0 mm (35 mm equivalent: 332.4 mm) |
Format | image/jpeg |
FOV | 6.2 deg |
GrainAmount | 0 |
GreenHue | 0 |
GreenSaturation | 0 |
HasCrop | False |
HasSettings | True |
HighlightRecovery | 3 |
HueAdjustmentAqua | 0 |
HueAdjustmentBlue | 0 |
HueAdjustmentGreen | 0 |
HueAdjustmentMagenta | 0 |
HueAdjustmentOrange | 0 |
HueAdjustmentPurple | 0 |
HueAdjustmentRed | 0 |
HueAdjustmentYellow | 0 |
HyperfocalDistance | 526.86 m |
ICCProfileName | ProPhoto RGB |
ImageHeight | 1124 |
ImageNumber | 0 |
ImageSize | 1224x1124 |
ImageWidth | 1224 |
ISO | 320 |
Lens | EF300mm f/2.8L IS USM |
LensID (1) | 142 |
LensID | Canon EF 300mm f/2.8L IS USM |
LensInfo | 300mm f/? |
LensManualDistortionAmount | 0 |
LensModel | EF300mm f/2.8L IS USM |
LensProfileEnable | 0 |
LensProfileSetup | LensDefaults |
LightValue | 13.9 |
LuminanceAdjustmentAqua | 0 |
LuminanceAdjustmentBlue | 0 |
LuminanceAdjustmentGreen | 0 |
LuminanceAdjustmentMagenta | 0 |
LuminanceAdjustmentOrange | 0 |
LuminanceAdjustmentPurple | 0 |
LuminanceAdjustmentRed | 0 |
LuminanceAdjustmentYellow | 0 |
LuminanceSmoothing | 0 |
Make | Canon |
MaxApertureValue | 2.8 |
Megapixels | 1.4 |
MeteringMode | Partial |
Model | Canon EOS-1D Mark IV |
ModifyDate (1) | 2011:02:24 10:46:24+01:00 |
ModifyDate | 2011:02:24 10:46:24 |
Orientation | Horizontal (normal) |
ParametricDarks | +9 |
ParametricHighlights | 0 |
ParametricHighlightSplit | 75 |
ParametricLights | -7 |
ParametricMidtoneSplit | 50 |
ParametricShadows | +5 |
ParametricShadowSplit | 25 |
PerspectiveHorizontal | 0 |
PerspectiveRotate | 0.0 |
PerspectiveScale | 100 |
PerspectiveVertical | 0 |
PhotometricInterpretation | RGB |
PostCropVignetteAmount | 0 |
ProcessVersion | 5.7 |
ProfileDescription | ProPhoto RGB |
Rating | 0 |
RawFileName | _F2D8555.CR2 |
RedHue | 0 |
RedSaturation | 0 |
Rights | ha-rind@online.no |
Saturation | 0 |
SaturationAdjustmentAqua | 0 |
SaturationAdjustmentBlue | 0 |
SaturationAdjustmentGreen | 0 |
SaturationAdjustmentMagenta | 0 |
SaturationAdjustmentOrange | 0 |
SaturationAdjustmentPurple | 0 |
SaturationAdjustmentRed | 0 |
SaturationAdjustmentYellow | 0 |
ScaleFactor35efl | 1.1 |
SceneCaptureType | Standard |
SensitivityType | Unknown |
SerialNumber | 330302312 |
Shadows | 5 |
ShadowTint | 0 |
SharpenDetail | 25 |
SharpenEdgeMasking | 0 |
SharpenRadius | +1.0 |
Sharpness | 25 |
ShutterSpeed | 1/1250 |
ShutterSpeedValue | 1/1250 |
SidecarForExtension | CR2 |
Software | Adobe Photoshop CS5 Macintosh |
SplitToningBalance | 0 |
SplitToningHighlightHue | 0 |
SplitToningHighlightSaturation | 0 |
SplitToningShadowHue | 0 |
SplitToningShadowSaturation | 0 |
SubjectDistance | 3.94 m |
Tint | +28 |
ToneCurve | 0, 0, 32, 22, 64, 56, 128, 128, 192, 196, 255, 255 |
ToneCurveName | Medium Contrast |
URL_List | |
Version | 6.2 |
Vibrance | 0 |
VignetteAmount | 0 |
WhiteBalance (1) | As Shot |
WhiteBalance | Auto |