Felt | Verdi |
AlreadyApplied | True |
Aperture | 7.1 |
ApertureValue | 7.1 |
ApproximateFocusDistance | 4294967295 |
BitsPerSample | 8 |
BlueHue | 0 |
BlueSaturation | 0 |
Brightness | +50 |
CameraProfile | Adobe Standard |
ChromaticAberrationB | 0 |
ChromaticAberrationR | 0 |
CircleOfConfusion | 0.019 mm |
Clarity | +23 |
ColorComponents | 3 |
ColorNoiseReduction | 25 |
ColorNoiseReductionDetail | 50 |
ColorTemperature | 6579 |
Contrast | +45 |
ConvertToGrayscale | False |
CreateDate (1) | 2010:09:27 10:22:58.00+02:00 |
CreateDate | 2010:09:27 10:22:58 |
CreatorTool | Adobe Photoshop Lightroom |
CropAngle | 1.67509 |
CropBottom | 0.995 |
CropConstrainToWarp | 0 |
CropHeight | 576 |
CropLeft | 0.017639 |
CropRight | 0.982361 |
CropTop | 0.137939 |
CropUnit | pixels |
CropWidth | 1040 |
CustomRendered | Normal |
DateTimeDigitized | 2010:09:27 10:22:58.00+02:00 |
DateTimeOriginal (1) | 2010:09:27 10:22:58.00+02:00 |
DateTimeOriginal | 2010:09:27 10:22:58 |
Defringe | 0 |
DOF | inf (3.67 m - inf) |
ExifImageHeight | 576 |
ExifImageWidth | 1040 |
Exposure | -0.49 |
ExposureCompensation | 0 |
ExposureMode | Auto |
ExposureProgram | Aperture-priority AE |
ExposureTime | 1/320 |
FillLight | 33 |
Firmware | 1.1.1 |
Flash | Off, Did not fire |
FlashCompensation | 0 |
FlashFired | False |
FlashFunction | False |
FlashMode | Off |
FlashRedEyeMode | False |
FlashReturn | No return detection |
FNumber | 7.1 |
FocalLength | 22.0 mm |
FocalLength35efl | 22.0 mm (35 mm equivalent: 35.6 mm) |
FOV | 53.6 deg |
GradientBasedCorrActive | true |
GradientBasedCorrAmount | 1.000000 |
GradientBasedCorrBrightness (1) | -0.257000 |
GradientBasedCorrBrightness | -0.062000 |
GradientBasedCorrClarity (1) | 0.398000 |
GradientBasedCorrClarity | 0.823000 |
GradientBasedCorrContrast | 0.000000 |
GradientBasedCorrExposure (1) | -0.080000 |
GradientBasedCorrExposure | -0.044000 |
GradientBasedCorrHue | 11.000000 |
GradientBasedCorrMaskFullX (1) | 0.542725 |
GradientBasedCorrMaskFullX | 0.140998 |
GradientBasedCorrMaskFullY (1) | -0.003466 |
GradientBasedCorrMaskFullY | 0.173100 |
GradientBasedCorrMaskValue | 1.000000 |
GradientBasedCorrMaskWhat | Mask/Gradient |
GradientBasedCorrMaskZeroX (1) | 0.545035 |
GradientBasedCorrMaskZeroX | 0.176790 |
GradientBasedCorrMaskZeroY (1) | 0.696707 |
GradientBasedCorrMaskZeroY | 0.470979 |
GradientBasedCorrSaturation (3) | 0.000000 |
GradientBasedCorrSaturation | 0.030000 |
GradientBasedCorrSharpness (1) | 0.593000 |
GradientBasedCorrSharpness | 0.699000 |
GradientBasedCorrWhat | Correction |
GrainAmount | 0 |
GreenHue | 0 |
GreenSaturation | 0 |
HasCrop | True |
HasSettings | True |
HighlightRecovery | 0 |
HueAdjustmentAqua | 0 |
HueAdjustmentBlue | 0 |
HueAdjustmentGreen | 0 |
HueAdjustmentMagenta | 0 |
HueAdjustmentOrange | 0 |
HueAdjustmentPurple | 0 |
HueAdjustmentRed | 0 |
HueAdjustmentYellow | 0 |
HyperfocalDistance | 3.67 m |
ImageHeight | 576 |
ImageNumber | 0 |
ImageSize | 1040x576 |
ImageWidth | 1040 |
ISO | 400 |
Lens | EF-S10-22mm f/3.5-4.5 USM |
LensID (1) | 235 |
LensID | Canon EF-S 10-22mm f/3.5-4.5 USM |
LensInfo | 10-22mm f/? |
LensManualDistortionAmount | 0 |
LensModel | EF-S10-22mm f/3.5-4.5 USM |
LensProfileEnable | 0 |
LensProfileSetup | LensDefaults |
LightValue | 12.0 |
LuminanceAdjustmentAqua | 0 |
LuminanceAdjustmentBlue | 0 |
LuminanceAdjustmentGreen | 0 |
LuminanceAdjustmentMagenta | 0 |
LuminanceAdjustmentOrange | 0 |
LuminanceAdjustmentPurple | 0 |
LuminanceAdjustmentRed | 0 |
LuminanceAdjustmentYellow | 0 |
LuminanceNoiseReductionContrast | 0 |
LuminanceNoiseReductionDetail | 50 |
LuminanceSmoothing | 35 |
Make | Canon |
MaxApertureValue | 4.6 |
Megapixels | 0.599 |
MeteringMode | Multi-segment |
Model | Canon EOS 40D |
ModifyDate (1) | 2011:03:13 18:17:27+01:00 |
ModifyDate | 2011:03:13 18:17:27 |
PaintCorrectionActive | true |
PaintCorrectionAmount | 1.000000 |
PaintCorrectionBrightness | -0.062000 |
PaintCorrectionClarity | 0.823000 |
PaintCorrectionContrast | 0.000000 |
PaintCorrectionExposure (1) | 0.062000 |
PaintCorrectionExposure | -0.080000 |
PaintCorrectionHue (1) | 30.000000 |
PaintCorrectionHue | 11.000000 |
PaintCorrectionMaskCenterWeight | 0.000000 |
PaintCorrectionMaskFlow | 1.000000 |
PaintCorrectionMaskRadius (1) | 0.065902 |
PaintCorrectionMaskRadius (2) | 0.020271 |
PaintCorrectionMaskRadius | 0.016798 |
PaintCorrectionMaskValue (3) | 1.000000 |
PaintCorrectionMaskValue | 0.000000 |
PaintCorrectionMaskWhat | Mask/Paint |
PaintCorrectionSaturation (1) | 0.912000 |
PaintCorrectionSaturation (2) | 0.680000 |
PaintCorrectionSaturation (3) | 0.000000 |
PaintCorrectionSaturation | 0.030000 |
PaintCorrectionSharpness | 0.699000 |
PaintCorrectionWhat | Correction |
ParametricDarks | +7 |
ParametricHighlights | 0 |
ParametricHighlightSplit | 75 |
ParametricLights | 0 |
ParametricMidtoneSplit | 50 |
ParametricShadows | 0 |
ParametricShadowSplit | 25 |
PerspectiveHorizontal | 0 |
PerspectiveRotate | 0.0 |
PerspectiveScale | 100 |
PerspectiveVertical | 0 |
PostCropVignetteAmount | 0 |
ProcessVersion | 5.7 |
ProfileDescription | sRGB IEC61966-2.1 |
RedHue | 0 |
RedSaturation | 0 |
Saturation | +12 |
SaturationAdjustmentAqua | 0 |
SaturationAdjustmentBlue | 0 |
SaturationAdjustmentGreen | 0 |
SaturationAdjustmentMagenta | 0 |
SaturationAdjustmentOrange | +10 |
SaturationAdjustmentPurple | 0 |
SaturationAdjustmentRed | 0 |
SaturationAdjustmentYellow | 0 |
ScaleFactor35efl | 1.6 |
SceneCaptureType | Standard |
SensitivityType | Unknown |
SerialNumber | 1430732253 |
Shadows | 5 |
ShadowTint | 0 |
SharpenDetail | 25 |
SharpenEdgeMasking | 0 |
SharpenRadius | +1.0 |
Sharpness | 69 |
ShutterSpeed | 1/320 |
ShutterSpeedValue | 1/320 |
SplitToningBalance | 0 |
SplitToningHighlightHue | 0 |
SplitToningHighlightSaturation | 0 |
SplitToningShadowHue | 0 |
SplitToningShadowSaturation | 0 |
SubjectDistance | 4294967295 m |
Tint | -3 |
ToneCurve | 0, 0, 32, 22, 64, 56, 128, 128, 192, 196, 255, 255 |
ToneCurveName | Medium Contrast |
Version | 6.2 |
Vibrance | +21 |
VignetteAmount | 0 |
WhiteBalance (2) | Custom |
WhiteBalance | Auto |