Felt | Verdi |
AlreadyApplied | True |
Aperture | 3.7 |
ApertureValue | 3.7 |
BitsPerSample (1) | 8 8 8 |
BitsPerSample | 8 |
BlueHue | 0 |
BlueSaturation | 0 |
Brightness | +65 |
CameraProfile | ACR 3.5 |
ChromaticAberrationB | 0 |
ChromaticAberrationR | 0 |
Clarity | 0 |
ColorComponents | 3 |
ColorMode | RGB |
ColorNoiseReduction | 25 |
ColorSpace | Uncalibrated |
ColorTemperature | 9700 |
Contrast | +35 |
ConvertToGrayscale | False |
CopyrightFlag | False |
CreateDate (1) | 2007:08:17 21:34:07+02:00 |
CreateDate | 2007:08:17 21:34:07 |
CreatorTool | Adobe Photoshop CS5 Macintosh |
DateCreated (1) | 2007:08:17 |
DateCreated | 2007:08:17 21:34:07 |
DateTimeOriginal | 2007:08:17 21:34:07 |
Defringe | 0 |
ExifImageHeight | 768 |
ExifImageWidth | 731 |
Exposure | -1.00 |
ExposureCompensation | 0 |
ExposureProgram | Program AE |
ExposureTime | 1/40 |
FillLight | 6 |
Flash | Off, Did not fire |
FNumber | 3.7 |
FocalLength | 88.8 mm |
FocalLength35efl | 88.8 mm |
Format | image/jpeg |
GreenHue | 0 |
GreenSaturation | 0 |
HasCrop | False |
HasSettings | True |
HighlightRecovery | 86 |
HueAdjustmentAqua | +4 |
HueAdjustmentBlue | 0 |
HueAdjustmentGreen | -88 |
HueAdjustmentMagenta | +12 |
HueAdjustmentOrange | -41 |
HueAdjustmentPurple | -3 |
HueAdjustmentRed | -2 |
HueAdjustmentYellow | -67 |
ICCProfileName | Adobe RGB (1998) |
ImageHeight (1) | 3816 |
ImageHeight | 768 |
ImageSize | 731x768 |
ImageWidth (1) | 3631 |
ImageWidth | 731 |
ISO | 100 |
LightValue | 9.1 |
LuminanceAdjustmentAqua | 0 |
LuminanceAdjustmentBlue | 0 |
LuminanceAdjustmentGreen | 0 |
LuminanceAdjustmentMagenta | 0 |
LuminanceAdjustmentOrange | -8 |
LuminanceAdjustmentPurple | 0 |
LuminanceAdjustmentRed | -88 |
LuminanceAdjustmentYellow | 0 |
LuminanceSmoothing | 0 |
Make | LEICA |
Marked | False |
MaxApertureValue | 2.8 |
Megapixels | 0.561 |
MeteringMode | Multi-segment |
Model | V-LUX 1 |
ModifyDate (1) | 2011:04:12 22:42:32+02:00 |
ModifyDate | 2011:04:12 22:42:32 |
Orientation | Horizontal (normal) |
ParametricDarks | -54 |
ParametricHighlights | -97 |
ParametricHighlightSplit | 75 |
ParametricLights | +48 |
ParametricMidtoneSplit | 50 |
ParametricShadows | -1 |
ParametricShadowSplit | 25 |
PhotometricInterpretation | RGB |
PlanarConfiguration | Chunky |
ProfileDescription | Adobe RGB (1998) |
Rating | 0 |
RawFileName | L1000888.RAW |
RedHue | -2 |
RedSaturation | -17 |
Saturation | +3 |
SaturationAdjustmentAqua | 0 |
SaturationAdjustmentBlue | 0 |
SaturationAdjustmentGreen | 0 |
SaturationAdjustmentMagenta | 0 |
SaturationAdjustmentOrange | +13 |
SaturationAdjustmentPurple | 0 |
SaturationAdjustmentRed | +100 |
SaturationAdjustmentYellow | +4 |
Shadows | 70 |
ShadowTint | 0 |
SharpenDetail | 25 |
SharpenEdgeMasking | 0 |
SharpenRadius | +1.0 |
Sharpness | 25 |
ShutterSpeed | 1/40 |
ShutterSpeedValue | 1/40 |
SidecarForExtension | RAW |
Software | Adobe Photoshop CS5 Macintosh |
SplitToningBalance | 0 |
SplitToningHighlightHue | 0 |
SplitToningHighlightSaturation | 0 |
SplitToningShadowHue | 0 |
SplitToningShadowSaturation | 0 |
Tint | +118 |
ToneCurve | 0, 0, 32, 22, 64, 56, 128, 128, 192, 196, 255, 255 |
ToneCurveName | Medium Contrast |
URL_List | |
Version | 4.3.1 |
Vibrance | -8 |
VignetteAmount | 0 |
WhiteBalance | Custom |