Felt | Verdi |
AlreadyApplied | True |
Aperture | 4.0 |
ApertureValue | 4.0 |
BitsPerSample | 8 |
BlueHue | 0 |
BlueSaturation | 0 |
Brightness | +50 |
CameraProfile | Adobe Standard |
Caption-Abstract | OLYMPUS DIGITAL CAMERA |
CFAPattern | [Red,Green][Green,Blue] |
ChromaticAberrationB | 0 |
ChromaticAberrationR | 0 |
CircleOfConfusion | 0.015 mm |
Clarity | +27 |
ColorComponents | 3 |
ColorMode | RGB |
ColorNoiseReduction | 68 |
ColorNoiseReductionDetail | 75 |
ColorSpace | Uncalibrated |
ColorTemperature | 5200 |
Contrast (1) | +59 |
Contrast | Normal |
ConvertToGrayscale | False |
CreateDate (1) | 2011:04:25 14:58:57+02:00 |
CreateDate | 2011:04:25 14:58:57 |
CreatorTool | Version 1.4 |
CropAngle | 0 |
CropBottom | 0.998933 |
CropConstrainToWarp | 1 |
CropHeight | 1 |
CropLeft | 0.269015 |
CropRight | 0.855728 |
CropTop | 0.216649 |
CropUnit | Unknown (3) |
CropWidth | 1 |
CustomRendered | Normal |
DateCreated (1) | 2011:04:25 |
DateCreated | 2011:04:25 14:58:57 |
DateTimeOriginal | 2011:04:25 14:58:57 |
Defringe | 0 |
Description | OLYMPUS DIGITAL CAMERA |
DigitalZoomRatio | 1 |
ExifImageHeight | 2140 |
ExifImageWidth | 2140 |
Exposure | 0.00 |
ExposureCompensation | 0 |
ExposureMode | Manual |
ExposureProgram | Manual |
ExposureTime | 1/400 |
FillLight | 5 |
Flash | On, Did not fire |
FlashCompensation | 0 |
FNumber | 4.0 |
FocalLength | 60.0 mm |
FocalLength35efl | 60.0 mm (35 mm equivalent: 120.0 mm) |
FocalLengthIn35mmFormat | 120 mm |
Format | image/jpeg |
FOV | 17.1 deg |
GainControl | None |
GrainAmount | 0 |
GreenHue | 0 |
GreenSaturation | 0 |
HasCrop | True |
HasSettings | True |
HighlightRecovery | 72 |
HueAdjustmentAqua | 0 |
HueAdjustmentBlue | 0 |
HueAdjustmentGreen | 0 |
HueAdjustmentMagenta | 0 |
HueAdjustmentOrange | 0 |
HueAdjustmentPurple | 0 |
HueAdjustmentRed | 0 |
HueAdjustmentYellow | 0 |
HyperfocalDistance | 59.91 m |
ICCProfileName | Adobe RGB (1998) |
ImageDescription | OLYMPUS DIGITAL CAMERA |
ImageHeight | 2140 |
ImageSize | 2140x2140 |
ImageWidth | 2140 |
ISO | 100 |
Lens | 12.0-60.0 mm f/2.8-4.0 |
LensInfo | 12-60mm f/2.8-4 |
LensManualDistortionAmount | 0 |
LensModel | 12.0-60.0 mm f/2.8-4.0 |
LensProfileEnable | 0 |
LensProfileSetup | LensDefaults |
LensSerialNumber | 230002397001 |
LightSource | Unknown |
LightValue | 12.6 |
LuminanceAdjustmentAqua | 0 |
LuminanceAdjustmentBlue | 0 |
LuminanceAdjustmentGreen | 0 |
LuminanceAdjustmentMagenta | 0 |
LuminanceAdjustmentOrange | 0 |
LuminanceAdjustmentPurple | 0 |
LuminanceAdjustmentRed | 0 |
LuminanceAdjustmentYellow | 0 |
LuminanceNoiseReductionContrast | 0 |
LuminanceNoiseReductionDetail | 50 |
LuminanceSmoothing | 28 |
Make | OLYMPUS IMAGING CORP. |
MaxApertureValue | 2.8 |
Megapixels | 4.6 |
MeteringMode | Multi-segment |
Model | E-3 |
ModifyDate (1) | 2011:04:25 17:40:10+02:00 |
ModifyDate | 2011:04:25 17:40:10 |
Orientation | Horizontal (normal) |
ParametricDarks | -33 |
ParametricHighlights | -8 |
ParametricHighlightSplit | 75 |
ParametricLights | -1 |
ParametricMidtoneSplit | 50 |
ParametricShadows | -14 |
ParametricShadowSplit | 25 |
PerspectiveHorizontal | 0 |
PerspectiveRotate | 0.0 |
PerspectiveScale | 100 |
PerspectiveVertical | 0 |
PostCropVignetteAmount | 0 |
ProcessVersion | 5.7 |
ProfileDescription | Adobe RGB (1998) |
Rating | 0 |
RawFileName | TB255010.ORF |
RedHue | 0 |
RedSaturation | 0 |
Saturation (1) | +23 |
Saturation | High |
SaturationAdjustmentAqua | 0 |
SaturationAdjustmentBlue | 0 |
SaturationAdjustmentGreen | 0 |
SaturationAdjustmentMagenta | 0 |
SaturationAdjustmentOrange | 0 |
SaturationAdjustmentPurple | 0 |
SaturationAdjustmentRed | 0 |
SaturationAdjustmentYellow | 0 |
ScaleFactor35efl | 2.0 |
SceneCaptureType | Standard |
SensitivityType | Unknown |
SerialNumber | D70507250 |
Shadows | 5 |
ShadowTint | 0 |
SharpenDetail | 25 |
SharpenEdgeMasking | 0 |
SharpenRadius | +2.4 |
Sharpness (1) | 53 |
Sharpness | Hard |
ShutterSpeed | 1/400 |
ShutterSpeedValue | 1/400 |
SidecarForExtension | ORF |
Software | Adobe Photoshop CS5 Windows |
SplitToningBalance | 0 |
SplitToningHighlightHue | 0 |
SplitToningHighlightSaturation | 0 |
SplitToningShadowHue | 0 |
SplitToningShadowSaturation | 0 |
Tint | 0 |
ToneCurve | 0, 0, 32, 22, 64, 56, 128, 128, 192, 196, 255, 255 |
ToneCurveName | Medium Contrast |
URL_List | |
Version | 6.3 |
Vibrance | 0 |
VignetteAmount | -95 |
VignetteMidpoint | 16 |
WhiteBalance (1) | Custom |
WhiteBalance | Auto |