Felt | Verdi |
AlreadyApplied | True |
Aperture | 5.6 |
ApertureValue | 5.6 |
ApproximateFocusDistance | 1.39 |
BitsPerSample | 8 |
BlueHue | 0 |
BlueSaturation | 0 |
Brightness | +50 |
CameraProfile | Adobe Standard |
ChromaticAberrationB | 0 |
ChromaticAberrationR | 0 |
CircleOfConfusion | 0.019 mm |
Clarity | +25 |
ColorComponents | 3 |
ColorNoiseReduction | 25 |
ColorNoiseReductionDetail | 50 |
ColorTemperature | 7047 |
Contrast | +43 |
ConvertToGrayscale | False |
CreateDate (1) | 2011:04:20 13:31:25.01+02:00 |
CreateDate | 2011:04:20 13:31:25 |
CreatorTool | Adobe Photoshop Lightroom |
CropAngle | 0 |
CropBottom | 0.806504 |
CropConstrainToWarp | 0 |
CropHeight | 800 |
CropLeft | 0.096529 |
CropRight | 0.748373 |
CropTop | 0 |
CropUnit | pixels |
CropWidth | 970 |
CustomRendered | Normal |
DateTimeDigitized | 2011:04:20 13:31:25.01+02:00 |
DateTimeOriginal (1) | 2011:04:20 13:31:25.01+02:00 |
DateTimeOriginal | 2011:04:20 13:31:25 |
Defringe | 0 |
DOF | 0.010 m (1.385 - 1.395 m) |
ExifImageHeight | 800 |
ExifImageWidth | 970 |
Exposure | 0.00 |
ExposureCompensation | -1/3 |
ExposureMode | Auto |
ExposureProgram | Aperture-priority AE |
ExposureTime | 1/640 |
FillLight | 0 |
Firmware | 1.1.1 |
Flash | Off, Did not fire |
FlashCompensation | 0 |
FlashFired | False |
FlashFunction | False |
FlashMode | Off |
FlashRedEyeMode | False |
FlashReturn | No return detection |
FNumber | 5.6 |
FocalLength | 185.0 mm |
FocalLength35efl | 185.0 mm (35 mm equivalent: 299.5 mm) |
FOV | 6.9 deg |
GrainAmount | 0 |
GreenHue | 0 |
GreenSaturation | 0 |
HasCrop | True |
HasSettings | True |
HighlightRecovery | 0 |
HueAdjustmentAqua | 0 |
HueAdjustmentBlue | 0 |
HueAdjustmentGreen | 0 |
HueAdjustmentMagenta | 0 |
HueAdjustmentOrange | 0 |
HueAdjustmentPurple | 0 |
HueAdjustmentRed | 0 |
HueAdjustmentYellow | 0 |
HyperfocalDistance | 329.27 m |
ImageHeight | 800 |
ImageNumber | 0 |
ImageSize | 970x800 |
ImageWidth | 970 |
ISO | 250 |
Lens | EF70-200mm f/4L IS USM +1.4x |
LensID (1) | 243 |
LensID | Canon EF 70-200mm f/4L IS USM + 1.4x |
LensInfo | 98-280mm f/? |
LensManualDistortionAmount | 0 |
LensModel | EF70-200mm f/4L IS USM +1.4x |
LensProfileEnable | 0 |
LensProfileSetup | LensDefaults |
LightValue | 13.0 |
LuminanceAdjustmentAqua | 0 |
LuminanceAdjustmentBlue | 0 |
LuminanceAdjustmentGreen | 0 |
LuminanceAdjustmentMagenta | 0 |
LuminanceAdjustmentOrange | 0 |
LuminanceAdjustmentPurple | 0 |
LuminanceAdjustmentRed | 0 |
LuminanceAdjustmentYellow | 0 |
LuminanceNoiseReductionContrast | 0 |
LuminanceNoiseReductionDetail | 50 |
LuminanceSmoothing | 39 |
Make | Canon |
MaxApertureValue | 5.7 |
Megapixels | 0.776 |
MeteringMode | Multi-segment |
Model | Canon EOS 40D |
ModifyDate (1) | 2011:04:28 21:54:31+02:00 |
ModifyDate | 2011:04:28 21:54:31 |
PaintCorrectionActive | true |
PaintCorrectionAmount | 1.000000 |
PaintCorrectionBrightness | -0.097000 |
PaintCorrectionClarity | -1.000000 |
PaintCorrectionContrast | 1.000000 |
PaintCorrectionExposure | -0.080000 |
PaintCorrectionHue | 11.000000 |
PaintCorrectionMaskCenterWeight | 0.000000 |
PaintCorrectionMaskFlow | 1.000000 |
PaintCorrectionMaskRadius | 0.070053 |
PaintCorrectionMaskValue | 1.000000 |
PaintCorrectionMaskWhat | Mask/Paint |
PaintCorrectionSaturation (1) | 0.000000 |
PaintCorrectionSaturation | 0.030000 |
PaintCorrectionSharpness | -1.000000 |
PaintCorrectionWhat | Correction |
ParametricDarks | 0 |
ParametricHighlights | 0 |
ParametricHighlightSplit | 75 |
ParametricLights | 0 |
ParametricMidtoneSplit | 50 |
ParametricShadows | 0 |
ParametricShadowSplit | 25 |
PerspectiveHorizontal | 0 |
PerspectiveRotate | 0.0 |
PerspectiveScale | 100 |
PerspectiveVertical | 0 |
PostCropVignetteAmount | 0 |
ProcessVersion | 5.7 |
ProfileDescription | sRGB IEC61966-2.1 |
RedHue | 0 |
RedSaturation | 0 |
Saturation | +18 |
SaturationAdjustmentAqua | 0 |
SaturationAdjustmentBlue | 0 |
SaturationAdjustmentGreen | 0 |
SaturationAdjustmentMagenta | 0 |
SaturationAdjustmentOrange | 0 |
SaturationAdjustmentPurple | 0 |
SaturationAdjustmentRed | 0 |
SaturationAdjustmentYellow | 0 |
ScaleFactor35efl | 1.6 |
SceneCaptureType | Standard |
SensitivityType | Unknown |
SerialNumber | 1430732253 |
Shadows | 5 |
ShadowTint | 0 |
SharpenDetail | 25 |
SharpenEdgeMasking | 0 |
SharpenRadius | +1.0 |
Sharpness | 63 |
ShutterSpeed | 1/640 |
ShutterSpeedValue | 1/640 |
SplitToningBalance | 0 |
SplitToningHighlightHue | 0 |
SplitToningHighlightSaturation | 0 |
SplitToningShadowHue | 0 |
SplitToningShadowSaturation | 0 |
SubjectDistance | 1.39 m |
Tint | -1 |
ToneCurve | 0, 0, 32, 22, 64, 56, 128, 128, 192, 196, 255, 255 |
ToneCurveName | Medium Contrast |
Version | 6.2 |
Vibrance | +23 |
VignetteAmount | 0 |
WhiteBalance (2) | Custom |
WhiteBalance | Auto |