Felt | Verdi |
AlreadyApplied | True |
Aperture | 22.0 |
ApertureValue | 22.0 |
Artist | Bjørn Furuseth |
BitsPerSample | 8 |
BlueHue | 0 |
BlueSaturation | 0 |
Brightness | +50 |
By-line | Bjørn Furuseth |
CameraProfile | Adobe Standard |
CFAPattern | [Red,Green][Green,Blue] |
ChromaticAberrationB | 0 |
ChromaticAberrationR | 0 |
CircleOfConfusion | 0.030 mm |
Clarity | +31 |
ColorComponents | 3 |
ColorMode | RGB |
ColorNoiseReduction | 25 |
ColorNoiseReductionDetail | 50 |
ColorSpace | sRGB |
ColorTemperature | 4450 |
Contrast (1) | +25 |
Contrast | Normal |
ConvertToGrayscale | False |
Copyright | Bjørn Furuseth |
CopyrightFlag | True |
CopyrightNotice | Bjørn Furuseth |
CreateDate (1) | 2011:04:30 12:58:09.56+02:00 |
CreateDate | 2011:04:30 12:58:09 |
Creator | Bjørn Furuseth |
CreatorAddress | Vestlivegen 19 |
CreatorCity | Geilo |
CreatorCountry | Norge |
CreatorPostalCode | 3580 |
CreatorTool | Ver.1.02 |
CreatorWorkEmail | furufisk@online.no |
CreatorWorkURL | WWW.GEILONATURFOTO.COM |
CropAngle | 0 |
CropBottom | 0.904306 |
CropLeft | 0 |
CropRight | 0.866028 |
CropTop | 0.038277 |
CustomRendered | Normal |
DateCreated (1) | 2011:04:30 |
DateCreated | 2011:04:30 12:58:09.056 |
DateTimeOriginal | 2011:04:30 12:58:09 |
Defringe | 0 |
DigitalZoomRatio | 1 |
DOF | 0.10 m (1.36 - 1.46 m) |
ExifImageHeight | 689 |
ExifImageWidth | 1030 |
Exposure | 0.00 |
ExposureCompensation | 0 |
ExposureMode | Auto |
ExposureProgram | Aperture-priority AE |
ExposureTime | 1/60 |
FillLight | 0 |
Flash | No Flash |
FNumber | 22.0 |
FocalLength | 150.0 mm |
FocalLength35efl | 150.0 mm (35 mm equivalent: 150.0 mm) |
FocalLengthIn35mmFormat | 150 mm |
Format | image/jpeg |
FOV | 13.7 deg |
GainControl | None |
GrainAmount | 0 |
GreenHue | 0 |
GreenSaturation | 0 |
HasCrop | True |
HasSettings | True |
HierarchicalSubject | NO-GENERELL_ver21/04/2009_@NATURFOKUS|GEOGRAFI / STEDSNAVN|Europa|Nord-Europa|Norge|Vestlandet|Hordaland|Eidfjord kommune|Hardangervidda, NO-GENERELL_ver21/04/2009_@NATURFOKUS|Lemen |
HighlightRecovery | 0 |
HueAdjustmentAqua | 0 |
HueAdjustmentBlue | 0 |
HueAdjustmentGreen | 0 |
HueAdjustmentMagenta | 0 |
HueAdjustmentOrange | 0 |
HueAdjustmentPurple | 0 |
HueAdjustmentRed | 0 |
HueAdjustmentYellow | 0 |
HyperfocalDistance | 34.04 m |
ICCProfileName | sRGB IEC61966-2.1 |
ImageHeight | 689 |
ImageNumber | 14863 |
ImageSize | 1030x689 |
ImageWidth | 1030 |
ISO | 200 |
Keywords | Eidfjord kommune, Europa, GEOGRAFI / STEDSNAVN, Hardangervidda, Hordaland, Lemen, NO-GENERELL_ver21/04/2009_@NATURFOKUS, Nord-Europa, Norge, Vestlandet |
Label | |
Lens | 150.0 mm f/2.8 |
LensID (1) | 72 |
LensID | Sigma APO Macro 150mm F2.8 EX DG HSM |
LensInfo | 150mm f/2.8 |
LightSource | Unknown |
LightValue | 13.8 |
LuminanceAdjustmentAqua | 0 |
LuminanceAdjustmentBlue | 0 |
LuminanceAdjustmentGreen | 0 |
LuminanceAdjustmentMagenta | 0 |
LuminanceAdjustmentOrange | 0 |
LuminanceAdjustmentPurple | 0 |
LuminanceAdjustmentRed | 0 |
LuminanceAdjustmentYellow | 0 |
LuminanceSmoothing | 0 |
Make | NIKON CORPORATION |
Marked | True |
MaxApertureValue | 2.8 |
Megapixels | 0.710 |
MeteringMode | Multi-segment |
Model | NIKON D700 |
ModifyDate (1) | 2011:04:30 17:38:14+02:00 |
ModifyDate | 2011:04:30 17:38:14 |
Orientation | Horizontal (normal) |
ParametricDarks | 0 |
ParametricHighlights | 0 |
ParametricHighlightSplit | 75 |
ParametricLights | 0 |
ParametricMidtoneSplit | 50 |
ParametricShadows | 0 |
ParametricShadowSplit | 25 |
PostCropVignetteAmount | 0 |
ProcessVersion | 5.7 |
ProfileDescription | sRGB IEC61966-2.1 |
Rating | 0 |
RawFileName | 20110430-084.NEF |
RedHue | 0 |
RedSaturation | 0 |
Rights | Bjørn Furuseth |
Saturation (1) | +22 |
Saturation | Normal |
SaturationAdjustmentAqua | 0 |
SaturationAdjustmentBlue | 0 |
SaturationAdjustmentGreen | 0 |
SaturationAdjustmentMagenta | 0 |
SaturationAdjustmentOrange | 0 |
SaturationAdjustmentPurple | 0 |
SaturationAdjustmentRed | 0 |
SaturationAdjustmentYellow | 0 |
ScaleFactor35efl | 1.0 |
SceneCaptureType | Standard |
SceneType | Directly photographed |
SensingMethod | One-chip color area |
SerialNumber | 2351997 |
Shadows | 5 |
ShadowTint | 0 |
SharpenDetail | 25 |
SharpenEdgeMasking | 0 |
SharpenRadius | +1.0 |
Sharpness (1) | 25 |
Sharpness | Normal |
ShutterSpeed | 1/60 |
ShutterSpeedValue | 1/60 |
Software | Adobe Photoshop CS5 Windows |
SplitToningBalance | 0 |
SplitToningHighlightHue | 0 |
SplitToningHighlightSaturation | 0 |
SplitToningShadowHue | 0 |
SplitToningShadowSaturation | 0 |
Subject | Eidfjord kommune, Europa, GEOGRAFI / STEDSNAVN, Hardangervidda, Hordaland, Lemen, NO-GENERELL_ver21/04/2009_@NATURFOKUS, Nord-Europa, Norge, Vestlandet |
SubjectDistance | 1.41 m |
SubjectDistanceRange | Unknown |
Tint | -6 |
ToneCurve | 0, 0, 32, 22, 64, 56, 128, 128, 192, 196, 255, 255 |
ToneCurveName | Medium Contrast |
URL_List | |
Version | 6.0 |
Vibrance | +26 |
VignetteAmount | 0 |
WhiteBalance (1) | As Shot |
WhiteBalance | Auto |