Felt | Verdi |
AlreadyApplied | True |
Aperture | 8.0 |
ApertureValue | 8.0 |
ApproximateFocusDistance | 0.22 |
Artist | David A. Strand |
BitsPerSample | 8 |
BlueHue | 0 |
BlueSaturation | 0 |
Brightness | 0 |
By-line | David A. Strand |
CameraProfile | Adobe Standard |
ChromaticAberrationB | 0 |
ChromaticAberrationR | 0 |
CircleOfConfusion | 0.006 mm |
Clarity | +68 |
ColorComponents | 3 |
ColorNoiseReduction | 25 |
ColorNoiseReductionDetail | 50 |
ColorTemperature | 5950 |
Contrast | +50 |
ConvertToGrayscale | False |
Copyright | David A. Strand |
CopyrightFlag | True |
CopyrightNotice | David A. Strand |
CreateDate | 2011:06:28 21:07:32 |
Creator | David A. Strand |
CreatorAddress | A. O. Vinjesvei 15 |
CreatorCity | Moss |
CreatorCountry | Norway |
CreatorPostalCode | 1511 |
CreatorTool | Adobe Photoshop Lightroom 3.4.1 |
CreatorWorkEmail | davidonius@hotmail.com |
CreatorWorkTelephone | +4747623716 |
CreatorWorkURL | www.dastrand.com |
CropAngle | 0 |
CropBottom | 0.789157 |
CropConstrainToWarp | 0 |
CropHeight | 572 |
CropLeft | 0 |
CropRight | 0.828249 |
CropTop | 0 |
CropUnit | pixels |
CropWidth | 800 |
CustomRendered | Normal |
DateCreated (1) | 2011:06:28 |
DateCreated | 2011:06:28 21:07:32 |
DateTimeOriginal | 2011:06:28 21:07:32 |
Defringe | 0 |
DigitalZoomRatio | 1 |
DOF | 0.013 m (0.214 - 0.227 m) |
Exposure | +1.25 |
ExposureCompensation | 0 |
ExposureMode | Auto |
ExposureTime | 1/60 |
FillLight | 0 |
Firmware | 1.00 |
Flash | On, Red-eye reduction |
FlashCompensation | 0 |
FNumber | 8.0 |
FocalLength | 18.9 mm |
FocalLength35efl | 18.9 mm (35 mm equivalent: 88.4 mm) |
FOV | 23.0 deg |
GrainAmount | 0 |
GreenHue | 0 |
GreenSaturation | 0 |
HasCrop | True |
HasSettings | True |
HighlightRecovery | 0 |
HueAdjustmentAqua | 0 |
HueAdjustmentBlue | 0 |
HueAdjustmentGreen | 0 |
HueAdjustmentMagenta | 0 |
HueAdjustmentOrange | 0 |
HueAdjustmentPurple | 0 |
HueAdjustmentRed | 0 |
HueAdjustmentYellow | 0 |
HyperfocalDistance | 6.94 m |
ImageHeight | 572 |
ImageSize | 800x572 |
ImageWidth | 800 |
ISO | 80 |
Lens | 7.4-44.4 mm |
LensInfo | 7.4-44.4mm f/? |
LensManualDistortionAmount | 0 |
LensModel | 7.4-44.4 mm |
LensProfileEnable | 0 |
LensProfileSetup | LensDefaults |
LightValue | 12.2 |
LuminanceAdjustmentAqua | 0 |
LuminanceAdjustmentBlue | 0 |
LuminanceAdjustmentGreen | 0 |
LuminanceAdjustmentMagenta | 0 |
LuminanceAdjustmentOrange | 0 |
LuminanceAdjustmentPurple | 0 |
LuminanceAdjustmentRed | 0 |
LuminanceAdjustmentYellow | 0 |
LuminanceSmoothing | 0 |
Make | Canon |
Marked | True |
MaxApertureValue | 3.5 |
Megapixels | 0.458 |
MeteringMode | Multi-segment |
Model | Canon PowerShot G9 |
ModifyDate (1) | 2011:07:01 23:56:00+02:00 |
ModifyDate | 2011:07:01 23:56:00 |
ParametricDarks | +100 |
ParametricHighlights | -22 |
ParametricHighlightSplit | 75 |
ParametricLights | 0 |
ParametricMidtoneSplit | 50 |
ParametricShadows | -16 |
ParametricShadowSplit | 25 |
PerspectiveHorizontal | 0 |
PerspectiveRotate | 0.0 |
PerspectiveScale | 100 |
PerspectiveVertical | 0 |
PostCropVignetteAmount | -40 |
PostCropVignetteFeather | 50 |
PostCropVignetteHighlightContrast | 0 |
PostCropVignetteMidpoint | 50 |
PostCropVignetteRoundness | 0 |
PostCropVignetteStyle | 1 |
ProcessVersion | 5.7 |
ProfileDescription | sRGB IEC61966-2.1 |
RedHue | 0 |
RedSaturation | 0 |
Rights | David A. Strand |
Saturation | 0 |
SaturationAdjustmentAqua | 0 |
SaturationAdjustmentBlue | 0 |
SaturationAdjustmentGreen | 0 |
SaturationAdjustmentMagenta | 0 |
SaturationAdjustmentOrange | 0 |
SaturationAdjustmentPurple | 0 |
SaturationAdjustmentRed | 0 |
SaturationAdjustmentYellow | 0 |
ScaleFactor35efl | 4.7 |
SceneCaptureType | Standard |
SensingMethod | One-chip color area |
Shadows | 20 |
ShadowTint | 0 |
SharpenDetail | 25 |
SharpenEdgeMasking | 69 |
SharpenRadius | +1.0 |
Sharpness | 71 |
ShutterSpeed | 1/60 |
ShutterSpeedValue | 1/60 |
Software | Adobe Photoshop Lightroom 3.4.1 |
SplitToningBalance | 0 |
SplitToningHighlightHue | 0 |
SplitToningHighlightSaturation | 0 |
SplitToningShadowHue | 0 |
SplitToningShadowSaturation | 0 |
SubjectDistance | 0.22 m |
Tint | +15 |
ToneCurve | 0, 0, 32, 22, 64, 56, 128, 128, 192, 196, 255, 255 |
ToneCurveName | Medium Contrast |
Version | 6.4.1 |
Vibrance | +20 |
VignetteAmount | 0 |
WhiteBalance (1) | As Shot |
WhiteBalance | Auto |