Felt | Verdi |
AlreadyApplied | True |
Aperture | 5.0 |
ApertureValue | 5.0 |
ApproximateFocusDistance | 3.98 |
BitsPerSample | 8 |
BlueHue | -44 |
BlueSaturation | +33 |
Brightness | 0 |
CameraProfile | Embedded |
CFAPattern | [Red,Green][Green,Blue] |
ChromaticAberrationB | 0 |
ChromaticAberrationR | 0 |
CircleOfConfusion | 0.030 mm |
Clarity | +30 |
ColorComponents | 3 |
ColorNoiseReduction | 0 |
ColorTemperature | 4800 |
Contrast (1) | +81 |
Contrast | Normal |
ConvertToGrayscale | False |
CreateDate (1) | 2011:08:27 16:05:22.08 |
CreateDate | 2011:08:27 16:05:22 |
CreatorTool | Adobe Photoshop Lightroom 3.4.1 |
CropAngle | 0 |
CropBottom | 1 |
CropConstrainToWarp | 0 |
CropHeight | 552 |
CropLeft | 0 |
CropRight | 1 |
CropTop | 0.170213 |
CropUnit | pixels |
CropWidth | 1000 |
CustomRendered | Normal |
DateCreated (1) | 2011:08:27 |
DateCreated | 2011:08:27 16:05:22.08 |
DateTimeOriginal | 2011:08:27 16:05:22 |
Defringe | 0 |
DigitalZoomRatio | 1 |
DOF | 0.65 m (3.68 - 4.33 m) |
Exposure | 0.00 |
ExposureCompensation | 0 |
ExposureMode | Manual |
ExposureProgram | Manual |
ExposureTime | 1/320 |
FillLight | 36 |
Flash | No Flash |
FNumber | 5.0 |
FocalLength | 85.0 mm |
FocalLength35efl | 85.0 mm (35 mm equivalent: 85.0 mm) |
FocalLengthIn35mmFormat | 85 mm |
FOV | 23.9 deg |
GainControl | None |
GradientBasedCorrActive | true |
GradientBasedCorrAmount | 1.000000 |
GradientBasedCorrBrightness | 0.000000 |
GradientBasedCorrClarity | 0.000000 |
GradientBasedCorrContrast | 0.000000 |
GradientBasedCorrExposure (1) | -0.576471 |
GradientBasedCorrExposure (2) | -0.152941 |
GradientBasedCorrExposure (3) | 0.247059 |
GradientBasedCorrExposure | 0.082353 |
GradientBasedCorrHue | 0.000000 |
GradientBasedCorrMaskFullX (1) | 0.507075 |
GradientBasedCorrMaskFullX (2) | 0.982311 |
GradientBasedCorrMaskFullX (3) | 0.478774 |
GradientBasedCorrMaskFullX | 0.003538 |
GradientBasedCorrMaskFullY (1) | 0.113475 |
GradientBasedCorrMaskFullY (2) | 0.303191 |
GradientBasedCorrMaskFullY (3) | 0.976950 |
GradientBasedCorrMaskFullY | 0.787234 |
GradientBasedCorrMaskValue | 1.000000 |
GradientBasedCorrMaskWhat | Mask/Gradient |
GradientBasedCorrMaskZeroX (1) | 0.499559 |
GradientBasedCorrMaskZeroX (2) | 0.708726 |
GradientBasedCorrMaskZeroX (3) | 0.477594 |
GradientBasedCorrMaskZeroX | 0.141509 |
GradientBasedCorrMaskZeroY (1) | 0.540669 |
GradientBasedCorrMaskZeroY (2) | 0.609929 |
GradientBasedCorrMaskZeroY (3) | 0.723404 |
GradientBasedCorrMaskZeroY | 0.586879 |
GradientBasedCorrSaturation (1) | -0.011765 |
GradientBasedCorrSaturation | 0.000000 |
GradientBasedCorrSharpness | 0.000000 |
GradientBasedCorrWhat | Correction |
GrainAmount | 0 |
GreenHue | +46 |
GreenSaturation | 0 |
HasCrop | True |
HasSettings | True |
HighlightRecovery | 0 |
HueAdjustmentAqua | 0 |
HueAdjustmentBlue | 0 |
HueAdjustmentGreen | 0 |
HueAdjustmentMagenta | 0 |
HueAdjustmentOrange | 0 |
HueAdjustmentPurple | 0 |
HueAdjustmentRed | 0 |
HueAdjustmentYellow | 0 |
HyperfocalDistance | 48.09 m |
ImageHeight | 552 |
ImageNumber | 20298 |
ImageSize | 1000x552 |
ImageWidth | 1000 |
ISO | 280 |
Keywords | bryllup 27aug2011 |
Lens | 85.0 mm f/1.4 |
LensID (1) | 155 |
LensID | Sigma 85mm F1.4 EX DG HSM |
LensInfo | 85mm f/1.4 |
LensManualDistortionAmount | 0 |
LensModel | 85.0 mm f/1.4 |
LensProfileEnable | 0 |
LensProfileSetup | LensDefaults |
LightSource | Unknown |
LightValue | 11.5 |
LuminanceAdjustmentAqua | 0 |
LuminanceAdjustmentBlue | 0 |
LuminanceAdjustmentGreen | 0 |
LuminanceAdjustmentMagenta | 0 |
LuminanceAdjustmentOrange | 0 |
LuminanceAdjustmentPurple | 0 |
LuminanceAdjustmentRed | 0 |
LuminanceAdjustmentYellow | 0 |
LuminanceSmoothing | 0 |
Make | NIKON CORPORATION |
MaxApertureValue | 1.4 |
Megapixels | 0.552 |
MeteringMode | Center-weighted average |
Model | NIKON D700 |
ModifyDate (1) | 2011:09:05 01:45:07+02:00 |
ModifyDate | 2011:09:05 01:45:07 |
PaintCorrectionActive | true |
PaintCorrectionAmount | 1.000000 |
PaintCorrectionBrightness | 0.000000 |
PaintCorrectionClarity | 0.000000 |
PaintCorrectionContrast | 0.000000 |
PaintCorrectionExposure (1) | 0.152941 |
PaintCorrectionExposure (3) | 0.200000 |
PaintCorrectionExposure | 0.058824 |
PaintCorrectionHue | 0.000000 |
PaintCorrectionMaskCenterWeight | 0.000000 |
PaintCorrectionMaskFlow | 1.000000 |
PaintCorrectionMaskRadius (16) | 0.028049 |
PaintCorrectionMaskRadius (2) | 0.005589 |
PaintCorrectionMaskRadius (3) | 0.024353 |
PaintCorrectionMaskRadius (6) | 0.047986 |
PaintCorrectionMaskRadius | 0.025963 |
PaintCorrectionMaskValue | 1.000000 |
PaintCorrectionMaskWhat | Mask/Paint |
PaintCorrectionSaturation (5) | 0.623529 |
PaintCorrectionSaturation (7) | -0.011765 |
PaintCorrectionSaturation | 0.000000 |
PaintCorrectionSharpness | 0.000000 |
PaintCorrectionWhat | Correction |
ParametricDarks | +52 |
ParametricHighlights | 0 |
ParametricHighlightSplit | 90 |
ParametricLights | 0 |
ParametricMidtoneSplit | 59 |
ParametricShadows | 0 |
ParametricShadowSplit | 10 |
PerspectiveHorizontal | 0 |
PerspectiveRotate | 0.0 |
PerspectiveScale | 100 |
PerspectiveVertical | 0 |
PostCropVignetteAmount | -7 |
PostCropVignetteFeather | 50 |
PostCropVignetteHighlightContrast | 0 |
PostCropVignetteMidpoint | 50 |
PostCropVignetteRoundness | 0 |
PostCropVignetteStyle | 1 |
ProcessVersion | 5.7 |
ProfileDescription | sRGB IEC61966-2.1 |
RedHue | +49 |
RedSaturation | 0 |
Saturation (1) | -16 |
Saturation | Normal |
SaturationAdjustmentAqua | -14 |
SaturationAdjustmentBlue | -14 |
SaturationAdjustmentGreen | -14 |
SaturationAdjustmentMagenta | -14 |
SaturationAdjustmentOrange | -12 |
SaturationAdjustmentPurple | -14 |
SaturationAdjustmentRed | -12 |
SaturationAdjustmentYellow | -13 |
ScaleFactor35efl | 1.0 |
SceneCaptureType | Standard |
SceneType | Directly photographed |
SensingMethod | One-chip color area |
SerialNumber | 2042362 |
Shadows | 10 |
ShadowTint | 0 |
SharpenDetail | 25 |
SharpenEdgeMasking | 0 |
SharpenRadius | +1.0 |
Sharpness (1) | 0 |
Sharpness | Normal |
ShutterSpeed | 1/320 |
ShutterSpeedValue | 1/320 |
Software | Adobe Photoshop Lightroom 3.4.1 |
SplitToningBalance | 0 |
SplitToningHighlightHue | 78 |
SplitToningHighlightSaturation | 28 |
SplitToningShadowHue | 236 |
SplitToningShadowSaturation | 31 |
Subject | bryllup 27aug2011 |
SubjectDistance | 3.98 m |
SubjectDistanceRange | Unknown |
Tint | -1 |
ToneCurve | 0, 0, 255, 255 |
ToneCurveName | Linear |
Version | 6.4.1 |
Vibrance | +21 |
VignetteAmount | -69 |
VignetteMidpoint | 17 |
WhiteBalance (1) | As Shot |
WhiteBalance | Auto |