Felt | Verdi |
AlreadyApplied | True |
Aperture | 4.0 |
ApertureValue | 4.0 |
ApproximateFocusDistance | 3.72 |
BitsPerSample (1) | 8 8 8 |
BitsPerSample | 8 |
BlueHue | 0 |
BlueSaturation | 0 |
Brightness | +58 |
CameraProfile | Adobe Standard |
ChromaticAberrationB | 0 |
ChromaticAberrationR | 0 |
CircleOfConfusion | 0.019 mm |
Clarity | +42 |
ColorComponents | 3 |
ColorMode | RGB |
ColorNoiseReduction | 47 |
ColorNoiseReductionDetail | 50 |
ColorSpace | sRGB |
ColorTemperature | 3880 |
Contrast | +48 |
ConvertToGrayscale | False |
CreateDate (1) | 2010:10:02 17:20:59.42+02:00 |
CreateDate | 2010:10:02 17:20:59 |
CreatorTool | Adobe Photoshop Lightroom 3.4.1 |
CropAngle | 1.91208 |
CropBottom | 1 |
CropConstrainToWarp | 0 |
CropHeight | 808 |
CropLeft | 0.125432 |
CropRight | 0.956168 |
CropTop | 0.001629 |
CropUnit | pixels |
CropWidth | 1080 |
CustomRendered | Normal |
DateCreated (1) | 2010:10:02 |
DateCreated | 2010:10:02 17:20:59.042+02:00 |
DateTimeOriginal | 2010:10:02 17:20:59 |
Defringe | 0 |
DOF | 190.40 m (1.88 - 192.27 m) |
ExifImageHeight | 1080 |
ExifImageWidth | 808 |
Exposure | 0.00 |
ExposureCompensation | 0 |
ExposureMode | Manual |
ExposureProgram | Manual |
ExposureTime | 1/400 |
FillLight | 0 |
Firmware | 1.2.2 |
Flash | Off, Did not fire |
FlashCompensation | 0 |
FNumber | 4.0 |
FocalLength | 17.0 mm |
FocalLength35efl | 17.0 mm (35 mm equivalent: 26.7 mm) |
Format | image/jpeg |
FOV | 68.0 deg |
GradientBasedCorrActive | true |
GradientBasedCorrAmount | 1.000000 |
GradientBasedCorrBrightness | 0.000000 |
GradientBasedCorrClarity | 0.000000 |
GradientBasedCorrContrast | 0.000000 |
GradientBasedCorrExposure | 0.000000 |
GradientBasedCorrHue (1) | 56.000000 |
GradientBasedCorrHue | 54.000000 |
GradientBasedCorrMaskFullX (1) | 0.514863 |
GradientBasedCorrMaskFullX | 0.508918 |
GradientBasedCorrMaskFullY (1) | 0.000000 |
GradientBasedCorrMaskFullY | 1.030190 |
GradientBasedCorrMaskValue | 1.000000 |
GradientBasedCorrMaskWhat | Mask/Gradient |
GradientBasedCorrMaskZeroX (1) | 0.514863 |
GradientBasedCorrMaskZeroX | 0.508918 |
GradientBasedCorrMaskZeroY (1) | 1.007100 |
GradientBasedCorrMaskZeroY | -0.079929 |
GradientBasedCorrSaturation (1) | 0.000000 |
GradientBasedCorrSaturation (2) | 0.580000 |
GradientBasedCorrSaturation | 0.270000 |
GradientBasedCorrSharpness | 0.000000 |
GradientBasedCorrWhat | Correction |
GrainAmount | 0 |
GreenHue | 0 |
GreenSaturation | 0 |
HasCrop | True |
HasSettings | True |
HighlightRecovery | 64 |
HueAdjustmentAqua | 0 |
HueAdjustmentBlue | 0 |
HueAdjustmentGreen | 0 |
HueAdjustmentMagenta | 0 |
HueAdjustmentOrange | 0 |
HueAdjustmentPurple | 0 |
HueAdjustmentRed | 0 |
HueAdjustmentYellow | +47 |
HyperfocalDistance | 3.78 m |
ICCProfileName | sRGB IEC61966-2.1 |
ImageHeight | 1080 |
ImageNumber | 0 |
ImageSize | 808x1080 |
ImageWidth | 808 |
ISO | 200 |
Lens | EF17-40mm f/4L USM |
LensID (1) | 231 |
LensID | Canon EF 17-40mm f/4L USM |
LensInfo | 17-40mm f/? |
LensManualDistortionAmount | 0 |
LensModel | EF17-40mm f/4L USM |
LensProfileEnable | 0 |
LensProfileSetup | LensDefaults |
LightValue | 11.6 |
LuminanceAdjustmentAqua | 0 |
LuminanceAdjustmentBlue | +47 |
LuminanceAdjustmentGreen | +23 |
LuminanceAdjustmentMagenta | 0 |
LuminanceAdjustmentOrange | +17 |
LuminanceAdjustmentPurple | 0 |
LuminanceAdjustmentRed | +8 |
LuminanceAdjustmentYellow | +78 |
LuminanceNoiseReductionContrast | 0 |
LuminanceNoiseReductionDetail | 50 |
LuminanceSmoothing | 19 |
Make | Canon |
MaxApertureValue | 4.0 |
Megapixels | 0.873 |
MeteringMode | Multi-segment |
Model | Canon EOS 7D |
ModifyDate (1) | 2011:09:30 00:17:49+02:00 |
ModifyDate | 2011:09:30 00:17:49 |
Orientation | Horizontal (normal) |
PaintCorrectionActive | true |
PaintCorrectionAmount | 1.000000 |
PaintCorrectionBrightness | 0.000000 |
PaintCorrectionClarity | 0.270588 |
PaintCorrectionContrast | 0.000000 |
PaintCorrectionExposure (1) | 0.172702 |
PaintCorrectionExposure | 0.052941 |
PaintCorrectionHue | 0.000000 |
PaintCorrectionMaskCenterWeight | 0.000000 |
PaintCorrectionMaskFlow | 0.551673 |
PaintCorrectionMaskRadius (11) | 0.033291 |
PaintCorrectionMaskRadius (2) | 0.092649 |
PaintCorrectionMaskRadius (6) | 0.083727 |
PaintCorrectionMaskRadius | 0.066325 |
PaintCorrectionMaskValue (13) | 0.108612 |
PaintCorrectionMaskValue (3) | 0.425377 |
PaintCorrectionMaskValue (5) | 0.090113 |
PaintCorrectionMaskValue (7) | 0.205864 |
PaintCorrectionMaskValue | 0.048087 |
PaintCorrectionMaskWhat | Mask/Paint |
PaintCorrectionSaturation (1) | 0.364706 |
PaintCorrectionSaturation | 0.000000 |
PaintCorrectionSharpness | 0.000000 |
PaintCorrectionWhat | Correction |
ParametricDarks | +63 |
ParametricHighlights | +76 |
ParametricHighlightSplit | 75 |
ParametricLights | +44 |
ParametricMidtoneSplit | 50 |
ParametricShadows | -7 |
ParametricShadowSplit | 25 |
PerspectiveHorizontal | 0 |
PerspectiveRotate | 0.0 |
PerspectiveScale | 100 |
PerspectiveVertical | 0 |
PhotometricInterpretation | RGB |
PostCropVignetteAmount | -27 |
PostCropVignetteFeather | 70 |
PostCropVignetteHighlightContrast | 0 |
PostCropVignetteMidpoint | 26 |
PostCropVignetteRoundness | 0 |
PostCropVignetteStyle | 1 |
ProcessVersion | 5.7 |
ProfileDescription | sRGB IEC61966-2.1 |
RedHue | 0 |
RedSaturation | 0 |
Saturation | 0 |
SaturationAdjustmentAqua | -15 |
SaturationAdjustmentBlue | +56 |
SaturationAdjustmentGreen | +19 |
SaturationAdjustmentMagenta | 0 |
SaturationAdjustmentOrange | 0 |
SaturationAdjustmentPurple | 0 |
SaturationAdjustmentRed | +17 |
SaturationAdjustmentYellow | +60 |
ScaleFactor35efl | 1.6 |
SceneCaptureType | Standard |
SerialNumber | 1380809962 |
Shadows | 3 |
ShadowTint | 0 |
SharpenDetail | 25 |
SharpenEdgeMasking | 0 |
SharpenRadius | +1.0 |
Sharpness | 25 |
ShutterSpeed | 1/400 |
ShutterSpeedValue | 1/400 |
Software | Adobe Photoshop CS5 Macintosh |
SplitToningBalance | +34 |
SplitToningHighlightHue | 67 |
SplitToningHighlightSaturation | 46 |
SplitToningShadowHue | 205 |
SplitToningShadowSaturation | 63 |
SubjectDistance | 3.72 m |
Tint | +21 |
ToneCurve | 0, 0, 32, 22, 64, 56, 128, 128, 192, 192, 255, 255 |
ToneCurveName | Custom |
URL_List | |
Version | 6.4.1 |
Vibrance | 0 |
VignetteAmount | -100 |
VignetteMidpoint | 0 |
WhiteBalance (1) | Custom |
WhiteBalance | Auto |