Felt | Verdi |
AlreadyApplied | True |
Aperture | 4.5 |
ApertureValue | 4.5 |
ApproximateFocusDistance | 2.1 |
Artist | David Olsen |
AuthorsPosition | Senior Engineer |
BitsPerSample | 8 |
BlueHue | -8 |
BlueSaturation | +17 |
Brightness | +88 |
By-line | Jan Sæbø |
By-lineTitle | Senior Engineer |
CameraProfile | Camera Standard |
ChromaticAberrationB | 0 |
ChromaticAberrationR | 0 |
CircleOfConfusion | 0.019 mm |
Clarity | +75 |
ColorComponents | 3 |
ColorNoiseReduction | 75 |
ColorNoiseReductionDetail | 50 |
ColorTemperature | 4100 |
Contrast | +25 |
ConvertToGrayscale | False |
Copyright | Copyright @ 2011 Jan Saebo |
CopyrightFlag | True |
CopyrightNotice | Copyright @ 2011 Jan Sæbø |
CreateDate (1) | 2011:10:15 13:37:38.00+02:00 |
CreateDate | 2011:10:15 13:37:38 |
Creator | Jan Sæbø |
CreatorAddress | Roald Amundsens Vei 95 |
CreatorCity | Bergen |
CreatorCountry | Norway |
CreatorPostalCode | 5067 |
CreatorTool | Adobe Photoshop Lightroom 3.3 |
CreatorWorkEmail | jansabo@gmail.com |
CreatorWorkTelephone | +47 977 65 709 |
CreatorWorkURL | jansabo.foto.no |
CropAngle | 0 |
CropBottom | 0.875622 |
CropConstrainToWarp | 0 |
CropHeight | 3026 |
CropLeft | 0.222222 |
CropRight | 1 |
CropTop | 0 |
CropUnit | pixels |
CropWidth | 4032 |
CustomRendered | Normal |
DateTimeDigitized | 2011:10:15 13:37:38.00+02:00 |
DateTimeOriginal (1) | 2011:10:15 13:37:38.00+02:00 |
DateTimeOriginal | 2011:10:15 13:37:38 |
Defringe | 0 |
DOF | 0.017 m (2.091 - 2.109 m) |
ExifImageHeight | 3026 |
ExifImageWidth | 4032 |
Exposure | -0.14 |
ExposureCompensation | 0 |
ExposureMode | Manual |
ExposureProgram | Manual |
ExposureTime | 1/250 |
FillLight | 0 |
Firmware | 1.2.5 |
Flash | Off, Did not fire |
FlashCompensation | 0 |
FlashFired | False |
FlashFunction | False |
FlashMode | Off |
FlashRedEyeMode | False |
FlashReturn | No return detection |
FNumber | 4.5 |
FocalLength | 200.0 mm |
FocalLength35efl | 200.0 mm (35 mm equivalent: 314.1 mm) |
FOV | 6.6 deg |
GrainAmount | 0 |
GreenHue | -15 |
GreenSaturation | +10 |
HasCrop | True |
HasSettings | True |
HighlightRecovery | 11 |
HueAdjustmentAqua | 0 |
HueAdjustmentBlue | 0 |
HueAdjustmentGreen | 0 |
HueAdjustmentMagenta | 0 |
HueAdjustmentOrange | 0 |
HueAdjustmentPurple | 0 |
HueAdjustmentRed | 0 |
HueAdjustmentYellow | 0 |
HyperfocalDistance | 464.57 m |
ImageHeight | 3026 |
ImageNumber | 0 |
ImageSize | 4032x3026 |
ImageWidth | 4032 |
ISO | 400 |
Keywords | Sofia, tidlig høst |
Lens | EF70-200mm f/4L IS USM |
LensID (1) | 242 |
LensID | Canon EF 70-200mm f/4L IS USM |
LensInfo | 70-200mm f/? |
LensManualDistortionAmount | 0 |
LensModel | EF70-200mm f/4L IS USM |
LensProfileEnable | 0 |
LensProfileSetup | LensDefaults |
LightValue | 10.3 |
LuminanceAdjustmentAqua | 0 |
LuminanceAdjustmentBlue | 0 |
LuminanceAdjustmentGreen | 0 |
LuminanceAdjustmentMagenta | 0 |
LuminanceAdjustmentOrange | 0 |
LuminanceAdjustmentPurple | 0 |
LuminanceAdjustmentRed | 0 |
LuminanceAdjustmentYellow | 0 |
LuminanceNoiseReductionContrast | 0 |
LuminanceNoiseReductionDetail | 51 |
LuminanceSmoothing | 49 |
Make | Canon |
Marked | True |
MaxApertureValue | 4.0 |
Megapixels | 12.2 |
MeteringMode | Multi-segment |
Model | Canon EOS 7D |
ModifyDate (1) | 2011:10:16 11:59:02+02:00 |
ModifyDate | 2011:10:16 11:59:02 |
ParametricDarks | 0 |
ParametricHighlights | 0 |
ParametricHighlightSplit | 75 |
ParametricLights | -2 |
ParametricMidtoneSplit | 50 |
ParametricShadows | 0 |
ParametricShadowSplit | 25 |
PerspectiveHorizontal | 0 |
PerspectiveRotate | 0.0 |
PerspectiveScale | 100 |
PerspectiveVertical | 0 |
PostCropVignetteAmount | -40 |
PostCropVignetteFeather | 57 |
PostCropVignetteHighlightContrast | 22 |
PostCropVignetteMidpoint | 52 |
PostCropVignetteRoundness | -1 |
PostCropVignetteStyle | 1 |
ProcessVersion | 5.7 |
ProfileDescription | sRGB IEC61966-2.1 |
Rating | 5 |
RedHue | +20 |
RedSaturation | +22 |
Rights | Copyright @ 2011 Jan Sæbø |
Saturation | +6 |
SaturationAdjustmentAqua | 0 |
SaturationAdjustmentBlue | 0 |
SaturationAdjustmentGreen | 0 |
SaturationAdjustmentMagenta | 0 |
SaturationAdjustmentOrange | 0 |
SaturationAdjustmentPurple | 0 |
SaturationAdjustmentRed | 0 |
SaturationAdjustmentYellow | 0 |
ScaleFactor35efl | 1.6 |
SceneCaptureType | Standard |
SensitivityType | Unknown |
SerialNumber | 480406884 |
Shadows | 15 |
ShadowTint | +13 |
SharpenDetail | 10 |
SharpenEdgeMasking | 60 |
SharpenRadius | +1.0 |
Sharpness | 64 |
ShutterSpeed | 1/250 |
ShutterSpeedValue | 1/250 |
SplitToningBalance | 0 |
SplitToningHighlightHue | 0 |
SplitToningHighlightSaturation | 0 |
SplitToningShadowHue | 0 |
SplitToningShadowSaturation | 0 |
Subject | Sofia, tidlig høst |
SubjectDistance | 2.1 m |
Tint | +21 |
ToneCurve | 0, 0, 32, 16, 64, 50, 128, 128, 192, 202, 255, 255 |
ToneCurveName | Strong Contrast |
UsageTerms | No reproduction of any kind without prior written |
Version | 6.3 |
Vibrance | -6 |
VignetteAmount | 0 |
WhiteBalance (2) | As Shot |
WhiteBalance | Auto |