Felt | Verdi |
Aberration Blue-Yellow: 0
Aberration Red-Cyan: 0
AlreadyApplied | True |
Aperture | 11.0 |
ApertureValue | 11.0 |
Artist | Thorir Vidar |
AuthorsPosition | Photographer |
BitsPerSample | 8 |
Blue: 127
BlueHue | 0 |
BlueSaturation | 0 |
Brightness | +50 |
By-line | Thorir Vidar |
By-lineTitle | Photographer |
CameraProfile | Nikon D300 6500 K [1224N] DxO Th default V |
CFAPattern | [Red,Green][Green,Blue] |
CFAPatternColumns | 2 |
CFAPatternRows | 2 |
CFAPatternValues | 0, 1, 1, 2 |
ChromaticAberrationB | 0 |
ChromaticAberrationR | 0 |
CircleOfConfusion | 0.020 mm |
Clarity | 0 |
ColorComponents | 3 |
ColorMode | RGB |
ColorNoiseReduction | 25 |
ColorSpace | sRGB |
ColorTemperature | 5650 |
Contrast (2) | +11 |
Contrast | Normal |
ConvertToGrayscale | False |
Copyright | © 2010 Thorir Vidar |
CopyrightFlag | True |
CopyrightNotice | © 2010 Thorir Vidar |
Country | Norway |
Country-PrimaryLocationCode | NO |
Country-PrimaryLocationName | Norway |
CountryCode | NO |
CreateDate (1) | 2011:03:25 15:16:26+01:00 |
CreateDate | 2008:08:10 08:08:03 |
Creator | Thorir Vidar |
CreatorCity | Bergen |
CreatorCountry | Norway |
CreatorRegion | Hordaland |
CreatorTool | Adobe Photoshop CS3 Macintosh |
CreatorWorkEmail | thorir@squareimages.com, thorirvidar@gmail.com |
CreatorWorkURL | www.panografi.com, www.squareimages.com |
CustomRendered | Normal |
DateTimeDigitized | 2008:08:10 08:08:03.50+02:00 |
DateTimeOriginal (1) | 2008:08:10 08:08:03.50+02:00 |
DateTimeOriginal | 2008:08:10 08:08:03 |
Defringe | 0 |
Delete current layer
Delete Layer
DigitalZoomRatio | 1 |
Distort Coefficient0: 0
Distort Coefficient1: 0
Distort Coefficient2: 0
Distort Coefficient3: 1
DOF | inf (1.11 m - inf) |
ExifImageHeight | 532 |
ExifImageWidth | 800 |
Exposure | -0.05 |
ExposureCompensation | 0 |
ExposureMode | Manual |
ExposureProgram | Manual |
ExposureTime | 1/50 |
Fill Type: 2
FillLight | 3 |
Flash | No Flash |
FlashFired | False |
FlashFunction | False |
FlashMode | Unknown |
FlashRedEyeMode | False |
FlashReturn | No return detection |
FNumber | 11.0 |
FocalLength | 20.0 mm |
FocalLength35efl | 20.0 mm (35 mm equivalent: 30.0 mm) |
FocalLengthIn35mmFormat | 30 mm |
Format | image/jpeg |
FOV | 61.9 deg |
Free Transform
GainControl | None |
GPSVersionID | 2.2.0.0 |
Green: 127
GreenHue | 0 |
GreenSaturation | 0 |
Grid Color: RGB color
Grid Size: 16
HasCrop | False |
HasSettings | True |
Height: 101,8%
Hide current layer
Hide layer “160NC curve”
Hide layer “Adjust curve to Image”
Hide layer “bkgr + adj. curve”
HierarchicalSubject | Other Keywords|Sørlandet, Other Keywords|trip, Other Keywords|non-fam, Other Keywords|south |
HighlightRecovery | 0 |
Horizontal Grid Move: 0
Horizontal Perspective: 0
HueAdjustmentAqua | 0 |
HueAdjustmentBlue | 0 |
HueAdjustmentGreen | 0 |
HueAdjustmentMagenta | 0 |
HueAdjustmentOrange | 0 |
HueAdjustmentPurple | 0 |
HueAdjustmentRed | 0 |
HueAdjustmentYellow | 0 |
HyperfocalDistance | 1.82 m |
ICCProfileName | sRGB IEC61966-2.1 |
Image Size: 100
ImageHeight (1) | 2848 |
ImageHeight | 532 |
ImageNumber | 14678 |
ImageSize | 800x532 |
ImageWidth (1) | 4288 |
ImageWidth | 800 |
ISO | 200 |
Keywords | camping place, non-fam, south, S¿rlandet, trip |
Label | Outtakes |
Lens Correction
Lens Correction Distort Amount: 0
Lens | 12.0-24.0 mm f/4.0 |
LensInfo | 12-24mm f/4 |
LightSource | Cloudy |
LightValue | 11.6 |
LuminanceAdjustmentAqua | 0 |
LuminanceAdjustmentBlue | 0 |
LuminanceAdjustmentGreen | 0 |
LuminanceAdjustmentMagenta | 0 |
LuminanceAdjustmentOrange | 0 |
LuminanceAdjustmentPurple | 0 |
LuminanceAdjustmentRed | 0 |
LuminanceAdjustmentYellow | 0 |
LuminanceSmoothing | 0 |
Make | NIKON CORPORATION |
Marked | True |
MaxApertureValue | 4.0 |
Megapixels | 0.426 |
Merge Visible With Duplicate
MeteringMode | Center-weighted average |
Model | NIKON D300 |
ModifyDate (1) | 2011:03:25 15:16:26+01:00 |
ModifyDate | 2011:03:25 15:16:26 |
ObjectName | thorir_080810_4667_D_Master.PSD |
Orientation | Horizontal (normal) |
ParametricDarks | 0 |
ParametricHighlights | 0 |
ParametricHighlightSplit | 75 |
ParametricLights | 0 |
ParametricMidtoneSplit | 50 |
ParametricShadows | 0 |
ParametricShadowSplit | 25 |
PostCropVignetteAmount | 0 |
ProfileDescription | sRGB IEC61966-2.1 |
Rating | 3 |
RawFileName | thorir_080810_4667_D.dng |
Red: 127
RedHue | 0 |
RedSaturation | 0 |
Rights | © 2010 Thorir Vidar |
Rotation Angle: -0,4
Saturation (2) | 0 |
Saturation | Normal |
SaturationAdjustmentAqua | 0 |
SaturationAdjustmentBlue | 0 |
SaturationAdjustmentGreen | 0 |
SaturationAdjustmentMagenta | 0 |
SaturationAdjustmentOrange | 0 |
SaturationAdjustmentPurple | 0 |
SaturationAdjustmentRed | 0 |
SaturationAdjustmentYellow | 0 |
ScaleFactor35efl | 1.5 |
SceneCaptureType | Standard |
SceneType | Directly photographed |
Select layer “Adjust curve to Image” Without Make Visible
Select layer “Mod. 160NC (mod. colour, stnd grain)” Without Make Visible
Select next document
SensingMethod | One-chip color area |
SerialNumber | 4052971 |
Shadows | 1 |
ShadowTint | 0 |
SharpenDetail | 25 |
SharpenEdgeMasking | 0 |
SharpenRadius | +1.0 |
Sharpness (2) | 25 |
Sharpness | Normal |
Show current layer
Show layer “160NC curve”
Show layer “Adjust curve to Image”
Show layer “bkgr + adj. curve”
ShutterSpeed | 1/50 |
ShutterSpeedValue | 1/50 |
SidecarForExtension | NEF |
Software | Adobe Photoshop CS3 Macintosh |
SplitToningBalance | 0 |
SplitToningHighlightHue | 0 |
SplitToningHighlightSaturation | 0 |
SplitToningShadowHue | 0 |
SplitToningShadowSaturation | 0 |
Stamp Visible
Subject | camping place, non-fam, south, Sørlandet, trip |
SubjectDistance | 2.82 m |
SubjectDistanceRange | Unknown |
Tint | -1 |
Title | thorir_080810_4667_D_Master.PSD |
ToneCurve | 0, 0, 32, 22, 64, 56, 128, 128, 192, 196, 255, 255 |
ToneCurveName | Medium Contrast |
Transform current layer Center: center
Translate: -3,5 pixels, -19,3 pixels
URL | www.panografi.com |
URL_List | |
UsageTerms | All rights reserved except those explicitly granted herein. Contact Thorir Vidar at thorir@squareimages.com or thorirvidar@gmail.com to inquire about any reproduction of this image. |
UserComment | ASCII |
Version | 4.6 |
Vertical Grid Move: 0
Vertical Perspective: 2
Vibrance | 0 |
Vignette Amount: 0
Vignette Midpoint: 50
VignetteAmount | 0 |
WebStatement | www.panografi.com |
WhiteBalance (2) | As Shot |
WhiteBalance | Manual |
Width: 101,8%
With Show Grid