Felt | Verdi |
AlreadyApplied | True |
Aperture | 22.0 |
ApertureValue | 22.0 |
Artist | Edvard Dyb |
BitsPerSample (1) | 8 8 8 |
BitsPerSample | 8 |
BlueHue | 0 |
BlueSaturation | 0 |
Brightness | +50 |
By-line | Edvard Dyb |
CameraProfile | Adobe Standard |
ChromaticAberrationB | 0 |
ChromaticAberrationR | 0 |
CircleOfConfusion | 0.019 mm |
Clarity | +28 |
ColorComponents | 3 |
ColorMode | RGB |
ColorNoiseReduction | 44 |
ColorNoiseReductionDetail | 50 |
ColorSpace | Uncalibrated |
ColorTemperature | 5400 |
Contrast | +23 |
ConvertToGrayscale | False |
CreateDate (1) | 2012:01:17 14:27:44.41+01:00 |
CreateDate | 2012:01:17 14:27:44 |
Creator | Edvard Dyb |
CreatorTool | Adobe Photoshop CS5 Macintosh |
CropAngle | 0 |
CropBottom | 1 |
CropConstrainToWarp | 1 |
CropLeft | 0.076981 |
CropRight | 1 |
CropTop | 0 |
CustomRendered | Normal |
DateCreated (1) | 2012:01:17 |
DateCreated | 2012:01:17 14:27:44.041 |
DateTimeOriginal | 2012:01:17 14:27:44 |
Defringe | 0 |
DOF | inf (0.21 m - inf) |
ExifImageHeight | 739 |
ExifImageWidth | 1024 |
Exposure | -0.25 |
ExposureCompensation | 0 |
ExposureMode | Auto |
ExposureProgram | Aperture-priority AE |
ExposureTime | 1.6 |
FillLight | 50 |
Firmware | 1.0.9 |
Flash | Off, Did not fire |
FlashCompensation | 0 |
FNumber | 22.0 |
FocalLength | 10.0 mm |
FocalLength35efl | 10.0 mm (35 mm equivalent: 15.7 mm) |
Format | image/jpeg |
FOV | 97.8 deg |
GrainAmount | 0 |
GreenHue | 0 |
GreenSaturation | 0 |
HasCrop | True |
HasSettings | True |
HighlightRecovery | 55 |
HueAdjustmentAqua | 0 |
HueAdjustmentBlue | 0 |
HueAdjustmentGreen | 0 |
HueAdjustmentMagenta | 0 |
HueAdjustmentOrange | 0 |
HueAdjustmentPurple | 0 |
HueAdjustmentRed | 0 |
HueAdjustmentYellow | 0 |
HyperfocalDistance | 0.24 m |
ICCProfileName | Adobe RGB (1998) |
ImageHeight (1) | 3456 |
ImageHeight | 739 |
ImageNumber | 0 |
ImageSize | 1024x739 |
ImageWidth (1) | 4785 |
ImageWidth | 1024 |
ISO | 100 |
Lens | 10-20mm |
LensID (1) | 152 |
LensID | Sigma 10-20mm f/4-5.6 |
LensInfo | 10-20mm f/? |
LensManualDistortionAmount | 0 |
LensProfileChromaticAberrationScale | 100 |
LensProfileDistortionScale | 100 |
LensProfileEnable | 1 |
LensProfileFilename | Canon (Sigma_10-20mm_F4-5.6_EX_DC_HSM ) - RAW.lcp |
LensProfileName | Adobe (SIGMA 10-20mm F4-5.6 EX DC / HSM, Canon) |
LensProfileSetup | LensDefaults |
LensProfileVignettingScale | 100 |
LightValue | 8.2 |
LuminanceAdjustmentAqua | 0 |
LuminanceAdjustmentBlue | 0 |
LuminanceAdjustmentGreen | 0 |
LuminanceAdjustmentMagenta | 0 |
LuminanceAdjustmentOrange | 0 |
LuminanceAdjustmentPurple | 0 |
LuminanceAdjustmentRed | 0 |
LuminanceAdjustmentYellow | 0 |
LuminanceNoiseReductionContrast | 0 |
LuminanceNoiseReductionDetail | 50 |
LuminanceSmoothing | 27 |
Make | Canon |
MaxApertureValue | 4.2 |
Megapixels | 0.757 |
MeteringMode | Multi-segment |
Model | Canon EOS 7D |
ModifyDate (1) | 2012:01:17 21:44:31+01:00 |
ModifyDate | 2012:01:17 21:44:31 |
Orientation | Horizontal (normal) |
OwnerName | Edvard Dyb |
PaintCorrectionActive | true |
PaintCorrectionAmount | 1.000000 |
PaintCorrectionBrightness (1) | -0.200000 |
PaintCorrectionBrightness | -0.105000 |
PaintCorrectionClarity (1) | -0.130000 |
PaintCorrectionClarity | -0.050000 |
PaintCorrectionContrast (1) | 0.230000 |
PaintCorrectionContrast | -0.970000 |
PaintCorrectionExposure (1) | -0.625000 |
PaintCorrectionExposure | -0.537500 |
PaintCorrectionHue (1) | 232.000000 |
PaintCorrectionHue | 312.000000 |
PaintCorrectionMaskCenterWeight (1) | 0.000000 |
PaintCorrectionMaskCenterWeight (9) | 0.031095 |
PaintCorrectionMaskCenterWeight | 0.259742 |
PaintCorrectionMaskFlow (7) | 0.907216 |
PaintCorrectionMaskFlow (9) | 0.913828 |
PaintCorrectionMaskFlow | 0.680162 |
PaintCorrectionMaskRadius (1) | 0.299274 |
PaintCorrectionMaskRadius (2) | 0.300564 |
PaintCorrectionMaskRadius (4) | 0.155051 |
PaintCorrectionMaskRadius (5) | 0.205412 |
PaintCorrectionMaskRadius (6) | 0.195263 |
PaintCorrectionMaskRadius (7) | 0.087554 |
PaintCorrectionMaskRadius (8) | 0.099559 |
PaintCorrectionMaskRadius (9) | 0.091438 |
PaintCorrectionMaskRadius | 0.053431 |
PaintCorrectionMaskValue (8) | 0.510000 |
PaintCorrectionMaskValue | 0.000000 |
PaintCorrectionMaskWhat | Mask/Paint |
PaintCorrectionSaturation (1) | 0.600000 |
PaintCorrectionSaturation (2) | 0.490000 |
PaintCorrectionSaturation (3) | 0.760000 |
PaintCorrectionSaturation | 0.000000 |
PaintCorrectionSharpness | 0.520000 |
PaintCorrectionWhat | Correction |
ParametricDarks | 0 |
ParametricHighlights | 0 |
ParametricHighlightSplit | 75 |
ParametricLights | 0 |
ParametricMidtoneSplit | 50 |
ParametricShadows | 0 |
ParametricShadowSplit | 25 |
PerspectiveHorizontal | 0 |
PerspectiveRotate | 0.0 |
PerspectiveScale | 100 |
PerspectiveVertical | 0 |
PhotometricInterpretation | RGB |
PostCropVignetteAmount | 0 |
ProcessVersion | 5.7 |
ProfileDescription | Adobe RGB (1998) |
Rating | 0 |
RawFileName | _MG_9082.CR2 |
RedHue | 0 |
RedSaturation | 0 |
Saturation | +66 |
SaturationAdjustmentAqua | 0 |
SaturationAdjustmentBlue | 0 |
SaturationAdjustmentGreen | 0 |
SaturationAdjustmentMagenta | 0 |
SaturationAdjustmentOrange | 0 |
SaturationAdjustmentPurple | 0 |
SaturationAdjustmentRed | 0 |
SaturationAdjustmentYellow | 0 |
ScaleFactor35efl | 1.6 |
SceneCaptureType | Standard |
SerialNumber | 380301073 |
Shadows | 15 |
ShadowTint | 0 |
SharpenDetail | 25 |
SharpenEdgeMasking | 0 |
SharpenRadius | +1.0 |
Sharpness | 25 |
ShutterSpeed | 1.6 |
ShutterSpeedValue | 1.6 |
SidecarForExtension | CR2 |
Software | Adobe Photoshop CS5 Macintosh |
SplitToningBalance | +78 |
SplitToningHighlightHue | 54 |
SplitToningHighlightSaturation | 46 |
SplitToningShadowHue | 249 |
SplitToningShadowSaturation | 19 |
SubjectDistance | 2.09 m |
Tint | +13 |
ToneCurve | 0, 0, 32, 22, 64, 56, 128, 128, 192, 196, 255, 255 |
ToneCurveName | Medium Contrast |
URL_List | |
Version | 6.1 |
Vibrance | +43 |
VignetteAmount | 0 |
WhiteBalance (1) | Custom |
WhiteBalance | Auto |