Felt | Verdi |
AlreadyApplied | True |
Aperture | 5.0 |
ApertureValue | 5.0 |
ApproximateFocusDistance | 23.7 |
Artist | Ruben Johnsen |
BitsPerSample | 8 |
BlueHue | 0 |
BlueSaturation | 0 |
Brightness | +50 |
By-line | Ruben Johnsen |
CameraProfile | Adobe Standard |
CFAPattern | [Red,Green][Green,Blue] |
ChromaticAberrationB | 0 |
ChromaticAberrationR | 0 |
CircleOfConfusion | 0.030 mm |
Clarity | 0 |
ColorComponents | 3 |
ColorNoiseReduction | 25 |
ColorNoiseReductionDetail | 50 |
ColorTemperature | 5402 |
Contrast (1) | +25 |
Contrast | Normal |
ConvertToGrayscale | False |
Copyright | Ruben Johnsen |
CopyrightNotice | Ruben Johnsen |
CreateDate (1) | 2012:03:05 11:36:11.56 |
CreateDate | 2012:03:05 11:36:11 |
Creator | Ruben Johnsen |
CreatorAddress | Planetveien 357 |
CreatorTool | Adobe Photoshop Lightroom 3.5 (Macintosh) |
CreatorWorkEmail | rubenfoto@hotmail.no |
CreatorWorkTelephone | 47859511 |
CropAngle | 0 |
CropBottom | 0.726948 |
CropConstrainToWarp | 0 |
CropHeight | 661 |
CropLeft | 0.110912 |
CropRight | 0.608048 |
CropTop | 0.24463 |
CropUnit | pixels |
CropWidth | 1024 |
CustomRendered | Normal |
DateCreated (1) | 2012:03:05 |
DateCreated | 2012:03:05 11:36:11.56 |
DateTimeOriginal | 2012:03:05 11:36:11 |
Defringe | 0 |
DigitalZoomRatio | 1 |
DOF | 1.85 m (22.81 - 24.66 m) |
Exposure | -0.25 |
ExposureCompensation | 0 |
ExposureMode | Auto |
ExposureProgram | Aperture-priority AE |
ExposureTime | 1/5000 |
FillLight | 0 |
Flash | No Flash |
FNumber | 5.0 |
FocalLength | 300.0 mm |
FocalLength35efl | 300.0 mm (35 mm equivalent: 300.0 mm) |
FocalLengthIn35mmFormat | 300 mm |
FOV | 6.9 deg |
GainControl | Low gain up |
GrainAmount | 0 |
GreenHue | 0 |
GreenSaturation | 0 |
HasCrop | True |
HasSettings | True |
HighlightRecovery | 49 |
HueAdjustmentAqua | 0 |
HueAdjustmentBlue | 0 |
HueAdjustmentGreen | 0 |
HueAdjustmentMagenta | 0 |
HueAdjustmentOrange | 0 |
HueAdjustmentPurple | 0 |
HueAdjustmentRed | 0 |
HueAdjustmentYellow | 0 |
HyperfocalDistance | 599.08 m |
ImageHeight | 661 |
ImageNumber | 31043 |
ImageSize | 1024x661 |
ImageWidth | 1024 |
ISO | 500 |
Lens | 300.0 mm f/2.8 |
LensID (1) | 109 |
LensID | AF-S Nikkor 300mm f/2.8D IF-ED II |
LensInfo | 300mm f/2.8 |
LensManualDistortionAmount | 0 |
LensModel | 300.0 mm f/2.8 |
LensProfileEnable | 0 |
LensProfileSetup | LensDefaults |
LightSource | Unknown |
LightValue | 14.6 |
LuminanceAdjustmentAqua | 0 |
LuminanceAdjustmentBlue | 0 |
LuminanceAdjustmentGreen | 0 |
LuminanceAdjustmentMagenta | 0 |
LuminanceAdjustmentOrange | 0 |
LuminanceAdjustmentPurple | 0 |
LuminanceAdjustmentRed | 0 |
LuminanceAdjustmentYellow | 0 |
LuminanceSmoothing | 0 |
Make | NIKON CORPORATION |
MaxApertureValue | 2.8 |
Megapixels | 0.677 |
MeteringMode | Center-weighted average |
Model | NIKON D3 |
ModifyDate (1) | 2012:03:09 22:01:41+01:00 |
ModifyDate | 2012:03:09 22:01:41 |
PaintCorrectionActive | true |
PaintCorrectionAmount | 1.000000 |
PaintCorrectionBrightness | -0.005267 |
PaintCorrectionClarity | 0.000000 |
PaintCorrectionContrast (1) | 0.265098 |
PaintCorrectionContrast | 0.000000 |
PaintCorrectionExposure (1) | 0.070488 |
PaintCorrectionExposure (2) | -0.072595 |
PaintCorrectionExposure | 0.063992 |
PaintCorrectionHue | 0.000000 |
PaintCorrectionMaskCenterWeight | 0.281525 |
PaintCorrectionMaskFlow | 0.590036 |
PaintCorrectionMaskRadius (1) | 0.033516 |
PaintCorrectionMaskRadius (4) | 0.026691 |
PaintCorrectionMaskRadius (5) | 0.012000 |
PaintCorrectionMaskRadius (9) | 0.016021 |
PaintCorrectionMaskRadius | 0.010043 |
PaintCorrectionMaskValue | 1.000000 |
PaintCorrectionMaskWhat | Mask/Paint |
PaintCorrectionSaturation (1) | 0.056970 |
PaintCorrectionSaturation | 0.000000 |
PaintCorrectionSharpness | 0.010709 |
PaintCorrectionWhat | Correction |
ParametricDarks | 0 |
ParametricHighlights | 0 |
ParametricHighlightSplit | 75 |
ParametricLights | 0 |
ParametricMidtoneSplit | 50 |
ParametricShadows | 0 |
ParametricShadowSplit | 25 |
PerspectiveHorizontal | 0 |
PerspectiveRotate | 0.0 |
PerspectiveScale | 100 |
PerspectiveVertical | 0 |
PostCropVignetteAmount | 0 |
ProcessVersion | 5.7 |
ProfileDescription | sRGB IEC61966-2.1 |
RedHue | 0 |
RedSaturation | 0 |
Rights | Ruben Johnsen |
Saturation (1) | +7 |
Saturation | Normal |
SaturationAdjustmentAqua | 0 |
SaturationAdjustmentBlue | 0 |
SaturationAdjustmentGreen | 0 |
SaturationAdjustmentMagenta | 0 |
SaturationAdjustmentOrange | 0 |
SaturationAdjustmentPurple | 0 |
SaturationAdjustmentRed | 0 |
SaturationAdjustmentYellow | 0 |
ScaleFactor35efl | 1.0 |
SceneCaptureType | Standard |
SceneType | Directly photographed |
SensingMethod | One-chip color area |
SerialNumber | 2059492 |
Shadows | 5 |
ShadowTint | 0 |
SharpenDetail | 25 |
SharpenEdgeMasking | 0 |
SharpenRadius | +1.1 |
Sharpness (1) | 83 |
Sharpness | Normal |
ShutterSpeed | 1/5000 |
ShutterSpeedValue | 1/5000 |
Software | Adobe Photoshop Lightroom 3.5 (Macintosh) |
SplitToningBalance | 0 |
SplitToningHighlightHue | 0 |
SplitToningHighlightSaturation | 0 |
SplitToningShadowHue | 0 |
SplitToningShadowSaturation | 0 |
SubjectDistance | 23.7 m |
SubjectDistanceRange | Unknown |
Tint | -4 |
ToneCurve | 0, 0, 32, 22, 64, 56, 128, 128, 192, 196, 255, 255 |
ToneCurveName | Medium Contrast |
Version | 6.5 |
Vibrance | +37 |
VignetteAmount | 0 |
WhiteBalance (1) | Custom |
WhiteBalance | Auto |