Felt | Verdi |
AlreadyApplied | True |
Aperture | 2.0 |
ApertureValue | 2.0 |
ApproximateFocusDistance | 0.45 |
BitsPerSample (1) | 8 8 8 |
BitsPerSample | 8 |
BlueHue | 0 |
BlueSaturation | 0 |
Brightness | +50 |
CameraProfile | Adobe Standard |
CFAPattern | [Green,Blue][Red,Green] |
ChromaticAberrationB | 0 |
ChromaticAberrationR | 0 |
CircleOfConfusion | 0.020 mm |
Clarity | 0 |
ColorComponents | 3 |
ColorMode | RGB |
ColorNoiseReduction | 25 |
ColorNoiseReductionDetail | 50 |
ColorSpace | sRGB |
ColorTemperature | 5563 |
Contrast (1) | +64 |
Contrast | Normal |
ConvertToGrayscale | False |
CreateDate (1) | 2012:01:28 16:26:33.10 |
CreateDate | 2012:01:28 16:26:33 |
CreatorTool | Microsoft Windows Photo Viewer 6.1.7600.16385 |
CustomRendered | Normal |
DateCreated (1) | 2012:01:28 |
DateCreated | 2012:01:28 16:26:33.001 |
DateTimeOriginal | 2012:01:28 16:26:33 |
Defringe | 0 |
DigitalZoomRatio | 1 |
DOF | 0.006 m (0.447 - 0.453 m) |
ExifImageHeight | 4608 |
ExifImageWidth | 3072 |
Exposure | -0.23 |
ExposureCompensation | 0 |
ExposureMode | Auto |
ExposureProgram | Aperture-priority AE |
ExposureTime | 1/1250 |
FillLight | 54 |
Flash | No Flash |
FNumber | 2.0 |
FocalLength | 50.0 mm |
FocalLength35efl | 50.0 mm (35 mm equivalent: 75.0 mm) |
FocalLengthIn35mmFormat | 75 mm |
Format | image/jpeg |
FOV | 27.0 deg |
GainControl | Low gain up |
GrainAmount | 0 |
GreenHue | 0 |
GreenSaturation | 0 |
HasCrop | False |
HasSettings | True |
HighlightRecovery | 0 |
HueAdjustmentAqua | 0 |
HueAdjustmentBlue | 0 |
HueAdjustmentGreen | 0 |
HueAdjustmentMagenta | 0 |
HueAdjustmentOrange | 0 |
HueAdjustmentPurple | 0 |
HueAdjustmentRed | +70 |
HueAdjustmentYellow | 0 |
HyperfocalDistance | 62.40 m |
ICCProfileName | sRGB IEC61966-2.1 |
ImageHeight (1) | 3072 |
ImageHeight | 4608 |
ImageNumber | 18477 |
ImageSize | 3072x4608 |
ImageWidth (1) | 4608 |
ImageWidth | 3072 |
ISO | 400 |
Lens | 50.0 mm f/1.4 |
LensID (1) | 160 |
LensID | AF-S Nikkor 50mm f/1.4G |
LensInfo | 50mm f/1.4 |
LensManualDistortionAmount | 0 |
LensModel | 50.0 mm f/1.4 |
LensProfileEnable | 0 |
LensProfileSetup | LensDefaults |
LightSource | Unknown |
LightValue | 10.3 |
LuminanceAdjustmentAqua | 0 |
LuminanceAdjustmentBlue | 0 |
LuminanceAdjustmentGreen | 0 |
LuminanceAdjustmentMagenta | 0 |
LuminanceAdjustmentOrange | 0 |
LuminanceAdjustmentPurple | 0 |
LuminanceAdjustmentRed | 0 |
LuminanceAdjustmentYellow | 0 |
LuminanceSmoothing | 0 |
Make | NIKON CORPORATION |
MaxApertureValue | 1.4 |
Megapixels | 14.2 |
MeteringMode | Spot |
Model | NIKON D3100 |
ModifyDate (1) | 2012:01:29 13:17:45+01:00 |
ModifyDate | 2012:02:01 06:37:11 |
Orientation | Horizontal (normal) |
OriginatingProgram | Microsoft Windows Photo Viewer 6.1.7600.16385 |
ParametricDarks | 0 |
ParametricHighlights | 0 |
ParametricHighlightSplit | 75 |
ParametricLights | 0 |
ParametricMidtoneSplit | 50 |
ParametricShadows | 0 |
ParametricShadowSplit | 25 |
PerspectiveHorizontal | 0 |
PerspectiveRotate | 0.0 |
PerspectiveScale | 100 |
PerspectiveVertical | 0 |
PhotometricInterpretation | RGB |
PostCropVignetteAmount | -38 |
PostCropVignetteFeather | 50 |
PostCropVignetteHighlightContrast | 0 |
PostCropVignetteMidpoint | 50 |
PostCropVignetteRoundness | 0 |
PostCropVignetteStyle | 1 |
ProcessVersion | 5.7 |
ProfileDescription | sRGB IEC61966-2.1 |
RedHue | 0 |
RedSaturation | 0 |
Saturation (1) | 0 |
Saturation | Normal |
SaturationAdjustmentAqua | 0 |
SaturationAdjustmentBlue | 0 |
SaturationAdjustmentGreen | 0 |
SaturationAdjustmentMagenta | 0 |
SaturationAdjustmentOrange | 0 |
SaturationAdjustmentPurple | 0 |
SaturationAdjustmentRed | 0 |
SaturationAdjustmentYellow | 0 |
ScaleFactor35efl | 1.5 |
SceneCaptureType | Standard |
SceneType | Directly photographed |
SensingMethod | One-chip color area |
SerialNumber | 6265524 |
Shadows | 22 |
ShadowTint | 0 |
SharpenDetail | 63 |
SharpenEdgeMasking | 0 |
SharpenRadius | +1.0 |
Sharpness (1) | 97 |
Sharpness | Normal |
ShutterSpeed | 1/1250 |
ShutterSpeedValue | 1/1250 |
Software | Microsoft Windows Photo Viewer 6.1.7600.16385 |
SplitToningBalance | 0 |
SplitToningHighlightHue | 0 |
SplitToningHighlightSaturation | 0 |
SplitToningShadowHue | 0 |
SplitToningShadowSaturation | 0 |
SubjectDistance | 0.45 m |
SubjectDistanceRange | Unknown |
Tint | +12 |
ToneCurve | 0, 0, 32, 22, 64, 56, 128, 128, 192, 196, 255, 255 |
ToneCurveName | Medium Contrast |
URL_List | |
Version | 6.4 |
Vibrance | 0 |
VignetteAmount | 0 |
WhiteBalance (1) | Custom |
WhiteBalance | Auto |