Felt | Verdi |
AlreadyApplied | True |
Aperture | 9.0 |
ApertureValue | 9.0 |
Artist | Oyvind Tufto |
AutoLateralCA | 1 |
BitsPerSample (1) | 16, 16, 16 |
BitsPerSample (2) | 8 8 8 |
BitsPerSample | 8 |
Blacks2012 | 0 |
BlueHue | 0 |
BlueSaturation | 0 |
Brightness | +50 |
By-line | Oyvind Tufto |
CameraProfile | Adobe Standard |
CircleOfConfusion | 0.031 mm |
Clarity | 0 |
Clarity2012 | +20 |
ColorComponents | 3 |
ColorMode | RGB |
ColorNoiseReduction | 10 |
ColorNoiseReductionDetail | 50 |
ColorSpace (1) | Unknown (-1) |
ColorSpace | Uncalibrated |
ColorTemperature | 4900 |
Contrast | +25 |
Contrast2012 | 0 |
ConvertToGrayscale | False |
Copyright | Copyright: Oyvind Tufto |
CopyrightFlag | False |
CopyrightNotice | Copyright: Oyvind Tufto |
CreateDate (1) | 2012:04:11 14:30:31+02:00 |
CreateDate | 2012:04:08 17:09:23 |
Creator | Oyvind Tufto |
CreatorTool | Adobe Photoshop CS2 Macintosh |
CropAngle | 0 |
CropBottom | 0.810938 |
CropConstrainToWarp | 0 |
CropHeight | 2685 |
CropLeft | 0 |
CropRight | 0.717188 |
CropTop | 0.09375 |
CropUnit | pixels |
CropWidth | 4028 |
CustomRendered | Normal |
DateCreated | 2012:04:08 |
DateTimeDigitized | 2012:04:08 17:09:23+02:00 |
DateTimeOriginal (1) | 2012:04:08 17:09:23+02:00 |
DateTimeOriginal | 2012:04:08 17:09:23 |
Defringe | 0 |
ExifImageHeight | 800 |
ExifImageWidth | 1200 |
Exposure | 0.00 |
Exposure2012 | 0.00 |
ExposureCompensation | +2/3 |
ExposureMode | Auto |
ExposureProgram | Aperture-priority AE |
ExposureTime | 1/500 |
FillLight | 0 |
Firmware | 2.0.7 |
Flash | Off, Did not fire |
FlashCompensation | 0 |
FlashFired | False |
FlashFunction | False |
FlashMode | Off |
FlashRedEyeMode | False |
FlashReturn | No return detection |
FNumber | 9.0 |
FocalLength | 100.0 mm |
FocalLength35efl | 100.0 mm (35 mm equivalent: 97.6 mm) |
Format | image/jpeg |
FOV | 20.9 deg |
GradientBasedCorrActive | true |
GradientBasedCorrAmount | 1.000000 |
GradientBasedCorrBrightness | 0.000000 |
GradientBasedCorrClarity2012 (1) | 0.223529 |
GradientBasedCorrClarity2012 | 0.082353 |
GradientBasedCorrContrast2012 (1) | 0.388235 |
GradientBasedCorrContrast2012 | 0.082353 |
GradientBasedCorrExposure2012 | 0.035294 |
GradientBasedCorrHighlights2012 | 0.000000 |
GradientBasedCorrHue | 240.000000 |
GradientBasedCorrLuminanceNoise | 0.000000 |
GradientBasedCorrMaskFullX (1) | 0.414320 |
GradientBasedCorrMaskFullX | 0.289903 |
GradientBasedCorrMaskFullY (1) | 0.554047 |
GradientBasedCorrMaskFullY | 0.236322 |
GradientBasedCorrMaskValue | 1.000000 |
GradientBasedCorrMaskWhat | Mask/Gradient |
GradientBasedCorrMaskZeroX (1) | 0.405265 |
GradientBasedCorrMaskZeroX | 0.292688 |
GradientBasedCorrMaskZeroY (1) | 0.275946 |
GradientBasedCorrMaskZeroY | 0.277997 |
GradientBasedCorrMoire | 0.000000 |
GradientBasedCorrSaturation (1) | 0.152941 |
GradientBasedCorrSaturation | 0.000000 |
GradientBasedCorrShadows2012 | 0.000000 |
GradientBasedCorrSharpness (1) | 0.294118 |
GradientBasedCorrSharpness | 0.000000 |
GradientBasedCorrTemperature | 0.000000 |
GradientBasedCorrTint | 0.000000 |
GradientBasedCorrWhat | Correction |
GrainAmount | 0 |
GreenHue | 0 |
GreenSaturation | 0 |
HasCrop | True |
HasSettings | True |
HighlightRecovery | 0 |
Highlights2012 | 0 |
HueAdjustmentAqua | 0 |
HueAdjustmentBlue | 0 |
HueAdjustmentGreen | 0 |
HueAdjustmentMagenta | 0 |
HueAdjustmentOrange | 0 |
HueAdjustmentPurple | 0 |
HueAdjustmentRed | 0 |
HueAdjustmentYellow | 0 |
HyperfocalDistance | 36.09 m |
ICCProfileName | ProPhoto RGB |
ImageHeight (1) | 2685 |
ImageHeight | 800 |
ImageNumber | 0 |
ImageSize | 1200x800 |
ImageWidth (1) | 4028 |
ImageWidth | 1200 |
ISO | 100 |
Lens | Zeiss Makro-Planar T* 2/100 ZE |
LensID (1) | 33 |
LensID | Carl Zeiss Makro-Planar T* 100mm f/2 ZE |
LensInfo | 100mm f/? |
LensManualDistortionAmount | 0 |
LensModel | Zeiss Makro-Planar T* 2/100 ZE |
LensProfileChromaticAberrationScale | 100 |
LensProfileDistortionScale | 100 |
LensProfileEnable | 1 |
LensProfileFilename | Canon (Zeiss Makro-Planar T 100 f2 ZE).lcp |
LensProfileName | Adobe (Zeiss Makro-Planar T* 2/100 ZE) |
LensProfileSetup | Auto |
LensProfileVignettingScale | 100 |
LightValue | 15.3 |
LuminanceAdjustmentAqua | 0 |
LuminanceAdjustmentBlue | -19 |
LuminanceAdjustmentGreen | 0 |
LuminanceAdjustmentMagenta | 0 |
LuminanceAdjustmentOrange | 0 |
LuminanceAdjustmentPurple | 0 |
LuminanceAdjustmentRed | 0 |
LuminanceAdjustmentYellow | 0 |
LuminanceSmoothing | 0 |
Make | Canon |
MaxApertureValue | 2.0 |
Megapixels | 0.960 |
MeteringMode | Multi-segment |
Model | Canon EOS 5D Mark II |
ModifyDate (1) | 2012:04:11 14:30:31+02:00 |
ModifyDate | 2012:04:11 14:30:31 |
Orientation | Horizontal (normal) |
OwnerName | Oyvind Tufto |
ParametricDarks | 0 |
ParametricHighlights | +25 |
ParametricHighlightSplit | 75 |
ParametricLights | 0 |
ParametricMidtoneSplit | 50 |
ParametricShadows | 0 |
ParametricShadowSplit | 25 |
PerspectiveHorizontal | 0 |
PerspectiveRotate | 0.0 |
PerspectiveScale | 100 |
PerspectiveVertical | 0 |
PhotometricInterpretation | RGB |
PlanarConfiguration | Chunky |
PostCropVignetteAmount | 0 |
ProcessVersion | 6.7 |
ProfileDescription | ProPhoto RGB |
Rating | 3 |
RedHue | 0 |
RedSaturation | 0 |
Rights | Copyright: Oyvind Tufto |
SamplesPerPixel | 3 |
Saturation | 0 |
SaturationAdjustmentAqua | 0 |
SaturationAdjustmentBlue | +4 |
SaturationAdjustmentGreen | 0 |
SaturationAdjustmentMagenta | 0 |
SaturationAdjustmentOrange | 0 |
SaturationAdjustmentPurple | 0 |
SaturationAdjustmentRed | 0 |
SaturationAdjustmentYellow | 0 |
ScaleFactor35efl | 1.0 |
SceneCaptureType | Standard |
SerialNumber | 2231301899 |
Shadows | 5 |
Shadows2012 | 0 |
ShadowTint | 0 |
SharpenDetail | 25 |
SharpenEdgeMasking | 0 |
SharpenRadius | +1.0 |
Sharpness | 0 |
ShutterSpeed | 1/500 |
ShutterSpeedValue | 1/500 |
Software | Adobe Photoshop CS2 Macintosh |
SplitToningBalance | 0 |
SplitToningHighlightHue | 0 |
SplitToningHighlightSaturation | 0 |
SplitToningShadowHue | 0 |
SplitToningShadowSaturation | 0 |
Tint | +3 |
ToneCurve | 0, 0, 255, 255 |
ToneCurveBlue | 0, 0, 255, 255 |
ToneCurveGreen | 0, 0, 255, 255 |
ToneCurveName | Linear |
ToneCurveName2012 | Medium Contrast |
ToneCurvePV2012 | 0, 0, 32, 22, 64, 56, 128, 128, 192, 196, 255, 255 |
ToneCurvePV2012Blue | 0, 0, 255, 255 |
ToneCurvePV2012Green | 0, 0, 255, 255 |
ToneCurvePV2012Red | 0, 0, 255, 255 |
ToneCurveRed | 0, 0, 255, 255 |
URL_List | |
Version | 7.0 |
Vibrance | +5 |
VignetteAmount | 0 |
WhiteBalance (1) | Custom |
WhiteBalance | Auto |
Whites2012 | 0 |