Felt | Verdi |
AlreadyApplied | True |
Aperture | 7.1 |
ApertureValue | 7.1 |
ApproximateFocusDistance | 0.99 |
Artist | Jan Erik Hjelseth |
AutoLateralCA | 0 |
BitsPerSample | 8 |
Blacks2012 | 0 |
BlueHue | 0 |
BlueSaturation | 0 |
Brightness | +105 |
By-line | Jan Erik Hjelseth |
CameraProfile | Adobe Standard |
CircleOfConfusion | 0.019 mm |
Clarity | +8 |
Clarity2012 | 0 |
ColorComponents | 3 |
ColorNoiseReduction | 25 |
ColorNoiseReductionDetail | 50 |
ColorTemperature | 5333 |
Contrast | +53 |
Contrast2012 | 0 |
ConvertToGrayscale | True |
Copyright | Jan Erik Hjelseth |
CopyrightFlag | True |
CopyrightNotice | Jan Erik Hjelseth |
CreateDate (1) | 2012:01:22 19:39:35.96 |
CreateDate | 2012:01:22 19:39:35 |
Creator | Jan Erik Hjelseth |
CreatorAddress | Nedre Kipperberget 2 |
CreatorCity | Langevåg |
CreatorCountry | Norway |
CreatorPostalCode | 6030 |
CreatorTool | Adobe Photoshop Lightroom 4.0 (Windows) |
CreatorWorkEmail | wildfirehv@googlemail.com |
CreatorWorkTelephone | +4746945003 |
CropAngle | 0 |
CropBottom | 0.966292 |
CropConstrainToWarp | 0 |
CropHeight | 2848 |
CropLeft | 0.033708 |
CropRight | 0.932584 |
CropTop | 0.067416 |
CropUnit | pixels |
CropWidth | 4271 |
CustomRendered | Normal |
DateCreated (1) | 2012:01:22 |
DateCreated | 2012:01:22 19:39:35.96 |
DateTimeOriginal | 2012:01:22 19:39:35 |
Defringe | 0 |
DOF | 0.07 m (0.96 - 1.03 m) |
Exposure | 0.00 |
Exposure2012 | 0.00 |
ExposureCompensation | 0 |
ExposureMode | Auto |
ExposureProgram | Aperture-priority AE |
ExposureTime | 6 |
FillLight | 0 |
Firmware | 1.0.9 |
Flash | Off, Did not fire |
FlashCompensation | 0 |
FNumber | 7.1 |
FocalLength | 60.0 mm |
FocalLength35efl | 60.0 mm (35 mm equivalent: 95.3 mm) |
Format | image/jpeg |
FOV | 21.4 deg |
GrainAmount | 0 |
GrayMixerAqua | +83 |
GrayMixerBlue | +46 |
GrayMixerGreen | +37 |
GrayMixerMagenta | +63 |
GrayMixerOrange | 0 |
GrayMixerPurple | 0 |
GrayMixerRed | +17 |
GrayMixerYellow | +54 |
GreenHue | 0 |
GreenSaturation | 0 |
HasCrop | True |
HasSettings | True |
HighlightRecovery | 0 |
Highlights2012 | 0 |
HyperfocalDistance | 26.80 m |
ImageHeight | 2848 |
ImageNumber | 0 |
ImageSize | 4271x2848 |
ImageWidth | 4271 |
ISO | 100 |
Lens | EF-S60mm f/2.8 Macro USM |
LensID (1) | 236 |
LensID | Canon EF-S 60mm f/2.8 Macro USM |
LensInfo | 60mm f/? |
LensManualDistortionAmount | 0 |
LensModel | EF-S60mm f/2.8 Macro USM |
LensProfileEnable | 0 |
LensProfileSetup | LensDefaults |
LightValue | 3.1 |
LuminanceNoiseReductionContrast | 0 |
LuminanceNoiseReductionDetail | 50 |
LuminanceSmoothing | 100 |
Make | Canon |
Marked | True |
MaxApertureValue | 2.8 |
Megapixels | 12.2 |
MeteringMode | Multi-segment |
Model | Canon EOS 500D |
ModifyDate (1) | 2012:04:30 11:11:56+02:00 |
ModifyDate | 2012:04:30 11:11:56 |
ObjectName | Cornet |
ParametricDarks | -9 |
ParametricHighlights | +30 |
ParametricHighlightSplit | 75 |
ParametricLights | -15 |
ParametricMidtoneSplit | 39 |
ParametricShadows | +26 |
ParametricShadowSplit | 10 |
PerspectiveHorizontal | 0 |
PerspectiveRotate | 0.0 |
PerspectiveScale | 100 |
PerspectiveVertical | 0 |
PostCropVignetteAmount | 0 |
ProcessVersion | 5.7 |
ProfileDescription | ProPhoto RGB |
RedHue | 0 |
RedSaturation | 0 |
Rights | Jan Erik Hjelseth |
ScaleFactor35efl | 1.6 |
SceneCaptureType | Standard |
SerialNumber | 430171358 |
Shadows | 72 |
Shadows2012 | 0 |
ShadowTint | 0 |
SharpenDetail | 25 |
SharpenEdgeMasking | 0 |
SharpenRadius | +1.0 |
Sharpness | 100 |
ShutterSpeed | 6 |
ShutterSpeedValue | 6 |
Software | Adobe Photoshop Lightroom 4.0 (Windows) |
SplitToningBalance | +85 |
SplitToningHighlightHue | 0 |
SplitToningHighlightSaturation | 0 |
SplitToningShadowHue | 234 |
SplitToningShadowSaturation | 73 |
SubjectDistance | 0.99 m |
Tint | -109 |
Title | Cornet |
ToneCurve | 0, 0, 32, 22, 64, 56, 128, 128, 192, 196, 255, 255 |
ToneCurveBlue | 0, 0, 255, 255 |
ToneCurveGreen | 0, 0, 255, 255 |
ToneCurveName | Medium Contrast |
ToneCurveName2012 | Linear |
ToneCurvePV2012 | 0, 0, 255, 255 |
ToneCurvePV2012Blue | 0, 0, 255, 255 |
ToneCurvePV2012Green | 0, 0, 255, 255 |
ToneCurvePV2012Red | 0, 0, 255, 255 |
ToneCurveRed | 0, 0, 255, 255 |
UsageTerms | Contact for licence |
Version | 7.0 |
VignetteAmount | -100 |
VignetteMidpoint | 0 |
WhiteBalance (1) | Custom |
WhiteBalance | Auto |
Whites2012 | 0 |