Felt | Verdi |
AlreadyApplied | True |
Aperture | 8.0 |
ApertureValue | 8.0 |
BitsPerSample | 8 |
BlackClip | 0.092450 |
BlueHue | 0 |
BlueSaturation | 0 |
Brightness | -43 |
CameraProfile | Embedded |
ChromaticAberrationB | 0 |
ChromaticAberrationR | 0 |
Clarity | +24 |
ColorComponents | 3 |
ColorNoiseReduction | 21 |
ColorNoiseReductionDetail | 50 |
ColorSaturation | 50.0 |
ColorTemperature | 0.0 |
Contrast | +60 |
ConvertToGrayscale | False |
CreatorTool | Adobe Photoshop Lightroom 3.5 (Windows) |
CropAngle | 0 |
CropBottom | 0.94703 |
CropConstrainToWarp | 0 |
CropHeight | 2926 |
CropLeft | 0 |
CropRight | 1 |
CropTop | 0.10255 |
CropUnit | pixels |
CropWidth | 5202 |
Defringe | 0 |
Exposure | -0.23 |
ExposureTime | 1/60 |
FillLight | 20 |
FNumber | 8.0 |
FocalLength | 10.0 mm |
FocalLength35efl | 10.0 mm |
Gamma | 1.1 |
GrainAmount | 0 |
GreenHue | 0 |
GreenSaturation | 0 |
HasCrop | True |
HasSettings | True |
HighlightRecovery | 57 |
HighlightsSmoothing | 0.0 |
HueAdjustmentAqua | 0 |
HueAdjustmentBlue | 0 |
HueAdjustmentGreen | 0 |
HueAdjustmentMagenta | 0 |
HueAdjustmentOrange | 0 |
HueAdjustmentPurple | 0 |
HueAdjustmentRed | 0 |
HueAdjustmentYellow | +30 |
ImageHeight | 2926 |
ImageSize | 5202x2926 |
ImageWidth | 5202 |
IncrementalTemperature | +8 |
IncrementalTint | +6 |
ISO | 100 |
LensManualDistortionAmount | 0 |
LensProfileChromaticAberrationScale | 100 |
LensProfileDistortionScale | 100 |
LensProfileEnable | 1 |
LensProfileFilename | Canon EOS 50D (Canon EF-S 10-22mm f3.5-4.5 USM).lcp |
LensProfileName | Adobe (Canon EF-S 10-22mm f/3.5-4.5 USM) |
LensProfileSetup | Custom |
LensProfileVignettingScale | 100 |
LightValue | 11.9 |
LuminanceAdjustmentAqua | 0 |
LuminanceAdjustmentBlue | 0 |
LuminanceAdjustmentGreen | -11 |
LuminanceAdjustmentMagenta | 0 |
LuminanceAdjustmentOrange | 0 |
LuminanceAdjustmentPurple | 0 |
LuminanceAdjustmentRed | 0 |
LuminanceAdjustmentYellow | -7 |
LuminanceSmoothing | 0 |
Luminosity | -5.4 |
Megapixels | 15.2 |
Method | Details Enhancer |
Microcontrast | -5.9 |
Microsmoothing | 2.0 |
Model | ,< |
ModifyDate (1) | 2012:07:17 22:03:46+02:00 |
ModifyDate | 2012:07:17 22:03:46 |
ParametricDarks | +28 |
ParametricHighlights | +60 |
ParametricHighlightSplit | 75 |
ParametricLights | +56 |
ParametricMidtoneSplit | 50 |
ParametricShadows | 0 |
ParametricShadowSplit | 25 |
PerspectiveHorizontal | 0 |
PerspectiveRotate | 0.0 |
PerspectiveScale | 100 |
PerspectiveVertical | 0 |
PostCropVignetteAmount | 0 |
ProcessVersion | 5.7 |
ProfileDescription | sRGB IEC61966-2.1 |
RedHue | 0 |
RedSaturation | 0 |
Saturation | -10 |
SaturationAdjustmentAqua | 0 |
SaturationAdjustmentBlue | 0 |
SaturationAdjustmentGreen | 0 |
SaturationAdjustmentMagenta | -57 |
SaturationAdjustmentOrange | -20 |
SaturationAdjustmentPurple | -39 |
SaturationAdjustmentRed | -68 |
SaturationAdjustmentYellow | 0 |
SaturationHighlights | 0.0 |
SaturationShadows | 0.0 |
Shadows | 6 |
ShadowsClipping | 0.0 |
ShadowsSmoothing | 0.0 |
ShadowTint | 0 |
SharpenDetail | 25 |
SharpenEdgeMasking | 0 |
SharpenRadius | +1.0 |
Sharpness | 0 |
ShutterSpeed | 1/60 |
ShutterSpeedValue | 1/60 |
Smoothing | 2.2 |
SmoothingMode | Slider |
Software | Adobe Photoshop Lightroom 3.5 (Windows) |
SplitToningBalance | 0 |
SplitToningHighlightHue | 39 |
SplitToningHighlightSaturation | 62 |
SplitToningShadowHue | 215 |
SplitToningShadowSaturation | 15 |
Strength | 86.0 |
ToneCurve | 0, 0, 255, 255 |
ToneCurveName | Linear |
Version (1) | 4.0 |
Version | 6.5 |
Vibrance | +61 |
VignetteAmount | 0 |
WhiteBalance | Custom |
WhiteClip | 1.175500 |