Felt | Verdi |
AlreadyApplied | True |
Aperture | 5.6 |
ApertureValue | 5.6 |
Artist | unknown |
AutoLateralCA | 0 |
BitsPerSample | 8 |
Blacks2012 | -38 |
BlueHue | 0 |
BlueSaturation | 0 |
By-line | unknown |
CameraProfile | Embedded |
CircleOfConfusion | 0.019 mm |
Clarity2012 | 0 |
ColorComponents | 1 |
ColorNoiseReduction | 0 |
Contrast2012 | 0 |
ConvertToGrayscale | False |
CreateDate | 2012:08:19 17:30:42 |
Creator | unknown |
CreatorTool | Adobe Photoshop Lightroom 4.1 (Windows) |
DateCreated (1) | 2012:08:19 |
DateCreated | 2012:08:19 17:30:42 |
DateTimeOriginal | 2012:08:19 17:30:42 |
DefringeGreenAmount | 0 |
DefringeGreenHueHi | 60 |
DefringeGreenHueLo | 40 |
DefringePurpleAmount | 0 |
DefringePurpleHueHi | 70 |
DefringePurpleHueLo | 30 |
Exposure2012 | 0.00 |
ExposureCompensation | 0 |
ExposureMode | Manual |
ExposureProgram | Manual |
ExposureTime | 1/100 |
Firmware | 1.1.0 |
Flash | Off, Did not fire |
FlashCompensation | 0 |
FNumber | 5.6 |
FocalLength | 55.0 mm |
FocalLength35efl | 55.0 mm (35 mm equivalent: 89.0 mm) |
Format | image/jpeg |
FOV | 22.9 deg |
GrainAmount | 0 |
GreenHue | 0 |
GreenSaturation | 0 |
HasCrop | False |
HasSettings | True |
Highlights2012 | +90 |
HueAdjustmentAqua | 0 |
HueAdjustmentBlue | 0 |
HueAdjustmentGreen | 0 |
HueAdjustmentMagenta | 0 |
HueAdjustmentOrange | 0 |
HueAdjustmentPurple | 0 |
HueAdjustmentRed | 0 |
HueAdjustmentYellow | 0 |
HyperfocalDistance | 29.10 m |
ImageHeight | 3453 |
ImageNumber | 176 |
ImageSize | 2302x3453 |
ImageWidth | 2302 |
IncrementalTemperature | 0 |
IncrementalTint | 0 |
ISO | 800 |
Label | Red |
Lens | EF-S18-55mm f/3.5-5.6 |
LensID (1) | 45 |
LensID | Canon EF-S 18-55mm f/3.5-5.6 [II] |
LensInfo | 18-55mm f/? |
LensManualDistortionAmount | 0 |
LensModel | EF-S18-55mm f/3.5-5.6 |
LensProfileEnable | 0 |
LensProfileSetup | LensDefaults |
LightValue | 8.6 |
LuminanceAdjustmentAqua | 0 |
LuminanceAdjustmentBlue | 0 |
LuminanceAdjustmentGreen | 0 |
LuminanceAdjustmentMagenta | 0 |
LuminanceAdjustmentOrange | 0 |
LuminanceAdjustmentPurple | 0 |
LuminanceAdjustmentRed | 0 |
LuminanceAdjustmentYellow | 0 |
LuminanceSmoothing | 0 |
Make | Canon |
MaxApertureValue | 5.6 |
Megapixels | 7.9 |
MeteringMode | Average |
Model | Canon EOS 400D DIGITAL |
ModifyDate (1) | 2012:08:20 18:07:58+02:00 |
ModifyDate | 2012:08:20 18:07:58 |
OwnerName | unknown |
ParametricDarks | 0 |
ParametricHighlights | 0 |
ParametricHighlightSplit | 75 |
ParametricLights | 0 |
ParametricMidtoneSplit | 50 |
ParametricShadows | 0 |
ParametricShadowSplit | 25 |
PerspectiveHorizontal | 0 |
PerspectiveRotate | 0.0 |
PerspectiveScale | 100 |
PerspectiveVertical | 0 |
PostCropVignetteAmount | 0 |
ProcessVersion | 6.7 |
ProfileDescription | sRGB IEC61966-2.1 |
RedHue | 0 |
RedSaturation | 0 |
Saturation | 0 |
SaturationAdjustmentAqua | 0 |
SaturationAdjustmentBlue | 0 |
SaturationAdjustmentGreen | 0 |
SaturationAdjustmentMagenta | 0 |
SaturationAdjustmentOrange | 0 |
SaturationAdjustmentPurple | 0 |
SaturationAdjustmentRed | 0 |
SaturationAdjustmentYellow | 0 |
ScaleFactor35efl | 1.6 |
SceneCaptureType | Standard |
SerialNumber | 1030546509 |
Shadows2012 | 0 |
ShadowTint | 0 |
SharpenDetail | 25 |
SharpenEdgeMasking | 0 |
SharpenRadius | +1.0 |
Sharpness | 0 |
ShutterSpeed | 1/100 |
ShutterSpeedValue | 1/100 |
Software | Adobe Photoshop Lightroom 4.1 (Windows) |
SplitToningBalance | 0 |
SplitToningHighlightHue | 0 |
SplitToningHighlightSaturation | 0 |
SplitToningShadowHue | 0 |
SplitToningShadowSaturation | 0 |
ToneCurveName2012 | Linear |
ToneCurvePV2012 | 0, 0, 255, 255 |
ToneCurvePV2012Blue | 0, 0, 255, 255 |
ToneCurvePV2012Green | 0, 0, 255, 255 |
ToneCurvePV2012Red | 0, 0, 255, 255 |
Version | 7.1 |
Vibrance | 0 |
VignetteAmount | 0 |
WhiteBalance (1) | As Shot |
WhiteBalance | Manual |
Whites2012 | 0 |