Felt | Verdi |
AlreadyApplied | True |
Aperture | 7.1 |
ApertureValue | 7.1 |
ApproximateFocusDistance | 44.4 |
Artist | Rune Sandvoll |
AutoLateralCA | 0 |
BitsPerSample | 8 |
Blacks2012 | -6 |
BlueHue | 0 |
BlueSaturation | 0 |
Brightness | +50 |
By-line | Rune Sandvoll |
CameraProfile | Adobe Standard |
CircleOfConfusion | 0.019 mm |
Clarity | 0 |
Clarity2012 | +19 |
ColorComponents | 3 |
ColorMode | RGB |
ColorNoiseReduction | 32 |
ColorNoiseReductionDetail | 50 |
ColorSpace | sRGB |
ColorTemperature | 8322 |
Contrast | +25 |
Contrast2012 | +31 |
ConvertToGrayscale | False |
Copyright | Alle rettigheter/Copyright: Rune Sandvoll - runesandvoll.net |
CopyrightNotice | Alle rettigheter/Copyright: Rune Sandvoll - runesandvoll.net |
CreateDate | 2012:08:09 17:42:04 |
Creator | Rune Sandvoll |
CropAngle | 0 |
CropBottom | 0.95493 |
CropConstrainToWarp | 0 |
CropLeft | 0.122066 |
CropRight | 1 |
CropTop | 0 |
CustomRendered | Normal |
DateCreated (1) | 2012:08:09 |
DateCreated | 2012:08:09 17:42:04.033 |
DateTimeOriginal | 2012:08:09 17:42:04 |
Defringe | 0 |
DOF | 3.32 m (42.80 - 46.12 m) |
ExifImageHeight | 748 |
ExifImageWidth | 1032 |
Exposure | 0.00 |
Exposure2012 | +0.49 |
ExposureCompensation | +1/3 |
ExposureMode | Auto |
ExposureProgram | Shutter speed priority AE |
ExposureTime | 1/40 |
FillLight | 0 |
Firmware | 2.0.0 |
Flash | Off, Did not fire |
FlashCompensation | 0 |
FNumber | 7.1 |
FocalLength | 400.0 mm |
FocalLength35efl | 400.0 mm (35 mm equivalent: 628.1 mm) |
Format | image/jpeg |
FOV | 3.3 deg |
GrainAmount | 0 |
GreenHue | 0 |
GreenSaturation | 0 |
HasCrop | True |
HasSettings | True |
HighlightRecovery | 0 |
Highlights2012 | -28 |
HueAdjustmentAqua | 0 |
HueAdjustmentBlue | 0 |
HueAdjustmentGreen | 0 |
HueAdjustmentMagenta | 0 |
HueAdjustmentOrange | -7 |
HueAdjustmentPurple | 0 |
HueAdjustmentRed | 0 |
HueAdjustmentYellow | 0 |
HyperfocalDistance | 1177.77 m |
ICCProfileName | sRGB IEC61966-2.1 |
ImageHeight | 748 |
ImageNumber | 0 |
ImageSize | 1032x748 |
ImageWidth | 1032 |
ISO | 3200 |
Label | |
Lens | EF100-400mm f/4.5-5.6L IS USM |
LensID (1) | 183 |
LensID | Canon EF 100-400mm f/4.5-5.6L IS USM |
LensInfo | 100-400mm f/? |
LensManualDistortionAmount | 0 |
LensModel | EF100-400mm f/4.5-5.6L IS USM |
LensProfileEnable | 0 |
LensProfileSetup | LensDefaults |
LightValue | 6.0 |
LuminanceAdjustmentAqua | 0 |
LuminanceAdjustmentBlue | 0 |
LuminanceAdjustmentGreen | 0 |
LuminanceAdjustmentMagenta | 0 |
LuminanceAdjustmentOrange | 0 |
LuminanceAdjustmentPurple | 0 |
LuminanceAdjustmentRed | 0 |
LuminanceAdjustmentYellow | 0 |
LuminanceNoiseReductionContrast | 22 |
LuminanceNoiseReductionDetail | 50 |
LuminanceSmoothing | 44 |
Make | Canon |
MaxApertureValue | 5.7 |
Megapixels | 0.772 |
MeteringMode | Multi-segment |
Model | Canon EOS 7D |
ModifyDate (1) | 2012:10:29 20:18:25+01:00 |
ModifyDate | 2012:10:29 20:18:25 |
Orientation | Horizontal (normal) |
PaintCorrectionActive | true |
PaintCorrectionAmount | 1.000000 |
PaintCorrectionBrightness | 0.000000 |
PaintCorrectionClarity | 0.000000 |
PaintCorrectionClarity2012 | 0.000000 |
PaintCorrectionContrast | 0.000000 |
PaintCorrectionContrast2012 | 0.551020 |
PaintCorrectionExposure | 0.000000 |
PaintCorrectionExposure2012 | 0.197250 |
PaintCorrectionHighlights2012 | 0.210880 |
PaintCorrectionHue | 0.000000 |
PaintCorrectionLuminanceNoise | 0.156460 |
PaintCorrectionMaskCenterWeight | 0.051304 |
PaintCorrectionMaskFlow | 1.000000 |
PaintCorrectionMaskRadius | 0.007262 |
PaintCorrectionMaskValue | 1.000000 |
PaintCorrectionMaskWhat | Mask/Paint |
PaintCorrectionMoire | 0.000000 |
PaintCorrectionSaturation (1) | 0.333330 |
PaintCorrectionSaturation | 0.000000 |
PaintCorrectionShadows2012 | -0.442180 |
PaintCorrectionSharpness | 0.428570 |
PaintCorrectionTemperature | -0.346940 |
PaintCorrectionTint | 0.000000 |
PaintCorrectionWhat | Correction |
ParametricDarks | 0 |
ParametricHighlights | 0 |
ParametricHighlightSplit | 75 |
ParametricLights | 0 |
ParametricMidtoneSplit | 50 |
ParametricShadows | 0 |
ParametricShadowSplit | 25 |
PerspectiveHorizontal | 0 |
PerspectiveRotate | 0.0 |
PerspectiveScale | 100 |
PerspectiveVertical | 0 |
PostCropVignetteAmount | -33 |
PostCropVignetteFeather | 50 |
PostCropVignetteHighlightContrast | 0 |
PostCropVignetteMidpoint | 50 |
PostCropVignetteRoundness | 0 |
PostCropVignetteStyle | 1 |
ProcessVersion | 6.7 |
ProfileDescription | sRGB IEC61966-2.1 |
Rating | 2 |
RawFileName | _MG_0720.CR2 |
RecommendedExposureIndex | 3200 |
RedHue | 0 |
RedSaturation | 0 |
Rights | Alle rettigheter/Copyright: Rune Sandvoll - runesandvoll.net |
Saturation | -8 |
SaturationAdjustmentAqua | -47 |
SaturationAdjustmentBlue | -31 |
SaturationAdjustmentGreen | -49 |
SaturationAdjustmentMagenta | -36 |
SaturationAdjustmentOrange | +51 |
SaturationAdjustmentPurple | -39 |
SaturationAdjustmentRed | -56 |
SaturationAdjustmentYellow | -55 |
ScaleFactor35efl | 1.6 |
SceneCaptureType | Standard |
SensitivityType | Recommended Exposure Index |
SerialNumber | 1881021629 |
Shadows | 5 |
Shadows2012 | +17 |
ShadowTint | 0 |
SharpenDetail | 25 |
SharpenEdgeMasking | 0 |
SharpenRadius | +1.0 |
Sharpness | 54 |
ShutterSpeed | 1/40 |
ShutterSpeedValue | 1/40 |
Software | Adobe Photoshop CS6 (Macintosh) |
SplitToningBalance | 0 |
SplitToningHighlightHue | 0 |
SplitToningHighlightSaturation | 0 |
SplitToningShadowHue | 0 |
SplitToningShadowSaturation | 0 |
Tint | +25 |
ToneCurve | 0, 0, 32, 22, 64, 56, 128, 128, 192, 196, 255, 255 |
ToneCurveBlue | 0, 0, 255, 255 |
ToneCurveGreen | 0, 0, 255, 255 |
ToneCurveName | Medium Contrast |
ToneCurveName2012 | Linear |
ToneCurvePV2012 | 0, 0, 255, 255 |
ToneCurvePV2012Blue | 0, 0, 255, 255 |
ToneCurvePV2012Green | 0, 0, 255, 255 |
ToneCurvePV2012Red | 0, 0, 255, 255 |
ToneCurveRed | 0, 0, 255, 255 |
URL_List | |
Version | 7.0 |
Vibrance | +14 |
VignetteAmount | 0 |
WhiteBalance (1) | Custom |
WhiteBalance | Auto |
Whites2012 | +39 |