Felt | Verdi |
AlreadyApplied | True |
Aperture | 1.8 |
ApertureValue | 1.8 |
Artist | Erik Rustad |
AutoLateralCA | 1 |
BitsPerSample | 8 |
Blacks2012 | 0 |
BlueHue | 0 |
BlueSaturation | 0 |
By-line | Erik Rustad |
CameraProfile | Adobe Standard |
CircleOfConfusion | 0.019 mm |
Clarity2012 | +25 |
ColorComponents | 1 |
ColorNoiseReduction | 25 |
ColorNoiseReductionDetail | 50 |
ColorTemperature | 2500 |
Contrast2012 | 0 |
ConvertToGrayscale | True |
Copyright | Alle rettigheter tilhorer fotograf Erik Rustad. |
CopyrightNotice | Alle rettigheter tilhorer fotograf Erik Rustad. |
CreateDate (1) | 2013:01:03 17:27:43.52 |
CreateDate | 2013:01:03 17:27:43 |
Creator | Erik Rustad |
CreatorTool | Adobe Photoshop Lightroom 4.3 (Macintosh) |
CropAngle | 0 |
CropBottom | 0.796627 |
CropConstrainToWarp | 0 |
CropHeight | 890 |
CropLeft | 0.040598 |
CropRight | 0.709876 |
CropTop | 0.098528 |
CropUnit | pixels |
CropWidth | 1280 |
CustomRendered | Normal |
DateCreated (1) | 2013:01:03 |
DateCreated | 2013:01:03 17:27:43.52 |
DateTimeOriginal | 2013:01:03 17:27:43 |
Exposure2012 | +0.40 |
ExposureCompensation | +2/3 |
ExposureMode | Auto |
ExposureProgram | Aperture-priority AE |
ExposureTime | 1/100 |
Firmware | 1.0.9 |
Flash | Off, Did not fire |
FlashCompensation | 0 |
FNumber | 1.8 |
FocalLength | 50.0 mm |
FocalLength35efl | 50.0 mm (35 mm equivalent: 78.6 mm) |
Format | image/jpeg |
FOV | 25.8 deg |
GrainAmount | 0 |
GrayMixerAqua | -18 |
GrayMixerBlue | +8 |
GrayMixerGreen | -26 |
GrayMixerMagenta | +3 |
GrayMixerOrange | -18 |
GrayMixerPurple | +15 |
GrayMixerRed | 0 |
GrayMixerYellow | -22 |
GreenHue | 0 |
GreenSaturation | 0 |
HasCrop | True |
HasSettings | True |
Highlights2012 | 0 |
HyperfocalDistance | 72.70 m |
ImageHeight | 1280 |
ImageNumber | 0 |
ImageSize | 890x1280 |
ImageWidth | 890 |
ISO | 6400 |
Label | Green |
Lens | EF50mm f/1.8 II |
LensID (1) | 29 |
LensID | Canon EF 50mm f/1.8 II |
LensInfo | 50mm f/? |
LensManualDistortionAmount | 0 |
LensModel | EF50mm f/1.8 II |
LensProfileChromaticAberrationScale | 100 |
LensProfileDistortionScale | 100 |
LensProfileEnable | 1 |
LensProfileFilename | Canon EOS 5D Mark II (Canon EF 50mm f1.8 II) - RAW.lcp |
LensProfileName | Adobe (Canon EF 50mm f/1.8 II) |
LensProfileSetup | LensDefaults |
LensProfileVignettingScale | 100 |
LightValue | 2.3 |
LuminanceNoiseReductionContrast | 0 |
LuminanceNoiseReductionDetail | 50 |
LuminanceSmoothing | 46 |
Make | Canon |
MaxApertureValue | 1.8 |
Megapixels | 1.1 |
MeteringMode | Multi-segment |
Model | Canon EOS 550D |
ModifyDate (1) | 2013:01:25 16:34:28+01:00 |
ModifyDate | 2013:01:25 16:34:28 |
OwnerName | Erik Rustad |
PaintCorrectionActive | true |
PaintCorrectionAmount | 1.000000 |
PaintCorrectionBrightness | 0.000000 |
PaintCorrectionClarity2012 (1) | 0.000000 |
PaintCorrectionClarity2012 | -1.000000 |
PaintCorrectionContrast2012 | 0.000000 |
PaintCorrectionDefringe | 0.000000 |
PaintCorrectionExposure2012 (1) | 0.086305 |
PaintCorrectionExposure2012 | 0.000000 |
PaintCorrectionHighlights2012 | 0.000000 |
PaintCorrectionHue | 240.000000 |
PaintCorrectionLuminanceNoise (1) | 0.000000 |
PaintCorrectionLuminanceNoise | 0.530790 |
PaintCorrectionMaskCenterWeight (5) | 0.402062 |
PaintCorrectionMaskCenterWeight | 0.009298 |
PaintCorrectionMaskFlow (5) | 0.668933 |
PaintCorrectionMaskFlow | 0.837978 |
PaintCorrectionMaskRadius (1) | 0.006137 |
PaintCorrectionMaskRadius (2) | 0.006133 |
PaintCorrectionMaskRadius (4) | 0.058366 |
PaintCorrectionMaskRadius (5) | 0.058364 |
PaintCorrectionMaskRadius (6) | 0.054311 |
PaintCorrectionMaskRadius (7) | 0.094350 |
PaintCorrectionMaskRadius (8) | 0.094298 |
PaintCorrectionMaskRadius (9) | 0.047999 |
PaintCorrectionMaskRadius | 0.018110 |
PaintCorrectionMaskValue (4) | 0.000000 |
PaintCorrectionMaskValue | 0.774560 |
PaintCorrectionMaskWhat | Mask/Paint |
PaintCorrectionMoire | 0.000000 |
PaintCorrectionSaturation | 0.000000 |
PaintCorrectionShadows2012 | 0.000000 |
PaintCorrectionSharpness (1) | 0.546599 |
PaintCorrectionSharpness | 0.250000 |
PaintCorrectionTemperature | 0.000000 |
PaintCorrectionTint | 0.000000 |
PaintCorrectionWhat | Correction |
ParametricDarks | 0 |
ParametricHighlights | 0 |
ParametricHighlightSplit | 75 |
ParametricLights | 0 |
ParametricMidtoneSplit | 50 |
ParametricShadows | 0 |
ParametricShadowSplit | 25 |
PerspectiveHorizontal | 0 |
PerspectiveRotate | 0.0 |
PerspectiveScale | 100 |
PerspectiveVertical | 0 |
PostCropVignetteAmount | +45 |
PostCropVignetteFeather | 50 |
PostCropVignetteMidpoint | 50 |
PostCropVignetteRoundness | 0 |
PostCropVignetteStyle | 3 |
ProcessVersion | 6.7 |
ProfileDescription | sRGB IEC61966-2.1 |
RedHue | 0 |
RedSaturation | 0 |
Rights | Alle rettigheter tilhorer fotograf Erik Rustad. |
ScaleFactor35efl | 1.6 |
SceneCaptureType | Standard |
SerialNumber | 1232729584 |
Shadows2012 | 0 |
ShadowTint | 0 |
SharpenDetail | 25 |
SharpenEdgeMasking | 0 |
SharpenRadius | +1.0 |
Sharpness | 80 |
ShutterSpeed | 1/100 |
ShutterSpeedValue | 1/100 |
Software | Adobe Photoshop Lightroom 4.3 (Macintosh) |
SplitToningBalance | 0 |
SplitToningHighlightHue | 0 |
SplitToningHighlightSaturation | 0 |
SplitToningShadowHue | 0 |
SplitToningShadowSaturation | 0 |
Tint | -10 |
ToneCurveName2012 | Linear |
ToneCurvePV2012 | 0, 0, 255, 255 |
ToneCurvePV2012Blue | 0, 0, 255, 255 |
ToneCurvePV2012Green | 0, 0, 255, 255 |
ToneCurvePV2012Red | 0, 0, 255, 255 |
Version | 7.3 |
VignetteAmount | 0 |
WhiteBalance (1) | Custom |
WhiteBalance | Auto |
Whites2012 | 0 |