Felt | Verdi |
AlreadyApplied | True |
Aperture | 7.1 |
ApertureValue | 7.1 |
ApproximateFocusDistance | 21.1 |
AutoLateralCA | 0 |
BitsPerSample (1) | 8 8 8 |
BitsPerSample | 8 |
Blacks2012 | +1 |
BlueHue | 0 |
BlueSaturation | 0 |
CameraProfile | Embedded |
CFAPattern | [Blue,Green][Green,Red] |
CircleOfConfusion | 0.020 mm |
Clarity2012 | 0 |
ColorComponents | 3 |
ColorMode | RGB |
ColorNoiseReduction | 0 |
ColorSpace | Uncalibrated |
Contrast | Normal |
Contrast2012 | -19 |
ConvertToGrayscale | True |
Country | Norway |
Country-PrimaryLocationName | Norway |
CreateDate (1) | 2008:09:13 12:06:15+02:00 |
CreateDate | 2008:09:13 12:06:15 |
CreatorTool | Adobe Photoshop Elements 11.0 Windows |
CustomRendered | Normal |
DateCreated (1) | 2008:09:13 |
DateCreated | 2008:09:13 12:06:16.009 |
DateTimeOriginal | 2008:09:13 12:06:16 |
DigitalZoomRatio | 1 |
DOF | 83.33 m (11.86 - 95.20 m) |
ExifImageHeight | 2000 |
ExifImageWidth | 3008 |
Exposure2012 | +0.65 |
ExposureCompensation | 0 |
ExposureMode | Auto |
ExposureProgram | Not Defined |
ExposureTime | 1/800 |
Flash | No Flash |
FNumber | 7.1 |
FocalLength | 62.0 mm |
FocalLength35efl | 62.0 mm (35 mm equivalent: 93.0 mm) |
FocalLengthIn35mmFormat | 93 mm |
Format | image/jpeg |
FOV | 21.9 deg |
GainControl | None |
GPSLatitude (1) | 65 deg 29' 31.84" |
GPSLatitude | 65 deg 29' 31.84" N |
GPSLatitudeRef | North |
GPSLongitude (1) | 11 deg 40' 16.53" |
GPSLongitude | 11 deg 40' 16.53" E |
GPSLongitudeRef | East |
GPSPosition | 65 deg 29' 31.84" N, 11 deg 40' 16.53" E |
GPSVersionID | 2.2.0.0 |
GrainAmount | 0 |
GrayMixerAqua | -6 |
GrayMixerBlue | +34 |
GrayMixerGreen | -33 |
GrayMixerMagenta | +5 |
GrayMixerOrange | -29 |
GrayMixerPurple | +31 |
GrayMixerRed | -18 |
GrayMixerYellow | -34 |
GreenHue | 0 |
GreenSaturation | 0 |
HasCrop | False |
HasSettings | True |
Highlights2012 | 0 |
HyperfocalDistance | 27.03 m |
ICCProfileName | Adobe RGB (1998) |
ImageHeight | 2000 |
ImageNumber | 4755 |
ImageSize | 3008x2000 |
ImageWidth | 3008 |
IncrementalTemperature | 0 |
IncrementalTint | 0 |
ISO | 200 |
Lens | 18.0-200.0 mm f/3.5-5.6 |
LensID (1) | 139 |
LensID | AF-S DX VR Zoom-Nikkor 18-200mm f/3.5-5.6G IF-ED [II] or AF-S DX VR Zoom-Nikkor 18-200mm f/3.5-5.6G IF-ED |
LensInfo | 18-200mm f/3.5-5.6 |
LensManualDistortionAmount | 0 |
LensModel | 18.0-200.0 mm f/3.5-5.6 |
LensProfileEnable | 0 |
LensProfileSetup | LensDefaults |
LightSource | Unknown |
LightValue | 14.3 |
LuminanceSmoothing | 0 |
Make | NIKON CORPORATION |
MaxApertureValue | 4.8 |
Megapixels | 6.0 |
MeteringMode | Multi-segment |
Model | NIKON D40 |
ModifyDate (1) | 2013:04:15 10:42:22+02:00 |
ModifyDate | 2013:04:15 10:42:22 |
Orientation | Horizontal (normal) |
ParametricDarks | -70 |
ParametricHighlights | +1 |
ParametricHighlightSplit | 75 |
ParametricLights | +6 |
ParametricMidtoneSplit | 50 |
ParametricShadows | +30 |
ParametricShadowSplit | 25 |
PerspectiveHorizontal | 0 |
PerspectiveRotate | 0.0 |
PerspectiveScale | 100 |
PerspectiveVertical | 0 |
PhotometricInterpretation | RGB |
PostCropVignetteAmount | 0 |
ProcessVersion | 6.7 |
ProfileDescription | Adobe RGB (1998) |
Province-State | Nordland |
RedHue | 0 |
RedSaturation | 0 |
Saturation | Normal |
ScaleFactor35efl | 1.5 |
SceneCaptureType | Standard |
SceneType | Directly photographed |
SensingMethod | One-chip color area |
SerialNumber | 6110786 |
Shadows2012 | 0 |
ShadowTint | 0 |
SharpenDetail | 10 |
SharpenEdgeMasking | 0 |
SharpenRadius | +1.1 |
Sharpness (1) | 34 |
Sharpness | Normal |
ShutterSpeed | 1/800 |
ShutterSpeedValue | 1/800 |
Software | Adobe Photoshop Elements 11.0 Windows |
SplitToningBalance | 0 |
SplitToningHighlightHue | 0 |
SplitToningHighlightSaturation | 0 |
SplitToningShadowHue | 0 |
SplitToningShadowSaturation | 0 |
State | Nordland |
SubjectDistanceRange | Unknown |
ToneCurveName2012 | Linear |
ToneCurvePV2012 | 0, 0, 255, 255 |
ToneCurvePV2012Blue | 0, 0, 255, 255 |
ToneCurvePV2012Green | 0, 0, 255, 255 |
ToneCurvePV2012Red | 0, 0, 255, 255 |
URL_List | |
Version | 7.4 |
VignetteAmount | 0 |
WhiteBalance (1) | As Shot |
WhiteBalance | Auto |
Whites2012 | 0 |