Felt | Verdi |
AlreadyApplied | True |
Aperture | 5.9 |
ApertureValue | 5.9 |
ApproximateFocusDistance | 0.37 |
Artist | Picasa |
AutoLateralCA | 0 |
BitsPerSample | 8 |
Blacks2012 | +8 |
BlueHue | 0 |
BlueSaturation | 0 |
By-line | Picasa |
CameraProfile | Embedded |
CircleOfConfusion | 0.006 mm |
Clarity2012 | +9 |
ColorComponents | 3 |
ColorMode | RGB |
ColorNoiseReduction | 0 |
ColorSpace | Uncalibrated |
Contrast2012 | 0 |
ConvertToGrayscale | False |
CreateDate (1) | 2013:06:27 17:16:51+02:00 |
CreateDate | 2013:06:27 17:16:51 |
Creator | Picasa |
CreatorTool | Adobe Photoshop Elements 11.0 Windows |
CustomRendered | Normal |
DateCreated (1) | 2013:06:27 |
DateCreated | 2013:06:27 17:16:51 |
DateTimeOriginal | 2013:06:27 17:16:51 |
DefringeGreenAmount | 0 |
DefringeGreenHueHi | 60 |
DefringeGreenHueLo | 40 |
DefringePurpleAmount | 0 |
DefringePurpleHueHi | 70 |
DefringePurpleHueLo | 30 |
DigitalZoomRatio | 1 |
DOF | 0.014 m (0.363 - 0.377 m) |
ExifImageHeight | 1024 |
ExifImageWidth | 767 |
Exposure2012 | 0.00 |
ExposureCompensation | -2/3 |
ExposureMode | Manual |
ExposureTime | 1/250 |
Firmware | 1.01 |
Flash | Off, Did not fire |
FlashCompensation | 0 |
FNumber | 5.9 |
FocalLength | 26.0 mm |
FocalLength35efl | 26.0 mm (35 mm equivalent: 120.9 mm) |
Format | image/jpeg |
FOV | 16.9 deg |
GrainAmount | 0 |
GreenHue | 0 |
GreenSaturation | 0 |
HasCrop | False |
HasSettings | True |
Highlights2012 | -51 |
HueAdjustmentAqua | 0 |
HueAdjustmentBlue | 0 |
HueAdjustmentGreen | 0 |
HueAdjustmentMagenta | 0 |
HueAdjustmentOrange | 0 |
HueAdjustmentPurple | 0 |
HueAdjustmentRed | 0 |
HueAdjustmentYellow | 0 |
HyperfocalDistance | 17.73 m |
ICCProfileName | Adobe RGB (1998) |
ImageHeight | 1024 |
ImageSize | 767x1024 |
ImageWidth | 767 |
IncrementalTemperature | 0 |
IncrementalTint | 0 |
ISO | 125 |
Lens | 5.2-26.0 mm |
LensInfo | 5.2-26mm f/? |
LensManualDistortionAmount | 0 |
LensModel | 5.2-26.0 mm |
LensProfileEnable | 0 |
LensProfileSetup | LensDefaults |
LightValue | 12.8 |
LuminanceAdjustmentAqua | 0 |
LuminanceAdjustmentBlue | 0 |
LuminanceAdjustmentGreen | 0 |
LuminanceAdjustmentMagenta | 0 |
LuminanceAdjustmentOrange | 0 |
LuminanceAdjustmentPurple | 0 |
LuminanceAdjustmentRed | 0 |
LuminanceAdjustmentYellow | 0 |
LuminanceNoiseReductionContrast | 0 |
LuminanceNoiseReductionDetail | 28 |
LuminanceSmoothing | 13 |
Make | Canon |
MaxApertureValue | 5.9 |
Megapixels | 0.785 |
MeteringMode | Multi-segment |
Model | Canon PowerShot S100 |
ModifyDate (1) | 2013:06:27 17:48:08+02:00 |
ModifyDate | 2013:06:27 17:48:08 |
ParametricDarks | 0 |
ParametricHighlights | 0 |
ParametricHighlightSplit | 75 |
ParametricLights | 0 |
ParametricMidtoneSplit | 50 |
ParametricShadows | 0 |
ParametricShadowSplit | 25 |
PerspectiveHorizontal | 0 |
PerspectiveRotate | 0.0 |
PerspectiveScale | 100 |
PerspectiveVertical | 0 |
PostCropVignetteAmount | 0 |
ProcessVersion | 6.7 |
Rating | 0 |
RawFileName | IMG_2669.JPG |
RedHue | 0 |
RedSaturation | 0 |
RelatedImageHeight | 2066 |
RelatedImageWidth | 1546 |
Saturation | -6 |
SaturationAdjustmentAqua | 0 |
SaturationAdjustmentBlue | 0 |
SaturationAdjustmentGreen | 0 |
SaturationAdjustmentMagenta | 0 |
SaturationAdjustmentOrange | 0 |
SaturationAdjustmentPurple | 0 |
SaturationAdjustmentRed | 0 |
SaturationAdjustmentYellow | 0 |
ScaleFactor35efl | 4.6 |
SceneCaptureType | Standard |
SensingMethod | One-chip color area |
SensitivityType | Standard Output Sensitivity and Recommended Exposure Index |
Shadows2012 | +11 |
ShadowTint | 0 |
SharpenDetail | 25 |
SharpenEdgeMasking | 0 |
SharpenRadius | +1.0 |
Sharpness | 60 |
ShutterSpeed | 1/250 |
ShutterSpeedValue | 1/250 |
Software | Adobe Photoshop Elements 11.0 Windows |
SplitToningBalance | 0 |
SplitToningHighlightHue | 0 |
SplitToningHighlightSaturation | 0 |
SplitToningShadowHue | 0 |
SplitToningShadowSaturation | 0 |
ToneCurveName2012 | Linear |
ToneCurvePV2012 | 0, 0, 255, 255 |
ToneCurvePV2012Blue | 0, 0, 255, 255 |
ToneCurvePV2012Green | 0, 0, 255, 255 |
ToneCurvePV2012Red | 0, 0, 255, 255 |
URL_List | |
Version | 7.4 |
Vibrance | +23 |
VignetteAmount | 0 |
WhiteBalance (1) | As Shot |
WhiteBalance | Auto |
Whites2012 | +30 |