Felt | Verdi |
AlreadyApplied | True |
Aperture | 11.0 |
ApertureValue | 11.0 |
ApproximateFocusDistance | 4294967295 |
Artist | Christer Olsen |
AutoLateralCA | 1 |
BitsPerSample (1) | 16 16 16 |
BitsPerSample | 8 |
Blacks2012 | 0 |
BlueHue | 0 |
BlueSaturation | 0 |
Brightness | +50 |
By-line | Christer Olsen |
CameraProfile | Camera Landscape |
CircleOfConfusion | 0.019 mm |
Clarity | 0 |
Clarity2012 | +53 |
ColorComponents | 3 |
ColorMode | RGB |
ColorNoiseReduction | 25 |
ColorNoiseReductionDetail | 50 |
ColorSpace | Uncalibrated |
ColorTemperature | 5950 |
Contrast | +25 |
Contrast2012 | +12 |
ConvertToGrayscale | False |
CreateDate | 2013:10:01 16:30:58 |
Creator | Christer Olsen |
CreatorTool | Adobe Photoshop CS6 (Windows) |
CustomRendered | Normal |
DateCreated (1) | 2013:10:01 |
DateCreated | 2013:10:01 16:30:58 |
DateTimeOriginal | 2013:10:01 16:30:58 |
Defringe | 0 |
DOF | inf (2.30 m - inf) |
ExifImageHeight | 2572 |
ExifImageWidth | 3859 |
Exposure | 0.00 |
Exposure2012 | +0.95 |
ExposureCompensation | 0 |
ExposureMode | Manual |
ExposureProgram | Manual |
ExposureTime | 1/250 |
FillLight | 0 |
Firmware | 2.0.0 |
Flash | Off, Did not fire |
FlashCompensation | 0 |
FNumber | 11.0 |
FocalLength | 22.0 mm |
FocalLength35efl | 22.0 mm (35 mm equivalent: 34.5 mm) |
Format | image/jpeg |
FOV | 55.0 deg |
GrainAmount | 0 |
GreenHue | 0 |
GreenSaturation | 0 |
HasCrop | False |
HasSettings | True |
HighlightRecovery | 0 |
Highlights2012 | -100 |
HueAdjustmentAqua | 0 |
HueAdjustmentBlue | 0 |
HueAdjustmentGreen | 0 |
HueAdjustmentMagenta | 0 |
HueAdjustmentOrange | 0 |
HueAdjustmentPurple | 0 |
HueAdjustmentRed | 0 |
HueAdjustmentYellow | 0 |
HyperfocalDistance | 2.30 m |
ICCProfileName | Adobe RGB (1998) |
ImageHeight | 2572 |
ImageNumber | 0 |
ImageSize | 3859x2572 |
ImageWidth | 3859 |
ISO | 100 |
Lens | EF-S10-22mm f/3.5-4.5 USM |
LensID (1) | 235 |
LensID | Canon EF-S 10-22mm f/3.5-4.5 USM |
LensInfo | 10-22mm f/? |
LensManualDistortionAmount | 0 |
LensModel | EF-S10-22mm f/3.5-4.5 USM |
LensProfileChromaticAberrationScale | 100 |
LensProfileDistortionScale | 100 |
LensProfileEnable | 1 |
LensProfileFilename | Canon EOS 50D (Canon EF-S 10-22mm f3.5-4.5 USM) - RAW.lcp |
LensProfileName | Adobe (Canon EF-S 10-22mm f/3.5-4.5 USM) |
LensProfileSetup | LensDefaults |
LensProfileVignettingScale | 100 |
LightValue | 14.9 |
LuminanceAdjustmentAqua | 0 |
LuminanceAdjustmentBlue | 0 |
LuminanceAdjustmentGreen | 0 |
LuminanceAdjustmentMagenta | 0 |
LuminanceAdjustmentOrange | 0 |
LuminanceAdjustmentPurple | 0 |
LuminanceAdjustmentRed | 0 |
LuminanceAdjustmentYellow | 0 |
LuminanceSmoothing | 0 |
Make | Canon |
MaxApertureValue | 4.6 |
Megapixels | 9.9 |
MeteringMode | Multi-segment |
Model | Canon EOS 7D |
ModifyDate (1) | 2013:10:17 23:58:23+02:00 |
ModifyDate | 2013:10:17 23:58:23 |
Orientation | Horizontal (normal) |
ParametricDarks | 0 |
ParametricHighlights | 0 |
ParametricHighlightSplit | 75 |
ParametricLights | 0 |
ParametricMidtoneSplit | 50 |
ParametricShadows | 0 |
ParametricShadowSplit | 25 |
PerspectiveHorizontal | 0 |
PerspectiveRotate | 0.0 |
PerspectiveScale | 100 |
PerspectiveVertical | 0 |
PhotometricInterpretation | RGB |
PlanarConfiguration | Planar |
PostCropVignetteAmount | 0 |
ProcessVersion | 6.7 |
ProfileDescription | Adobe RGB (1998) |
Rating | 5 |
RawFileName | 1CO_8337.CR2 |
RecommendedExposureIndex | 100 |
RedHue | 0 |
RedSaturation | 0 |
Saturation | +27 |
SaturationAdjustmentAqua | 0 |
SaturationAdjustmentBlue | 0 |
SaturationAdjustmentGreen | 0 |
SaturationAdjustmentMagenta | 0 |
SaturationAdjustmentOrange | 0 |
SaturationAdjustmentPurple | 0 |
SaturationAdjustmentRed | 0 |
SaturationAdjustmentYellow | 0 |
ScaleFactor35efl | 1.6 |
SceneCaptureType | Standard |
SensitivityType | Recommended Exposure Index |
SerialNumber | 0230104060 |
Shadows | 5 |
Shadows2012 | +100 |
ShadowTint | 0 |
SharpenDetail | 25 |
SharpenEdgeMasking | 0 |
SharpenRadius | +1.0 |
Sharpness | 25 |
ShutterSpeed | 1/250 |
ShutterSpeedValue | 1/250 |
Software | Adobe Photoshop CS6 (Windows) |
SplitToningBalance | 0 |
SplitToningHighlightHue | 0 |
SplitToningHighlightSaturation | 0 |
SplitToningShadowHue | 0 |
SplitToningShadowSaturation | 0 |
Tint | +14 |
ToneCurve | 0, 0, 32, 22, 64, 56, 128, 128, 192, 196, 255, 255 |
ToneCurveBlue | 0, 0, 255, 255 |
ToneCurveGreen | 0, 0, 255, 255 |
ToneCurveName | Medium Contrast |
ToneCurveName2012 | Linear |
ToneCurvePV2012 | 0, 0, 255, 255 |
ToneCurvePV2012Blue | 0, 0, 255, 255 |
ToneCurvePV2012Green | 0, 0, 255, 255 |
ToneCurvePV2012Red | 0, 0, 255, 255 |
ToneCurveRed | 0, 0, 255, 255 |
URL_List | |
Version | 7.0 |
Vibrance | +7 |
VignetteAmount | 0 |
WhiteBalance (1) | Custom |
WhiteBalance | Auto |
Whites2012 | 0 |