Felt | Verdi |
AlreadyApplied | True |
Aperture | 6.7 |
ApertureValue | 6.7 |
Artist | @OLE BENDIKSEN |
AutoLateralCA | 0 |
BitsPerSample (1) | 8 8 8 |
BitsPerSample | 8 |
Blacks2012 | -12 |
BlueHue | 0 |
BlueSaturation | 0 |
By-line | @OLE BENDIKSEN |
CameraProfile | Adobe Standard |
CircleOfConfusion | 0.019 mm |
Clarity2012 | +100 |
ColorComponents | 3 |
ColorMode | RGB |
ColorNoiseReduction | 25 |
ColorNoiseReductionDetail | 50 |
ColorSpace | Uncalibrated |
ColorTemperature | 3250 |
Contrast2012 | -25 |
ConvertToGrayscale | False |
Copyright | @Vasball FOTO |
CopyrightNotice | @Vasball FOTO |
CreateDate | 2014:01:07 22:32:51 |
Creator | @OLE BENDIKSEN |
CreatorTool | Adobe Photoshop CC (Windows) |
CropAngle | 0 |
CropBottom | 0.766182 |
CropConstrainToWarp | 1 |
CropLeft | 0.122359 |
CropRight | 0.950704 |
CropTop | 0.095112 |
CustomRendered | Normal |
DateCreated (1) | 2014:01:07 |
DateCreated | 2014:01:07 22:32:51.077 |
DateTimeOriginal | 2014:01:07 22:32:51 |
DefringeGreenAmount | 0 |
DefringeGreenHueHi | 60 |
DefringeGreenHueLo | 40 |
DefringePurpleAmount | 0 |
DefringePurpleHueHi | 70 |
DefringePurpleHueLo | 30 |
ExifImageHeight | 2580 |
ExifImageWidth | 4593 |
Exposure2012 | +0.35 |
ExposureCompensation | 0 |
ExposureMode | Manual |
ExposureProgram | Manual |
ExposureTime | 30 |
Firmware | 1.0.9 |
Flash | Off, Did not fire |
FlashCompensation | 0 |
FNumber | 6.7 |
FocalLength | 18.0 mm |
FocalLength35efl | 18.0 mm (35 mm equivalent: 28.3 mm) |
Format | image/jpeg |
FOV | 64.9 deg |
GrainAmount | 0 |
GreenHue | 0 |
GreenSaturation | 0 |
HasCrop | True |
HasSettings | True |
Highlights2012 | -10 |
HueAdjustmentAqua | 0 |
HueAdjustmentBlue | 0 |
HueAdjustmentGreen | 0 |
HueAdjustmentMagenta | 0 |
HueAdjustmentOrange | 0 |
HueAdjustmentPurple | 0 |
HueAdjustmentRed | 0 |
HueAdjustmentYellow | 0 |
HyperfocalDistance | 2.53 m |
ICCProfileName | Adobe RGB (1998) |
ImageHeight | 2580 |
ImageNumber | 0 |
ImageSize | 4593x2580 |
ImageWidth | 4593 |
ISO | 400 |
Lens | 18-200mm |
LensID (1) | 153 |
LensID | Tamron AF 18-200mm f/3.5-6.3 XR Di II LD Aspherical [IF] Macro (A14) |
LensInfo | 18-200mm f/? |
LensManualDistortionAmount | 0 |
LensModel | 18-200mm |
LensProfileEnable | 0 |
LensProfileSetup | LensDefaults |
LightValue | -1.4 |
LuminanceAdjustmentAqua | 0 |
LuminanceAdjustmentBlue | 0 |
LuminanceAdjustmentGreen | 0 |
LuminanceAdjustmentMagenta | 0 |
LuminanceAdjustmentOrange | 0 |
LuminanceAdjustmentPurple | 0 |
LuminanceAdjustmentRed | 0 |
LuminanceAdjustmentYellow | 0 |
LuminanceNoiseReductionContrast | 0 |
LuminanceNoiseReductionDetail | 50 |
LuminanceSmoothing | 90 |
Make | Canon |
MaxApertureValue | 3.5 |
Megapixels | 11.8 |
MeteringMode | Multi-segment |
Model | Canon EOS 550D |
ModifyDate (1) | 2014:01:08 00:25:14+01:00 |
ModifyDate | 2014:01:08 00:25:14 |
Orientation | Horizontal (normal) |
ParametricDarks | 0 |
ParametricHighlights | 0 |
ParametricHighlightSplit | 75 |
ParametricLights | 0 |
ParametricMidtoneSplit | 50 |
ParametricShadows | 0 |
ParametricShadowSplit | 25 |
PerspectiveAspect | 0 |
PerspectiveHorizontal | 0 |
PerspectiveRotate | 0.0 |
PerspectiveScale | 100 |
PerspectiveUpright | 0 |
PerspectiveVertical | 0 |
PhotometricInterpretation | RGB |
PostCropVignetteAmount | 0 |
ProcessVersion | 6.7 |
ProfileDescription | Adobe RGB (1998) |
Rating | 0 |
RawFileName | 007.CR2 |
RedHue | 0 |
RedSaturation | 0 |
Rights | @Vasball FOTO |
Saturation | +24 |
SaturationAdjustmentAqua | 0 |
SaturationAdjustmentBlue | 0 |
SaturationAdjustmentGreen | 0 |
SaturationAdjustmentMagenta | 0 |
SaturationAdjustmentOrange | 0 |
SaturationAdjustmentPurple | 0 |
SaturationAdjustmentRed | 0 |
SaturationAdjustmentYellow | 0 |
ScaleFactor35efl | 1.6 |
SceneCaptureType | Standard |
SerialNumber | 1533941147 |
Shadows2012 | +10 |
ShadowTint | 0 |
SharpenDetail | 25 |
SharpenEdgeMasking | 0 |
SharpenRadius | +1.0 |
Sharpness | 150 |
ShutterSpeed | 30 |
ShutterSpeedValue | 30 |
Software | Adobe Photoshop CC (Windows) |
SplitToningBalance | 0 |
SplitToningHighlightHue | 0 |
SplitToningHighlightSaturation | 0 |
SplitToningShadowHue | 0 |
SplitToningShadowSaturation | 0 |
Tint | +12 |
ToneCurveName2012 | Linear |
ToneCurvePV2012 | 0, 0, 255, 255 |
ToneCurvePV2012Blue | 0, 0, 255, 255 |
ToneCurvePV2012Green | 0, 0, 255, 255 |
ToneCurvePV2012Red | 0, 0, 255, 255 |
URL_List | |
Version | 8.0 |
Vibrance | +23 |
VignetteAmount | 0 |
WhiteBalance (1) | As Shot |
WhiteBalance | Auto |
Whites2012 | +5 |