Felt | Verdi |
AlreadyApplied | True |
Artist | BW |
AutoLateralCA | 0 |
AutoWhiteVersion | 134348800 |
BitsPerSample | 8 |
Blacks2012 | 0 |
BlueHue | 0 |
BlueSaturation | 0 |
By-line | BW |
CameraProfile | Adobe Standard |
Caption-Abstract | OLYMPUS DIGITAL CAMERA |
CFAPattern | [Blue,Green][Green,Red] |
CircleOfConfusion | 0.004 mm |
Clarity2012 | +16 |
ColorComponents | 3 |
ColorMode | RGB |
ColorNoiseReduction | 25 |
ColorNoiseReductionDetail | 50 |
ColorNoiseReductionSmoothness | 50 |
ColorSpace | Uncalibrated |
ColorTemperature | 5800 |
Contrast | High |
Contrast2012 | 0 |
ConvertToGrayscale | False |
Copyright | boew@online.no |
CopyrightNotice | boew@online.no |
CreateDate | 2014:02:16 16:15:52 |
Creator | BW |
CreatorTool | Version 1.1 |
CustomRendered | Custom |
DateCreated (1) | 2014:02:16 |
DateCreated | 2014:02:16 16:15:52 |
DateTimeOriginal | 2014:02:16 16:15:52 |
DefringeGreenAmount | 0 |
DefringeGreenHueHi | 60 |
DefringeGreenHueLo | 40 |
DefringePurpleAmount | 0 |
DefringePurpleHueHi | 70 |
DefringePurpleHueLo | 30 |
Description | OLYMPUS DIGITAL CAMERA |
DigitalZoomRatio | 1 |
ExifImageHeight | 960 |
ExifImageWidth | 1280 |
Exposure2012 | -0.30 |
ExposureCompensation | 0 |
ExposureMode | Auto |
ExposureProgram | Shutter speed priority AE |
ExposureTime | 1/6 |
Flash | On, Did not fire |
FlashCompensation | 0 |
Format | image/jpeg |
GainControl | None |
GrainAmount | 0 |
GreenHue | 0 |
GreenSaturation | 0 |
HasCrop | False |
HasSettings | True |
Highlights2012 | 0 |
HueAdjustmentAqua | 0 |
HueAdjustmentBlue | 0 |
HueAdjustmentGreen | 0 |
HueAdjustmentMagenta | 0 |
HueAdjustmentOrange | 0 |
HueAdjustmentPurple | 0 |
HueAdjustmentRed | 0 |
HueAdjustmentYellow | 0 |
ICCProfileName | Adobe RGB (1998) |
ImageDescription | OLYMPUS DIGITAL CAMERA |
ImageHeight | 960 |
ImageSize | 1280x960 |
ImageWidth | 1280 |
ISO | 100 |
LensManualDistortionAmount | 0 |
LensProfileEnable | 0 |
LensProfileSetup | LensDefaults |
LightSource | Unknown |
LuminanceAdjustmentAqua | 0 |
LuminanceAdjustmentBlue | 0 |
LuminanceAdjustmentGreen | 0 |
LuminanceAdjustmentMagenta | 0 |
LuminanceAdjustmentOrange | 0 |
LuminanceAdjustmentPurple | 0 |
LuminanceAdjustmentRed | 0 |
LuminanceAdjustmentYellow | 0 |
LuminanceSmoothing | 0 |
Make | OLYMPUS IMAGING CORP. |
MaxApertureValue | 1.0 |
Megapixels | 1.2 |
MeteringMode | Multi-segment |
Model | E-M1 |
ModifyDate (1) | 2014:02:18 10:13:32+01:00 |
ModifyDate | 2014:02:18 10:13:32 |
Orientation | Horizontal (normal) |
ParametricDarks | 0 |
ParametricHighlights | 0 |
ParametricHighlightSplit | 75 |
ParametricLights | 0 |
ParametricMidtoneSplit | 50 |
ParametricShadows | 0 |
ParametricShadowSplit | 25 |
PerspectiveAspect | 0 |
PerspectiveHorizontal | 0 |
PerspectiveRotate | 0.0 |
PerspectiveScale | 100 |
PerspectiveUpright | 0 |
PerspectiveVertical | 0 |
PostCropVignetteAmount | 0 |
ProcessVersion | 6.7 |
ProfileDescription | Adobe RGB (1998) |
Rating | 0 |
RawFileName | P2160265.ORF |
RedHue | 0 |
RedSaturation | 0 |
Rights | boew@online.no |
Saturation (1) | 0 |
Saturation | Normal |
SaturationAdjustmentAqua | 0 |
SaturationAdjustmentBlue | 0 |
SaturationAdjustmentGreen | 0 |
SaturationAdjustmentMagenta | 0 |
SaturationAdjustmentOrange | 0 |
SaturationAdjustmentPurple | 0 |
SaturationAdjustmentRed | 0 |
SaturationAdjustmentYellow | 0 |
ScaleFactor35efl | 7.2 |
SceneCaptureType | Standard |
SensitivityType | Standard Output Sensitivity |
SerialNumber | BHP227451 |
Shadows2012 | 0 |
ShadowTint | 0 |
SharpenDetail | 25 |
SharpenEdgeMasking | 0 |
SharpenRadius | +1.0 |
Sharpness (1) | 25 |
Sharpness | Normal |
ShutterSpeed | 1/6 |
ShutterSpeedValue | 1/6 |
Software | Adobe Photoshop CS6 (Macintosh) |
SplitToningBalance | 0 |
SplitToningHighlightHue | 0 |
SplitToningHighlightSaturation | 0 |
SplitToningShadowHue | 0 |
SplitToningShadowSaturation | 0 |
Tint | +7 |
ToneCurveName2012 | Linear |
ToneCurvePV2012 | 0, 0, 255, 255 |
ToneCurvePV2012Blue | 0, 0, 255, 255 |
ToneCurvePV2012Green | 0, 0, 255, 255 |
ToneCurvePV2012Red | 0, 0, 255, 255 |
URL_List | |
Version | 8.3 |
Vibrance | +17 |
VignetteAmount | 0 |
WhiteBalance (1) | Custom |
WhiteBalance | Manual |
Whites2012 | 0 |