Felt | Verdi |
AlreadyApplied | True |
Aperture | 4.0 |
ApertureValue | 4.0 |
AutoLateralCA | 1 |
AutoWhiteVersion | 134348800 |
BitsPerSample | 8 |
Blacks2012 | +30 |
BlueHue | 0 |
BlueSaturation | 0 |
BrightnessValue | 6.30234375 |
CameraProfile | Adobe Standard |
CircleOfConfusion | 0.030 mm |
Clarity2012 | +60 |
ColorComponents | 3 |
ColorNoiseReduction | 25 |
ColorNoiseReductionDetail | 50 |
ColorNoiseReductionSmoothness | 50 |
ColorTemperature | 5800 |
Contrast | High |
Contrast2012 | 0 |
ConvertToGrayscale | False |
CreateDate | 2014:03:08 13:41:31 |
CreatorTool | Adobe Photoshop Lightroom 5.3 (Windows) |
CropAngle | 0 |
CropBottom | 0.991935 |
CropConstrainToWarp | 0 |
CropLeft | 0.013442 |
CropRight | 1 |
CropTop | 0.005377 |
CustomRendered | Normal |
DateCreated (1) | 2014:03:08 |
DateCreated | 2014:03:08 13:41:31 |
DateTimeOriginal | 2014:03:08 13:41:31 |
DefringeGreenAmount | 0 |
DefringeGreenHueHi | 60 |
DefringeGreenHueLo | 40 |
DefringePurpleAmount | 0 |
DefringePurpleHueHi | 70 |
DefringePurpleHueLo | 30 |
DigitalZoomRatio | 1 |
Exposure2012 | +0.36 |
ExposureCompensation | 0 |
ExposureMode | Manual |
ExposureProgram | Manual |
ExposureTime | 1/200 |
Flash | Off, Did not fire |
FNumber | 4.0 |
FocalLength | 55.0 mm |
FocalLength35efl | 55.0 mm (35 mm equivalent: 55.0 mm) |
FocalLengthIn35mmFormat | 55 mm |
Format | image/jpeg |
FOV | 36.2 deg |
GrainAmount | 0 |
GreenHue | 0 |
GreenSaturation | 0 |
HasCrop | True |
HasSettings | True |
Highlights2012 | -25 |
HueAdjustmentAqua | +15 |
HueAdjustmentBlue | +5 |
HueAdjustmentGreen | +5 |
HueAdjustmentMagenta | 0 |
HueAdjustmentOrange | 0 |
HueAdjustmentPurple | +30 |
HueAdjustmentRed | +10 |
HueAdjustmentYellow | -8 |
HyperfocalDistance | 25.17 m |
ImageHeight | 5919 |
ImageSize | 3946x5919 |
ImageWidth | 3946 |
ISO | 125 |
Lens | FE 55mm F1.8 ZA |
LensDistortInfo | 1070067676/1073741824 15895073/1073741824 -15859256/1073741824 -3255886/1073741824 |
LensInfo | 55mm f/1.8 |
LensManualDistortionAmount | 0 |
LensModel | FE 55mm F1.8 ZA |
LensProfileChromaticAberrationScale | 100 |
LensProfileDistortionScale | 100 |
LensProfileEnable | 1 |
LensProfileFilename | SONY (Sony FE 55mm F1.8 ZA) - RAW.lcp |
LensProfileName | Adobe (Sony FE 55mm F1.8 ZA) |
LensProfileSetup | Custom |
LensProfileVignettingScale | 100 |
LightSource | Cloudy |
LightValue | 11.3 |
LuminanceAdjustmentAqua | -10 |
LuminanceAdjustmentBlue | -20 |
LuminanceAdjustmentGreen | -10 |
LuminanceAdjustmentMagenta | -15 |
LuminanceAdjustmentOrange | -12 |
LuminanceAdjustmentPurple | +5 |
LuminanceAdjustmentRed | -20 |
LuminanceAdjustmentYellow | -20 |
LuminanceNoiseReductionContrast | 100 |
LuminanceNoiseReductionDetail | 100 |
LuminanceSmoothing | 10 |
Make | SONY |
MaxApertureValue | 1.8 |
Megapixels | 23.4 |
MeteringMode | Center-weighted average |
Model | ILCE-7 |
ModifyDate (1) | 2014:03:09 00:38:29+01:00 |
ModifyDate | 2014:03:09 00:38:29 |
ParametricDarks | +10 |
ParametricHighlights | 0 |
ParametricHighlightSplit | 75 |
ParametricLights | +10 |
ParametricMidtoneSplit | 50 |
ParametricShadows | -5 |
ParametricShadowSplit | 20 |
PerspectiveAspect | 0 |
PerspectiveHorizontal | +3 |
PerspectiveRotate | 0.0 |
PerspectiveScale | 100 |
PerspectiveUpright | 1 |
PerspectiveVertical | 0 |
PostCropVignetteAmount | 0 |
ProcessVersion | 6.7 |
ProfileDescription | sRGB IEC61966-2.1 |
Rating | 3 |
RecommendedExposureIndex | 125 |
RedHue | 0 |
RedSaturation | 0 |
Saturation (1) | -5 |
Saturation | High |
SaturationAdjustmentAqua | -45 |
SaturationAdjustmentBlue | +10 |
SaturationAdjustmentGreen | -40 |
SaturationAdjustmentMagenta | -40 |
SaturationAdjustmentOrange | +8 |
SaturationAdjustmentPurple | -40 |
SaturationAdjustmentRed | -30 |
SaturationAdjustmentYellow | 0 |
ScaleFactor35efl | 1.0 |
SceneCaptureType | Standard |
SceneType | Directly photographed |
SensitivityType | Recommended Exposure Index |
Shadows2012 | +25 |
ShadowTint | 0 |
SharpenDetail | 20 |
SharpenEdgeMasking | 0 |
SharpenRadius | +1.3 |
Sharpness (1) | 59 |
Sharpness | Hard |
ShutterSpeed | 1/200 |
ShutterSpeedValue | 1/200 |
Software | Adobe Photoshop Lightroom 5.3 (Windows) |
SplitToningBalance | 0 |
SplitToningHighlightHue | 0 |
SplitToningHighlightSaturation | 0 |
SplitToningShadowHue | 0 |
SplitToningShadowSaturation | 0 |
Tint | +6 |
ToneCurveName2012 | Custom |
ToneCurvePV2012 | 0, 0, 26, 27, 128, 128, 255, 255 |
ToneCurvePV2012Blue | 0, 0, 44, 20, 116, 124, 179, 200, 255, 255 |
ToneCurvePV2012Green | 0, 0, 45, 20, 114, 122, 178, 200, 255, 255 |
ToneCurvePV2012Red | 0, 0, 46, 19, 115, 123, 179, 200, 255, 255 |
Version | 8.3 |
Vibrance | 0 |
VignetteAmount | 0 |
WhiteBalance (1) | As Shot |
WhiteBalance | Manual |
Whites2012 | -10 |